Workbook
Name OLE_LINK1: 'Dane STAROSTWO'!$B$63

Sheet Dane  STAROSTWO
A2: Sprawozdanie finansowe za rok 2021 rok
A4: I. Wprowadzenie do sprawozdania finansowego.
A5: 1.
A6: 1.1. | B6: Nazwa Jednostki | C6: Starostwo Powiatowe w Gryficach
A7: 1.2. | B7: Siedziba jednostki | C7: Gryfice Pl. Zwycięstwa 37
A8: 1.3. | B8: Adres jednostki | C8: Gryfice Pl. Zwycięstwa 37
A9: 1.4. | B9: Podstawowy przedmiot działalności jednostki | C9: Ustawa z dnia 5 czerwca 1998r. o samorządzie powiatowym
A18: 2. | B18: Wskazanie okresu objętego sprawozdaniem
B19: od 01.01.2021 r. do 31.12.2021 r.
A20: 3. | B20: wskazanie, że sprawozdanie finansowe zawiera dane łączne, jeżeli w skład jednostki nadrzędnej lub jednostki samorządu terytorialnego wchodzą jednostki sporządzające samodzielne sprawozdania finansowe
B21: Sprawozdanie nie zawiera danych łącznych
A22: 4. | B22: omówienie przyjętych zasad (polityki) rachunkowości, w tym metod wyceny aktywów i pasywów (także amortyzacji)
A23: 4. | B23: Aktywa i pasywa wyceniane są przy uwzględnianiu nadrzędnych zasad rachunkowości, w sposób przewidziany ustawą o rachunkowości i rozporzadzeniem Ministra Rozwoju i Finansow w sprawie szczegółowych zasad rachunkowości oraz planu kont dla budżetu państwa , budżetów jednostek samorządu terytorialnego........ 1) Za środki trwałe uważa się przedmioty o przewidywanym okresie użytkowania dłuższym niż jeden rok i o wartości poczatkowej od 5.000,00 zł. 2)Środki trwałe o wartości początkowej od 5.000,00 zł do 9.999,99 zł uważa się za pozostałe srodki trwałe w użytkowaniu stosując jednorazowe umorzenie 100% ich wartości w miesiącu oddania do użytkowania w ciężar kosztów bieżącej działalności- podlegają one ewidencji ilościowo-wartościowej. Wydatki poniesione na ich zakup badź wytworzenie stanowią wydatki bieżące. 3)Środki trwałe o wartości początkowej równej 10.000,00 zł lub większej umarza się lub amortyzuje stosując metodę liniową. 4) Przedmioty o wartości początkowej od 300 do 4.999,99 zł nie kwalifikuje się jako środki trwałe, uważa się je za wyposażenie stanowisk pracy i dla celów księgowych uważa za zużyte w momencie oddania do użytkowania. Podlegają ewidencji ilościowej. 5) Przedmioty o wartości poczatkowej poniżej 300,00 zł stanowiące wyposażenie odnoszone są w koszty bieżącej działalnosci w momencie zakupu, uważa się za zużyte z datą oddania do użytkowania i nie podlegają inwentaryzacji. 6) Do ewidencji i wyceny wartości niematerialnych i prawnych stosuje sią zasady jak dla środkow trwałych. Na potrzeby ustalenia stawek amortyzacyjnych jako okres ich użytkowania przyjmuje się minimalny czas dokonywania odpisów amortyzacyjnych przewidziany przepisami ustawy o podatku dochodowym od osob prawnych. 7) Materiały wycenia się z chwilą nabycia w cenach zakupu i odpisuje się w koszty na dzień ich zakupu. 8) Na dzień bilansowy środki trwale ( z wyjatkiem gruntów) wycenia się w wartosci netto, tj. z uwzglednieniem odpisów umorzeniowych ustalonych na dzień bilansowy.
A24: 5. | B24: inne informacje
A27: II | B27: Dodatkowe informacje i objaśnienia:
A28: 1.
A29: 1.1. | B29: szczegółowy zakres zmian wartości grup rodzajowych środków trwałych, wartości niematerialnych i prawnych, zawierający stan tych aktywów na początek roku obrotowego, zwiększenia i zmniejszenia z tytułu: aktualizacji wartości, nabycia, rozchodu, przemieszczenia wewnętrznego oraz stan końcowy, a dla majątku amortyzowanego - podobne przedstawienie stanów i tytułów zmian dotychczasowej amortyzacji lub umorzenia
B30: tabela nr 1 , nr 2
A31: 1.2. | B31: aktualną wartość rynkową środków trwałych, w tym dóbr kultury - o ile jednostka dysponuje takimi informacjami
B32: Suma ubezpieczeniowa z polisy ubezpieczeniowej- 18.421.882,98 zł
A33: 1.3 | B33: kwotę dokonanych w trakcie roku obrotowego odpisów aktualizujących wartość aktywów trwałych odrębnie dla długoterminowych aktywów niefinansowych oraz długoterminowych aktywów finansowych
B34: tabela nr 3
A35: 1.4 | B35: wartość gruntów użytkowanych wieczyście
B36: tabela nr 4
A37: 1.5 | B37: wartość nieamortyzowanych lub nieumarzanych przez jednostkę środków trwałych, używanych na podstawie umów najmu, dzierżawy i innych umów, w tym z tytułu umów leasingu
B38: tabela nr 5
A39: 1.6 | B39: liczbę oraz wartość posiadanych papierów wartościowych, w tym akcji i udziałów oraz dłużnych papierów wartościowych
B40: nie dotyczy
A41: 1.7 | B41: dane o odpisach aktualizujacych wartość należnosci, ze wskazaniem stanu na poczatek roku obrotowego, zwiekszeniachm, wykorzystaniu, rozwiazaniu i stanie na koniec roku obrotowego, z uwzglednieniem naleznosci finansowych jednostek samorządu terytorialnego (stan pożyczek zagrozonych)
B42: tabela nr 7
A43: 1.8 | B43: dane o stanie rezerw według celu ich utworzenia na początek roku obrotowego, zwiększeniach wykorzystaniu, rozwiązaniu i stanie końcowym
B44: tabela nr 8 | C44: nie wystepują
A45: 1.9 | B45: podział zobowiązań długoterminowych według pozycji bilansu o pozostałym od dnia bilansowego, przewidywanym umową lub wynikającym z innego tytułu prawnego, okresie spłaty:
B46: a) powyżej 1 roku do 3 lat
B47: b) powyżej 3 do 5 lat
B48: c) powyżej 5 lat
B49: tabela nr 9
A50: 1.10 | B50: kwotę zobowiązań w sytuacji gdy jednostka kwalifikuje umowy leasingu zgodnie z przepisami podatkowymi (leasing operacyjny), a według przepisów o rachunkowości byłby to leasing finansowy lub zwrotny z podziałem na kwotę zobowiązań z tytułu leasingu finansowego lub leasingu zwrotnego
B51: nie występują
A52: 1.11 | B52: łączną kwotę zobowiązań zabezpieczonych na majątku jednostki ze wskazaniem charakteru i formy tych zabezpieczeń
B53: tabela 10
A54: 1.12 | B54: łączną kwotę zobowiązań warunkowych, w tym również udzielonych przez jednostkę gwarancji i poręczeń, także wekslowych, niewykazanych w bilansie, ze wskazaniem zobowiązań zabezpieczonych na majątku jednostki oraz charakteru i formy tych zabezpieczeń
B55: tabela 11
A56: 1.13 | B56: wykaz istotnych pozycji czynnych i biernych rozliczeń międzyokresowych w tym kwotę czynnych rozliczeń międzyokresowych kosztów stanowiących różnicę między wartością otrzymanych finansowych składników aktywów a zobowiązaniem zapłaty za nie
B57: tabela nr 12
A59: 1.14 | B59: łączną kwotę otrzymanych przez jednostkę gwarancji i poręczeń niewykazanych w bilansie
B60: tabela nr 13
A61: 1.15 | B61: kwotę wypłaconych środków pieniężnych na świadczenia pracownicze
B62: tabela nr 14
A64: 1.16 | B64: inne informacje
A66: 2.
A67: 2.1 | B67: Wysokość odpisow aktualizujacych wartość zapasow
B68: tabela nr 15
A69: 2.2 | B69: koszt wytworzenia środków trwałych w budowie, w tym odsetki oraz różnice kursowe, które powiększyły koszt wytworzenia środków trwałych w budowie w roku obrotowym
B70: tabela nr 16
A71: 2.3 | B71: kwota i charakter poszczególnych pozycji przychodów lub kosztów o nadzwyczajnej wartości lub które wystąpiły incydentalnie
B72: tabela nr 17
A73: 2.4. | B73: informację o kwocie należności z tytułu podatków realizowanych przez organy podatkowe podległe ministrowi właściwemu do spraw finansów publicznych wykazywanych w sprawozdaniu z wykonania planu dochodów budżetowych
A75: 2.5 | B75: inne informacje - wydatki zwiazane z pandemią COVID-19
B76: tabela nr 18
A77: 3. | B77: Inne informacje niż wymienione powyżej, jeżeli mogłyby w istotny sposób wpłynąć na ocenę sytuacji majątkowej i finansowej oraz wynik finansowy jednostki
B81: ……………………………… | C81: 2022-03-22 ……………………………………….. | D81: ……………………………………………
B82: (główny ksiegowy) | C82: (rok, miesiąc, dzień) (kierownik jednostki | D82: (kierownik jednostki)
A84: Sporządził: Agnieszka Bartkowska - Sprusińska

Sheet Tabela 1 
A1: Tabela 1. Zmiany stanu wartości początkowej wartości niematerialnych i prawnych oraz rzeczowych aktywow trwałych
A2: Lp. | B2: Wyszczególnienie | C2: Wartość poczatkowa - Stan na początek okresu sprawozdaw-czego | D2: Zwiększenia | I2: Zmniejszenia | O2: Wartość poczatkowa - Stan na koniec okresu sprawozdaw-czego
D3: nabycie | E3: przemieszczenia wewnętrzne | F3: aktualizacja | G3: inne zwiekszenia | H3: zwiększenia ogółem | I3: zbycie | J3: likwidacja | K3: przemieszczenia wewnętrzne | L3: aktualizacja | M3: inne zmniejszenia | N3: zmniejszenia ogółem
A4: 1 | B4: 2 | C4: 3 | D4: 4 | E4: 5 | F4: 6 | G4: 7 | H4: 8 | I4: 9 | J4: 10 | K4: 11 | L4: 12 | M4: 13 | N4: 14 | O4: 15
A5: I. | B5: Razem wartości niematerialne i prawne | C5: 516552.69 | D5: =D6+D7 -> 0 | E5: =E6+E7 -> 0 | F5: =F6+F7 -> 0 | G5: =G6+G7 -> 0 | H5: =D5+E5+F5+G5 -> 0 | I5: =I6+I7 -> 0 | J5: =J6+J7 -> 0 | K5: =K6+K7 -> 0 | L5: =L6+L7 -> 0 | M5: =M6+M7 -> 0 | N5: =I5+J5+K5+L5+M5 -> 0 | O5: =C5+H5-N5 -> 516552.69
A6: 1.1. | B6: Licencje i prawa autorskie dotyczace oprogramowania komputerowego | C6: 516552.69 | D6: 0 | E6: 0 | F6: 0 | G6: 0 | H6: =D6+E6+F6+G6 -> 0 | I6: 0 | J6: 0 | K6: 0 | L6: 0 | M6: 0 | N6: =I6+J6+K6+L6+M6 -> 0 | O6: =C6+H6-N6 -> 516552.69
A7: 1.2. | B7: Pozostale wartości niematerialne i prawne | C7: 0 | D7: 0 | E7: 0 | F7: 0 | G7: 0 | H7: 0 | I7: 0 | J7: 0 | K7: 0 | L7: 0 | M7: 0 | N7: =I7+J7+K7+L7+M7 -> 0 | O7: =C7+H7-N7 -> 0
A8: II. | B8: Razem rzeczowe aktywa trwałe | C8: 34174791 | D8: =D9+D16+D17 -> 2809431.8 | E8: =E9+E16+E17 -> 0 | F8: =F9+F16+F17 -> 0 | G8: =G9+G16+G17 -> 660220 | H8: =H9+H16+H17 -> 3469651.8 | I8: =I9+I16+I17 -> 671263.29 | J8: =J9+J16+J17 -> 1411630.1 | K8: =K9+K16+K17 -> 0 | ... O8: =O9+O16+O17 -> 33355523
A9: 2. | B9: Razem środki trwałe | C9: 33917137 | D9: =SUM(D10:D15)-D11 -> 113382.05 | E9: =SUM(E10:E15)-E11 -> 0 | F9: =SUM(F10:F15)-F11 -> 0 | G9: =SUM(G10:G15)-G11 -> 660220 | H9: =SUM(H10:H15)-H11 -> 773602.05 | I9: =SUM(I10:I15)-I11 -> 671263.29 | J9: =SUM(J10:J15)-J11 -> 1411630.1 | K9: =SUM(K10:K15)-K11 -> 0 | ... O9: =SUM(O10:O15)-O11 -> 30401820
A10: 2.1. | B10: Grunty, w tym: | C10: 4504550.1 | G10: 418170 | H10: =D10+E10+F10+G10 -> 418170 | I10: 671263.29 | M10: 0 | N10: =I10+J10+K10+L10+M10 -> 671263.29 | O10: =C10+H10-N10 -> 4251456.8
A11: 2.1.1. | B11: Grunty stanowiące własność jednostki samorządu terytorialnego przekazane w użytkowanie wieczyste innym podmiotom | C11: 5500 | H11: =D11+E11+F11+G11 -> 0 | N11: =I11+J11+K11+L11+M11 -> 0 | O11: =C11+H11-N11 -> 5500
A12: 2.2. | B12: Budynki, lokale i obiekty inżynierii lądowej i wodnej | C12: 25149671 | D12: =18839.63+52521 -> 71360.63 | G12: 242050 | H12: =D12+E12+F12+G12 -> 313410.63 | M12: 1956012 | N12: =I12+J12+K12+L12+M12 -> 1956012 | O12: =C12+H12-N12 -> 23507069
A13: 2.3. | B13: Urządzenia techniczne i maszyny | C13: 3017009.3 | D13: 11749 | H13: =D13+E13+F13+G13 -> 11749 | J13: 1384440 | M13: 248413.95 | N13: =I13+J13+K13+L13+M13 -> 1632854 | O13: =C13+H13-N13 -> 1395904.3
A14: 2.4. | B14: Środki transportu | C14: 373739.7 | H14: =D14+E14+F14+G14 -> 0 | N14: =I14+J14+K14+L14+M14 -> 0 | O14: =C14+H14-N14 -> 373739.7
A15: 2.5. | B15: Inne środki trwałe | C15: 872167.51 | D15: =19272.42+5000+6000 -> 30272.42 | H15: =D15+E15+F15+G15 -> 30272.42 | J15: =28790.06-M15 -> 27190.06 | M15: 1600 | N15: =I15+J15+K15+L15+M15 -> 28790.06 | O15: =C15+H15-N15 -> 873649.87
A16: 3. | B16: Środki trwałe w budowie (inwestycje) | C16: 257653.5 | D16: 2696049.7 | H16: =D16+E16+F16+G16 -> 2696049.7 | N16: =I16+J16+K16+L16+M16 -> 0 | O16: =C16+H16-N16 -> 2953703.2
A17: 4. | B17: Zaliczki na środki trwałe w budowie (inwestycje) | C17: 0 | H17: =D17+E17+F17+G17 -> 0 | N17: =I17+J17+K17+L17+M17 -> 0 | O17: =C17+H17-N17 -> 0
C18: 37382924
C19: =+C18-C8 -> 3208133.4
B20: ……………………………… | G20: 44642 | L20: ……………………………………………
B21: (główny ksiegowy) | G21: (rok, miesiąc, dzień) | L21: (kierownik jednostki)
A23: Sporządził: Agnieszka Bartkowska - Sprusińska

Sheet Tabela 2
A1: Tabela 2. Zmiany stanu umorzenia/amortyzacji wartości niematerialnych i prawnych oraz rzeczowych aktywów trwałych
A2: Lp. | B2: Wyszczególnienie | C2: Umorzenie - Stan na początek okresu sprawozdaw-czego | D2: Zwiększenia | H2: Zmniejszenia | L2: Umorzenie - Stan na koniec okresu sprawozdaw-czego | M2: Wartość netto składników aktywów
D3: amortyzacja/ umorzenie za okres sprawozda-wczy | E3: aktualiza-cja | F3: inne zwiększenia | G3: zwiększenia ogółem | H3: dotyczące zbytych składników | I3: dotyczące zlikwidowa-nych składników | J3: inne zmniejszenia | K3: zmniejszenia ogółem | M3: Wartość netto na początek okresu | N3: Wartość netto na koniec okresu
A4: 1 | B4: 2 | C4: 3 | D4: 4 | E4: 5 | F4: 6 | G4: 7 | H4: 8 | I4: 9 | J4: 10 | K4: 11 | L4: 12 | M4: 13 | N4: 14
A5: I. | B5: Razem wartości niematerialne i prawne | C5: 516552.69 | D5: =D6+D7 -> 0 | E5: =E6+E7 -> 0 | F5: =F6+F7 -> 0 | G5: =D5+E5+F5 -> 0 | H5: =H6+H7 -> 0 | I5: =I6+I7 -> 0 | J5: =J6+J7 -> 0 | K5: =H5+I5+J5 -> 0 | L5: =C5+G5-K5 -> 516552.69 | M5: ='Tabela 1 '!C5-'Tabela 2'!C5 -> 0 | N5: ='Tabela 1 '!O5-'Tabela 2'!L5 -> 0
A6: 1.1. | B6: Licencje i prawa autorskie dotyczace oprogramowania komputerowego | C6: 516552.69 | D6: 0 | G6: =D6+E6+F6 -> 0 | I6: 0 | K6: =H6+I6+J6 -> 0 | L6: =C6+G6-K6 -> 516552.69 | M6: ='Tabela 1 '!C6-'Tabela 2'!C6 -> 0 | N6: ='Tabela 1 '!O6-'Tabela 2'!L6 -> 0
A7: 1.2. | B7: Pozostale wartości niematerialne i prawne | C7: 0 | G7: =D7+E7+F7 -> 0 | K7: =H7+I7+J7 -> 0 | L7: =C7+G7-K7 -> 0 | M7: ='Tabela 1 '!C7-'Tabela 2'!C7 -> 0 | N7: ='Tabela 1 '!O7-'Tabela 2'!L7 -> 0
A8: II. | B8: Razem rzeczowe aktywa trwałe | C8: 12258078 | D8: =D9+D16+D17 -> 988302.31 | E8: =E9+E16+E17 -> 0 | F8: =F9+F16+F17 -> 242050 | G8: =D8+E8+F8 -> 1230352.3 | H8: =H9+H16+H17 -> 0 | I8: =I9+I16+I17 -> 1411630.1 | J8: =J9+J16+J17 -> 576714.64 | K8: =H8+I8+J8 -> 1988344.7 | L8: =C8+G8-K8 -> 11500086 | M8: ='Tabela 1 '!C8-'Tabela 2'!C8 -> 21916713 | N8: ='Tabela 1 '!O8-'Tabela 2'!L8 -> 21855437
A9: 2. | B9: Razem środki trwałe | C9: 12258078 | D9: =D10+D11+D12+D14+D15+D13 -> 988302.31 | E9: =E10+E11+E12+E14+E15+E13 -> 0 | F9: =F10+F11+F12+F14+F15+F13 -> 242050 | G9: =G10+G11+G12+G14+G15+G13 -> 1230352.3 | H9: =H10+H11+H12+H14+H15+H13 -> 0 | I9: =I10+I11+I12+I14+I15+I13 -> 1411630.1 | J9: =J10+J11+J12+J14+J15+J13 -> 576714.64 | K9: =K10+K11+K12+K14+K15+K13 -> 1988344.7 | L9: =L10+L11+L12+L14+L15+L13 -> 11500086 | M9: ='Tabela 1 '!C9-'Tabela 2'!C9 -> 21659059 | N9: ='Tabela 1 '!O9-'Tabela 2'!L9 -> 18901734
A10: 2.1. | B10: Grunty, w tym: | C10: 0 | G10: =D10+E10+F10 -> 0 | K10: =H10+I10+J10 -> 0 | L10: =C10+G10-K10 -> 0 | M10: ='Tabela 1 '!C10-'Tabela 2'!C10 -> 4504550.1 | N10: ='Tabela 1 '!O10-'Tabela 2'!L10 -> 4251456.8
A11: 2.1.1. | B11: Grunty stanowiące własność jednostki samorządu terytorialnego przekazane w użytkowanie wieczyste innym podmiotom | C11: 0 | G11: =D11+E11+F11 -> 0 | K11: =H11+I11+J11 -> 0 | L11: =C11+G11-K11 -> 0 | M11: ='Tabela 1 '!C11-'Tabela 2'!C11 -> 5500 | N11: ='Tabela 1 '!O11-'Tabela 2'!L11 -> 5500
A12: 2.2. | B12: Budynki, lokale i obiekty inżynierii lądowej i wodnej | C12: 8477764.7 | D12: =348293.21+485075.52 -> 833368.73 | F12: 242050 | G12: =D12+E12+F12 -> 1075418.7 | J12: 411577.53 | K12: =H12+I12+J12 -> 411577.53 | L12: =C12+G12-K12 -> 9141605.9 | M12: ='Tabela 1 '!C12-'Tabela 2'!C12 -> 16671906 | N12: ='Tabela 1 '!O12-'Tabela 2'!L12 -> 14365463
A13: 2.3. | B13: Urządzenia techniczne i maszyny | C13: 2643120.8 | D13: =25163.01+3633.12+68622.99 -> 97419.12 | G13: =D13+E13+F13 -> 97419.12 | I13: 1384440 | J13: 163537.11 | K13: =H13+I13+J13 -> 1547977.1 | L13: =C13+G13-K13 -> 1192562.8 | M13: ='Tabela 1 '!C13-'Tabela 2'!C13 -> 373888.47 | N13: ='Tabela 1 '!O13-'Tabela 2'!L13 -> 203341.51
A14: 2.4. | B14: Środki transportu | C14: 286994.81 | D14: 16931.16 | G14: =D14+E14+F14 -> 16931.16 | K14: =H14+I14+J14 -> 0 | L14: =C14+G14-K14 -> 303925.97 | M14: ='Tabela 1 '!C14-'Tabela 2'!C14 -> 86744.89 | N14: ='Tabela 1 '!O14-'Tabela 2'!L14 -> 69813.73
A15: 2.5. | B15: Inne środki trwałe | C15: 850197.85 | D15: =10310.88+30272.42 -> 40583.3 | G15: =D15+E15+F15 -> 40583.3 | I15: =28790.06-J15 -> 27190.06 | J15: 1600 | K15: =H15+I15+J15 -> 28790.06 | L15: =C15+G15-K15 -> 861991.09 | M15: ='Tabela 1 '!C15-'Tabela 2'!C15 -> 21969.66 | N15: ='Tabela 1 '!O15-'Tabela 2'!L15 -> 11658.78
A16: 3. | B16: Środki trwałe w budowie (inwestycje) | C16: 0 | G16: =D16+E16+F16 -> 0 | K16: =H16+I16+J16 -> 0 | L16: =C16+G16-K16 -> 0 | M16: ='Tabela 1 '!C16-'Tabela 2'!C16 -> 257653.5 | N16: ='Tabela 1 '!O16-'Tabela 2'!L16 -> 2953703.2
A17: 4. | B17: Zaliczki na środki trwałe w budowie (inwestycje) | C17: 0 | G17: =D17+E17+F17 -> 0 | K17: =H17+I17+J17 -> 0 | L17: =C17+G17-K17 -> 0 | M17: ='Tabela 1 '!C17-'Tabela 2'!C17 -> 0 | N17: ='Tabela 1 '!O17-'Tabela 2'!L17 -> 0
B20: ……………………………… | E20: 44642 | L20: ……………………………………………
B21: (główny ksiegowy) | E21: (rok, miesiąc, dzień) | L21: (kierownik jednostki)
A23: Sporządził: Agnieszka Bartkowska - Sprusińska

Sheet Tabela 3.
A2: Tabela 3. Odpisy aktualizujace wartość aktywów trwałych
A4: Lp. | B4: Wyszczególnienie | C4: Stan odpisow aktualizujących na poczatek okresu sprawozdawczego | D4: Zwiększenia odpisow aktualizujących w ciągu okresu sprawozdawczego | E4: Zmiększenia odpisow aktualizujących w ciągu okresu sprawozdawczego | F4: Stan odpisow aktualizujacych na koniec okresu sprawozdawczego (4+5-6)
A6: 1 | B6: 2 | C6: 4 | D6: 5 | E6: 6 | F6: 7
A7: 1. | B7: Wartosci niematerialne i prawne | C7: NIE DOTYCZY
A8: 2. | B8: Srodki trwałe
A9: 3. | B9: Środki trwale w budowie (inwestycje)
A10: 4. | B10: zaliczki naśrodki trwale w budowie (inwestycje)
A11: 5. | B11: Razem długoterminowe aktywa finansowe
A12: 5.1. | B12: Akcje i udziały
A13: 5.2. | B13: Inne papiery wartościowe
A14: 5.3. | B14: Inne długoterminowe aktywa finansowe
A15: X | B15: Ogółem (1 + 2 + 3 + 4 + 5)
B18: ……………………………… | C18: 44642 | E18: ………………………………………
B19: (główny ksiegowy) | C19: (rok, miesiąc, dzień) | E19: (kierownik jednostki)
A21: Sporządził: Agnieszka Bartkowska - Sprusińska

Sheet Tabela 4.
A2: Tabela 4. Zmiany w stanie gruntów użytkowanych wieczyście
A4: Lp. | B4: Lokalizacja i numer dzialki | C4: Wyszczególnienie gruntów uzytkowanych wieczyście - dane identyfikujace grunt | D4: Wartość gruntów uzytkowanych wieczyście - Stan na poczatek okresu sprawozdawczego | E4: Zwiększenia wartości gruntów uzytkowanych wieczyście - Stan w ciagu okresu sprawozdawczego | F4: Zmniejszenia wartości gruntów uzytkowanych wieczyście - Stan w ciagu okresu sprawozdawczego | G4: Stan wartości gruntów użytkowanych wieczyście na koniec okresu sprawozdawczego (4+5-6)
A6: 1 | B6: 2 | C6: 3 | D6: 4 | E6: 5 | F6: 6 | G6: 7
A7: 1. | C7: Powierzchnia (m2 ) | D7: 0 | G7: 0
C8: Wartość (zł) | D8: 0 | G8: 0
A9: 2. | C9: Powierzchnia (m2 )
C10: Wartość (zł)
A11: 3. | C11: Powierzchnia (m2 )
C12: Wartość (zł)
A13: 4. | C13: Powierzchnia (m2 )
C14: Wartość (zł)
A15: x | B15: Razem: | C15: Powierzchnia (m2 ) | D15: 0 | G15: 0
C16: Wartość (zł) | D16: 0 | G16: 0
B19: ……………………………… | C19: 2022-03-22 | F19: ………………………………………
B20: (główny ksiegowy) | C20: (rok, miesiąc, dzień) | F20: (kierownik jednostki)
A22: Sporządził: Agnieszka Bartkowska - Sprusińska

Sheet Tabela 5
A1: Tabela 5. Zmiany nieamortyzowanych lub nieumarzanych przez jednostkę środków trwałych, używanych na podstawie umów najmu, dzierżawy i innych umów, w tym z tytułu umów leasingu
A3: Lp. | B3: Wyszczególnienie | C3: Wartość na poczatek okresu sprawozdawczego | D3: Zwiększenia w ciagu okresu sprawozdawczego | E3: Zmniejszenia w ciagu okresu sprawozdawczego | F3: Wartość na koniec okresu sprawozdawczego
A5: 1 | B5: 2 | C5: 3 | D5: 4 | E5: 5 | F5: 6
A6: 1. | B6: Grunty | F6: =C6+D6-E6 -> 0
A7: 2. | B7: Budynki, lokale i obiekty inżynierii lądowej i wodnej | C7: 0 | D7: 0 | E7: =+C7 -> 0 | F7: =+C7+D7-E7 -> 0
A8: 3. | B8: Urządzenia techniczne i maszyny | C8: 118899.58 | D8: =35935.68+4883.1 -> 40818.78 | E8: 4883.1 | F8: =+C8+D8-E8 -> 154835.26
A9: 3. | B9: Środki transportu | F9: =C9+D9-E9 -> 0
A10: 4. | B10: Inne środki trwałe | F10: =C10+D10-E10 -> 0
A11: … | F11: =C11+D11-E11 -> 0
A12: x | B12: Razem: | C12: =C6+C7+C8+C9+C10+C11 -> 118899.58 | D12: =SUM(D6:D11) -> 40818.78 | E12: =SUM(E6:E11) -> 4883.1 | F12: =F6+F7+F8+F9+F10+F11 -> 154835.26
B15: ……………………………… | C15: 44642 | E15: ………………………………………
B16: (główny ksiegowy) | C16: (rok, miesiąc, dzień) | E16: (kierownik jednostki)
A18: Sporządził: Agnieszka Bartkowska - Sprusińska

Sheet Tabela 6
A1: Tabela 6. Liczba i wartość posiadanych papierow wartościowych, w tym akcji i udziałów oraz dłużnych papierow wartościowych
A3: Lp. | B3: Wyszczególnienie | C3: Stan na poczatek okresu sprawozdawczego | E3: Zwiekszenia w okresie sprawozdawczym | G3: Zmniejszenia w okresie sprawozdawczym | I3: Stan na koniec okresu sprawozdawczego
C4: liczba | D4: wartość | E4: liczba | F4: wartość | G4: liczba | H4: wartość | I4: liczba | J4: wartość
I5: (3+5+7) | J5: 4+6+8)
A6: 1 | B6: 2 | C6: 3 | D6: 4 | E6: 5 | F6: 6 | G6: 7 | H6: 8 | I6: 9 | J6: 10
A7: 1. | B7: Akcje | C7: NIE DOTYCZY | I7: 0 | J7: =D7+F7+H7 -> 0
A8: 1.1. | I8: =C8+E8+G8 -> 0 | J8: =D8+F8+H8 -> 0
A9: 1.2. | I9: =C9+E9+G9 -> 0 | J9: =D9+F9+H9 -> 0
I10: =C10+E10+G10 -> 0 | J10: =D10+F10+H10 -> 0
A11: 2. | B11: Udziały | I11: =C11+E11+G11 -> 0 | J11: =D11+F11+H11 -> 0
A12: 2.1. | I12: =C12+E12+G12 -> 0 | J12: =D12+F12+H12 -> 0
A13: 2.2. | I13: =C13+E13+G13 -> 0 | J13: =D13+F13+H13 -> 0
I14: =C14+E14+G14 -> 0 | J14: =D14+F14+H14 -> 0
A15: 3. | B15: Dłużne papiery wartościowe | I15: =C15+E15+G15 -> 0 | J15: =D15+F15+H15 -> 0
A16: 3.1. | I16: =C16+E16+G16 -> 0 | J16: =D16+F16+H16 -> 0
A17: 3.2. | I17: =C17+E17+G17 -> 0 | J17: =D17+F17+H17 -> 0
I18: =C18+E18+G18 -> 0 | J18: =D18+F18+H18 -> 0
A19: 4. | B19: Inne papiery wartościowe | I19: =C19+E19+G19 -> 0 | J19: =D19+F19+H19 -> 0
A20: 4.1. | I20: =C20+E20+G20 -> 0 | J20: =D20+F20+H20 -> 0
A21: 4.2. | I21: =C21+E21+G21 -> 0 | J21: =D21+F21+H21 -> 0
I22: =C22+E22+G22 -> 0 | J22: =D22+F22+H22 -> 0
B23: Ogółem: | C23: =C19+C15+C11+C7 -> #VALUE! | D23: =D19+D15+D11+D7 -> 0 | E23: =E19+E15+E11+E7 -> 0 | F23: =F19+F15+F11+F7 -> 0 | G23: =G19+G15+G11+G7 -> 0 | H23: =H19+H15+H11+H7 -> 0 | I23: =C23+E23+G23 -> #VALUE! | J23: =J19+J15+J11+J7 -> 0
B27: ……………………………… | D27: 44642 | I27: ……………………………………………
B28: (główny ksiegowy) | D28: (rok, miesiąc, dzień) | I28: (kierownik jednostki)
A30: Sporządził: Agnieszka Bartkowska - Sprusińska

Sheet Tabela 7
A1: Tabela 7. Zmiany odpisów aktualizujacych wartość należnosci
A3: Lp. | B3: Wyszczegolnienie według grupy należności | C3: Stan odpisow aktualizujacych na poczatek okresu sprawozdawczego | D3: Zwiekszenia odpisów aktualizujacych w ciagu okresu sprawozdawczego | E3: Zmniejaszenia odpisow aktualizujacych w ciagu okresu sprawozdawczego | H3: Stan odpisow aktualizujacych na koniec okresu sprawozdawczego (3+4-7)
E4: wykorzystane | F4: rozwiazanie odpisow aktualizujacych (uznanie odpisow za zbędne) | G4: zmniejszenia - razem (5 + 6)
A5: 1 | B5: 2 | C5: 3 | D5: 4 | E5: 5 | F5: 6 | G5: 7 | H5: 8
A6: 1 | B6: Odpisy na należności główne - Starostwo | C6: 102162.83 | D6: 8314.46 | E6: =8500+1800 -> 10300 | F6: 197.2 | G6: =+E6+F6 -> 10497.2 | H6: =+C6+D6-G6 -> 99980.09
A7: 2 | B7: Odpisy na odsetki - Starostwo | C7: 98480.41 | D7: 2910.33 | E7: =9910.02+734.64 -> 10644.66 | F7: 6151.91 | G7: =+E7+F7 -> 16796.57 | H7: =+C7+D7-G7 -> 84594.17
C8: 0 | G8: =+E8+F8 -> 0 | H8: =+C8+D8-G8 -> 0
A10: x | B10: Razem: | C10: =SUM(C6:C9) -> 200643.24 | D10: =SUM(D6:D9) -> 11224.79 | E10: =SUM(E6:E9) -> 20944.66 | F10: =SUM(F6:F9) -> 6349.11 | G10: =SUM(G6:G9) -> 27293.77 | H10: =SUM(H6:H9) -> 184574.26
B14: ……………………………… | D14: 44642 | G14: ………………………………………
B15: (główny ksiegowy) | D15: (rok, miesiąc, dzień) | G15: (kierownik jednostki)
A17: Sporządził: Agnieszka Bartkowska - Sprusińska

Sheet Tabela 8.
A2: Tabela 8. Informacja o stanie rezerw
A4: Lp. | B4: Wyszczególnienie rodzajów rezerw według celu ich utworzenia | C4: Stan na początek okresu sprawozdawczego | D4: Zwiększenia w ciągu okresu sprawozdawczego | E4: Zmniejszenia w ciagu okresu sprawozdawczego | H4: Stan na koniec okresu sprawozdawczego (3 +4 -7)
E5: wykorzystanie | F5: rozwiązane (uznanie rezerw za zbędne) | G5: Zmniejszenia razem (5 + 8)
A6: 1 | B6: 2 | C6: 3 | D6: 4 | E6: 5 | F6: 6 | G6: 7 | H6: 8
A7: 1. | B7: NIE DOTYCZY | H7: =SUM(D7:G7) -> 0
A8: 2. | H8: =SUM(D8:G8) -> 0
A9: 3. | H9: =SUM(D9:G9) -> 0
A10: 4. | H10: =SUM(D10:G10) -> 0
A11: 5. | H11: =SUM(D11:G11) -> 0
H12: =SUM(D12:G12) -> 0
H13: =SUM(D13:G13) -> 0
B14: Ogółem: | C14: =C7+C8-C11 -> 0 | D14: =D7+D8-D11 -> 0 | E14: =E7+E8-E11 -> 0 | F14: =F7+F8-F11 -> 0 | G14: =G7+G8-G11 -> 0 | H14: =SUM(D14:G14) -> 0
B17: ……………………………… | C17: 44642 | G17: ………………………………………
B18: (główny ksiegowy) | C18: (rok, miesiąc, dzień) | G18: (kierownik jednostki)
A20: Sporządził: Agnieszka Bartkowska - Sprusińska

Sheet Tabela 9.
A2: Tabela 9. Zobowiazania długoterminowe według okresu spłaty
A4: Lp. | B4: Wyszcegółowienie zobowiazań wg pozycji bilansu | C4: Okres wymagalności | I4: Razem
C5: powyżej 1 roku do 3 lat | E5: powyżej 3 lat do 5 lat | G5: powyżej 5 lat
C6: według stanu na:
C7: początek okresu sprawo-zdawczego | D7: koniec okresu sprawo-zdawczego | E7: początek okresu sprawo-zdawczego | F7: koniec okresu sprawo-zdawczego | G7: początek okresu sprawo- zdawczego | H7: koniec okresu sprawo-zdawczego | I7: początek okresu sprawo-zdawczego (3+5+7) | J7: koniec okresu sprawo-zdawczego (4+6+8)
A8: 1 | B8: 2 | C8: 3 | D8: 4 | E8: 5 | F8: 6 | G8: 7 | H8: 8 | I8: 9 | J8: 10
B9: NIE DOTYCZY
A16: x | B16: Ogółem: | C16: =C9+C10+C11+C12+C13+C14+C15 -> 0 | D16: =D9+D10+D11+D12+D13+D14+D15 -> 0 | E16: =E9+E10+E11+E12+E13+E14+E15 -> 0 | F16: =F9+F10+F11+F12+F13+F14+F15 -> 0 | G16: =G9+G10+G11+G12+G13+G14+G15 -> 0 | H16: =H9+H10+H11+H12+H13+H14+H15 -> 0 | I16: =I9+I10+I11+I12+I13+I14+I15 -> 0 | J16: =J9+J10+J11+J12+J13+J14+J15 -> 0
B19: ……………………………… | D19: 44277 | I19: ……………………………………………
B20: (główny ksiegowy) | D20: (rok, miesiąc, dzień) | I20: (kierownik jednostki)
A22: Sporządził: Agnieszka Bartkowska - Sprusińska

Sheet Tabela 10.
A2: Tabela 10. Łączna kwota zobowiazań zabezpieczonych na majątku jednostki ze wskazaniem charakteru i formy zabezpieczeń
A4: Lp. | B4: Wyszczególnienie według rodzajów zobowiązań | C4: Kwota zobowiązania | D4: Wyszczególnienie według formy i charakteru zabezpieczenia | E4: Kwota zabezpieczenia
A6: 1 | B6: 2 | C6: 3 | D6: 4 | E6: 5
A7: 1. | B7: NIE DOTYCZY
A8: 2.
A9: 3.
A10: 4.
A11: 5.
A12: 6.
A13: 7.
A15: X | B15: Ogółem: | C15: =C7+C8+C9+C10+C11+C12+C13+C14 -> 0 | D15: X | E15: =E7+E8+E9+E10+E11+E12+E13+E14 -> 0
B18: ……………………………… | C18: 44642 | E18: ………………………………….
B19: (główny ksiegowy) | C19: (rok, miesiąc, dzień) | E19: (kierownik jednostki)
A21: Sporządził: Agnieszka Bartkowska - Sprusińska

Sheet Tabela  11.
A3: Tabela 11. Zobowiązania warunkowe na dzień bilansowy
A5: Lp. | B5: Wyszczególnienie według rodzajów zobowiązań warunkowych | C5: Kwota zobowiązania warunkowego | D5: Wyszczególnienie według formy i charakteru zabezpieczenia zobowiazania warunkowego | E5: Kwota zabezpieczenia
A7: 1 | B7: 2 | C7: 3 | D7: 4 | E7: 5
A8: 1. | B8: Część zapłaty za wykonanie pomostu na terenie kąpieliska mejskiego (zastosowano drewno inne, niż umówione) | C8: 100000 | D8: zobowiązanie sporne - sprawa w toku | E8: 35088.03
A9: 2.
A10: 3.
A11: 4.
A12: 5.
A13: 6.
A15: X | B15: Ogółem: | C15: =SUM(C8:C14) -> 100000 | D15: X | E15: =SUM(E8:E14) -> 35088.03
B18: ……………………………… | C18: 44642 | E18: …………………………….
B19: (główny ksiegowy) | C19: (rok, miesiąc, dzień) | E19: (kierownik jednostki)
A21: Sporządził: Agnieszka Bartkowska - Sprusińska

Sheet Tabela 12
A2: Tabela 12. Czynne i bierne rozliczenia międzyokresowe
A4: Lp. | B4: Wyszczególnienie według rodzaju rozliczeń miedzyokresowych | C4: Wartość rozliczeń miedzyokresowych według stanu na:
C5: początek okresu sprawozdawczego | D5: koniec okresu sprawozdawczego
A6: 1. | B6: Rozliczenia międzyokresowe czynne kosztów
A7: 1.1.
A8: 1.2.
A9: …
B10: Rozliczenia międzyokresowe czynne kosztów ogółem: | C10: =C7+C8+C9 -> 0 | D10: =D7+D8+D9 -> 0
A11: 2. | B11: Rozliczenia międzyokresowe czynne przychodów
A12: 2.1.
A13: 2.2.
A14: …
B15: Rozliczenia międzyokresowe czynne przychodów ogółem: | C15: =C12+C13+C14 -> 0 | D15: =D12+D13+D14 -> 0
A16: 3. | B16: Rozliczenia międzyokresowe bierne kosztów
A17: 3.1.
A18: 3.2.
A19: …
B20: Rozliczenia międzyokresowe bierne kosztów ogółem: | C20: =C17+C18+C19 -> 0 | D20: =D17+D18+D19 -> 0
A21: 4. | B21: Rozliczenia międzyokresowe bierne przychodów
A22: 4.1. | B22: Raty za rok 2021 i następne lata z tyt.sprzedaży gruntów - Powiatu | C22: 11039.95 | D22: 5519.95
A23: …
B24: Rozliczenia międzyokresowe bierne przychodów ogółem: | C24: =SUM(C21:C23) -> 11039.95 | D24: =SUM(D21:D23) -> 5519.95
B27: ……………………………… 2022-03-22 | D27: ……………………………..
B28: (główny ksiegowy) (rok, miesiąc, dzień) | D28: (kierownik jednostki)
A30: Sporządził: Agnieszka Bartkowska - Sprusińska

Sheet Tabela 13
A2: Tabela 13. Kwota otrzymanych gwarancji i poręczeń
A4: Lp. | B4: Wyszczegółowienie według rodzaju otrzymanych gwarancji i poręczeń | C4: Kwota otrzymanych przez jednostkę gwarancji i poręczeń niewykazanych w bilansie według stanu na: | E4: Kwota zobowiazań zabezpieczonych otrzymanymi (niewykazanymi w bilansie) gwarancjami i poręczeniami według stanu na:
C6: początek okresu sprawozdawczego | D6: koniec okresu sprawozdawczego | E6: początek okresu sprawozdawczego | F6: koniec okresu sprawozdawczego
A7: 1 | B7: 2 | C7: 3 | D7: 4 | E7: 5 | F7: 6
A8: 1.
A9: 2.
A10: 3.
A11: 4.
A12: 5.
A13: 6.
A14: 7.
A15: x | B15: Ogółem: | C15: =C8+C9+C10+C11+C12+C13+C14 -> 0 | D15: =D8+D9+D10+D11+D12+D13+D14 -> 0 | E15: =E8+E9+E10+E11+E12+E13+E14 -> 0 | F15: =F8+F9+F10+F11+F12+F13+F14 -> 0
B18: ……………………………… | C18: 44642 | E18: ……………………………………………
B19: (główny ksiegowy) | C19: (rok, miesiąc, dzień) | E19: (kierownik jednostki)
A21: Sporządził: Joanna Oksiejuk

Sheet tabela nr 14
A1: Tabela nr 14
A2: Kwotę wypłaconych środków pieniężnych na świadczenia pracownicze
A4: wykazane na koncie 405 - Ubezpieczenia społeczne i inne świadczenia
A6: Lp. | B6: Wyszczególnienie | C6: Stan na koniec roku
A7: 1. | B7: Świadczenia emerytalne (odprawy emerytalne) | C7: 48384
A8: 2. | B8: Nagrody jubileuszowe | C8: 63334.83
A9: 3. | B9: Koszty niewykorzystanych urlopów wraz ze składkami ZUS | C9: 2289.7754
B10: w tym ekwiwalent | C10: 1953.9
B11: składki od ekwiwalentu | C11: 758.51
A12: 4. | B12: Inne świadczenia:
B13: * odprawy pozostałe | C13: 11123.6
A17: Razem: | C17: 125132.21
B19: …………………… | C19: ………………………..
B20: (główny ksiegowy) | C20: (kierownik jednostki)
B22: 44642
B23: (rok, miesiąc, dzień)

Sheet Tabela 15
A2: Tabela 15. Wysokość odpisów aktualizujących wartość zapasów
A4: Lp. | B4: Wyszcegółowienie według rodzaju zapasów | C4: Stan odpisów aktualizujacych na poczatek okresu sprawozdawczego | D4: Zwiększenia odpisów aktualizujacych w ciągu okresu sprawozdawczego | E4: Zmniejszenia odpisów aktualizujacych w ciągu okresu sprawozdawczego | H4: Stan odpisów aktualizujacych na koniec okresu sprawozdawczego (3+4-7)
E6: wykorzystanie | F6: rozwiazamnie odpisów aktualizujacych (uznanie odpisów za zbędne) | G6: zmniejszenia razem (5 + 6)
A8: 1 | B8: 2 | C8: 3 | D8: 4 | E8: 5 | F8: 6 | G8: 7 | H8: 8
B9: NIE DOTYCZY | G9: =E9+F9 -> 0 | H9: =C9+D9-G9 -> 0
G10: =E10+F10 -> 0 | H10: =C10+D10-G10 -> 0
G11: =E11+F11 -> 0 | H11: =C11+D11-G11 -> 0
G12: =E12+F12 -> 0 | H12: =C12+D12-G12 -> 0
G13: =E13+F13 -> 0 | H13: =C13+D13-G13 -> 0
G14: =E14+F14 -> 0 | H14: =C14+D14-G14 -> 0
G15: =E15+F15 -> 0 | H15: =C15+D15-G15 -> 0
A16: x | B16: Ogółem: | C16: =C9+C10+C11+C12+C13+C14+C15 -> 0 | D16: =D9+D10+D11+D12+D13+D14+D15 -> 0 | E16: =E9+E10+E11+E12+E13+E14+E15 -> 0 | F16: =F9+F10+F11+F12+F13+F14+F15 -> 0 | G16: =G9+G10+G11+G12+G13+G14+G15 -> 0 | H16: =H9+H10+H11+H12+H13+H14+H15 -> 0
B19: ……………………………… | D19: 44642 | G19: ……………………………..
B20: (główny ksiegowy) | D20: (rok, miesiąc, dzień) | G20: (kierownik jednostki)
A22: Sporządziła: Agnieszka Bartkowska - Sprusińska

Sheet Tabela 16
A2: Tabela 16. Koszt wytworzenia środków trwałych w budowie
A4: Lp. | B4: Wyszcegółowienie | C4: Koszty wytworzenia poniesione w ciągu poprzednich okresów sprawozdawczych | F4: Koszty wytworzenia poniesione w ciagu bieżącego okresu sprawozdawczego
C5: ogółem | D5: w tym: | F5: ogółem | G5: w tym:
D6: odsetki | E6: różnice kursowe | G6: odsetki | H6: różnice kursowe
A7: 1 | B7: 2 | C7: 3 | D7: 4 | E7: 5 | F7: 6 | G7: 7 | H7: 8
A8: 1. | B8: Zabudowana nieruchomość - Gryfice ul. Koszarowa - dokumentacja projektowa | C8: =196633.5+47970 -> 244603.5 | F8: 2696049.7 | G8: 0 | H8: 0
A9: 2. | B9: Adaptacja pomieszczeń parteru - Gryf Areny | C9: 13050 | F9: 0 | G9: 0 | H9: 0
A12: x | B12: Ogółem: | C12: =SUM(C8:C11) -> 257653.5 | D12: =SUM(D8:D11) -> 0 | E12: =SUM(E8:E11) -> 0 | F12: =SUM(F8:F11) -> 2696049.7 | G12: =SUM(G8:G11) -> 0 | H12: =SUM(H8:H11) -> 0
B15: ……………………………… | D15: 44642 | G15: ……………………………..
B16: (główny ksiegowy) | D16: (rok, miesiąc, dzień) | G16: (kierownik jednostki)
A18: Sporządziła: Agnieszka Bartkowska - Sprusińska

Sheet Tabela 17 - zg. z RZIS
A1: Tabela nr 17
A2: Kwota i charakter poszczególnych pozycji przychodów lub kosztów o nadzwyczajnej wartości lub które wystąpiły incydentalnie
A4: Pozostałe przychody operacyjne
A6: Lp. | B6: Treść | C6: 1.01.-31.12.2020 r. | D6: 1.01.-31.12.2021 r.
A7: 1 | B7: Zysk ze sprzedaży środków trwałych i wartości niematerialnych i prawnych | C7: 69854.68 | D7: 2840892.9
A8: 2 | B8: Zysk z likwidacji środków trwałych, inwestycji bez efektu gospodarczego
A9: 3 | B9: kary, grzywny, odszkodowania | C9: 40000 | D9: 5185.52
A10: 4 | B10: Wyegzekwowane odpisane należności
A11: 5 | B11: Darowizny środków trwałych
A12: 6 | B12: Darowizny środków pieniężnych i pozostałych środków obrotowych
A13: 7 | B13: Rozwiązane odpisu aktualizującego wartość należności
A14: 8 | B14: Niewykorzystane zgodnie z przeznaczeniem utworzone uprzednio rezerwy
A15: 9 | B15: Zwrot opłat sądowych, kosztów upomnień i innych wierzytelności | C15: =35.46+104.4+11.6 -> 151.46 | D15: 784.41
A16: 10 | B16: Korzyst.z nieruchom. (w tym bezumowne) | C16: 1199.62 | D16: 712
A17: 11 | B17: Zwrot kosztów upomnień
A18: 12 | B18: Dochód ze sprzedaży złomu | D18: 6875
A19: 13 | B19: Zwrot wydatków z lat ubiegłych | C19: =42931+822.9 -> 43753.9 | D19: =61.5+83.68 -> 145.18
A20: 14 | B20: Wynagrodzenie płatnika ZUS i podatków dochodowych | C20: 1603.79 | D20: 1602.36
A21: 15 | B21: Opłata za korzystanie z terminala płatniczego i opłata akceptanta -uiszczona przez Fundację Polska Bezgotówkowa | C21: 696.27 | D21: =826.3-130.02 -> 696.28
A22: 16 | B22: Korekta roczna odliczonego podatku VAT | C22: 423.95 | D22: 3383.46
A23: 17 | B23: "Końcówki " VAT | C23: 0.74 | D23: 1.83
A24: 18 | B24: Otrzymane odszkodowania | D24: 25769.77
A25: 19 | B25: Zwrot kosztów używania samochodu służbowego do celów prywatnych | D25: 401.18
A26: 20 | B26: Wpłaty sponsorów na imprezy organizowane przez Powiat | D26: =6550+5300 -> 11850
A27: 21 | B27: zwroty dotacji z lat ubiegłych | C27: 89740.48
A28: 22 | B28: Gotówka z Biura rzeczy znalezionych | D28: 130.02
A29: 23 | B29: Doch do. Powiatowego Punktu Szczepień | D29: 65043.01
A30: RAZEM | C30: =SUM(C7:C29) -> 247424.89 | D30: =SUM(D7:D29) -> 2963473
A32: Pozostałe koszty operacyjne
A34: Lp. | B34: Tytuł | C34: 1.01.-31.12.2020 r. | D34: 1.01.-31.12.2021 r.
A35: 1 | B35: Strata ze sprzedaży środków trwałych i wartości niematerialnych i prawnych
A36: 2 | B36: Starta z likwidacji środków trwałych
A37: 3 | B37: Nieplanowane odpisy środków trwałych, wartości niematerialnych i prawnych, które utraciły swoją przydatność
A38: 4 | B38: Wartość środków trwałych w budowie bez efektu gospodarczego
A39: 5 | B39: Wartość środków trwałych w budowie przekazanych nieodpłatnie
A40: 6 | B40: Odpisanie kosztów zaniechanej lub niepodjętej produkcji
A41: 7 | B41: Odpisy aktualizujące (obniżające) wartość zapasów rzeczowych składników majątku obrotowego
A42: 8 | B42: Różnice wycen bilansowych środków trwałych
A43: 9 | B43: Odpisane należności przedawnione, umorzone i nieściągalne
A44: 10 | B44: Przekazane darowizny rzeczowe i finansowe
A45: 11 | B45: Niezawinione niedobory składników majątku obrotowego
A46: 12 | B46: Niezawinione niedobory środków trwałych
A47: 13 | B47: Koszty postępowania spornego i egzekucyjnego | C47: =1500+3416.28+3568.92 -> 8485.2 | D47: 875.25
A48: 14 | B48: Odpisy aktualizacyjne z tytułu niedoborów składników majątku obrotowego
A49: 15 | B49: Odpisy aktualizujące wartość należności wątpliwych i nieściągalnych | C49: 10743.6 | D49: 8314.46
A50: 16 | B50: Składki na rzecz organizacji społecznych
A51: 17 | B51: Trwała utrata wartości z tyt. ostrożnej wyceny
A52: a | B52: towary
A53: b | B53: materiały
A54: c | B54: środki trwałe
A55: 18 | B55: Umorzone grzywny z WUAIB i należności z tyt.kosztów upomnienia | C55: 30000 | D55: 50011.6
A56: 19 | B56: Zapłacone kary i odszkodowania | C56: =4030+16272 -> 20302
A57: 20 | B57: końcówki VAT - koszty | C57: 2.74 | D57: 3.93
A58: 21 | B58: Zwrot dotacji z lat ubiegłych | C58: =35.46+16.1+15.1 -> 66.66 | D58: 550.46
A59: 22 | B59: Korekta roczna odliczonego podatku VAT
A60: 23 | B60: Zwroty niewykorzyst.dotacji (Fundusz Dróg) | C60: 3556.49
A61: 24 | B61: Koszty upomnień | D61: 11.6
A62: 25 | B62: Kaa za niedotr.termonu zawarcia umowy dostawy energii elektr. -CUP | D62: 586.24
A63: RAZEM | C63: =SUM(C35:C62) -> 73156.69 | D63: =SUM(D35:D62) -> 60353.54
B65: …………… | C65: 44642 | D65: ……………………
B66: (główny księgowy) | C66: (rok miesiąc, dzień) | D66: (kierownik jednostki)

Sheet Tabela 18 
B1: Tabela nr 18 - Inne informacje - wydatki zwiazane z pandemią COVID-19
B5: Wydatki poniesione przez Starostwa w związku z pandemią COVID-19
B7: Lp. | C7: Tytuł | D7: 1.01.-31.12.2021 r.
B8: 1 | C8: Umowy zlecenia z pochodnymi - Powiat.Punkt Szczepień | D8: =3383+419.44+31380 -> 35182.44
B9: 2 | C9: Materiały zakupione w zw. z pandemią COVID, w tym Pow.Punktem Szczepień | D9: =21936.18+648.9 -> 22585.08
B10: 3. | C10: Zakup energii i poz.usług - w tym PPS | D10: =250+4232.05 -> 4482.05
B11: 3. | C11: Szkolenie pracowników | D11: 1000
B12: RAZEM | D12: =SUM(D8:D11) -> 63249.57
C15: …………… | D15: 44642 | E15: ……………………
C16: (główny księgowy) | D16: (rok miesiąc, dzień) | E16: (kierownik jednostki)
