Workbook
Name OLE_LINK1: 'Dane STAROSTWO'!$B$63

Sheet Dane  STAROSTWO
A2: Sprawozdanie finansowe za rok 2024 rok
A4: I. Wprowadzenie do sprawozdania finansowego.
A5: 1.
A6: 1.1. | B6: Nazwa Jednostki | C6: Starostwo Powiatowe w Gryficach
A7: 1.2. | B7: Siedziba jednostki | C7: Gryfice Pl. Zwycięstwa 37
A8: 1.3. | B8: Adres jednostki | C8: Gryfice Pl. Zwycięstwa 37
A9: 1.4. | B9: Podstawowy przedmiot działalności jednostki | C9: Ustawa z dnia 5 czerwca 1998r. o samorządzie powiatowym
A18: 2. | B18: Wskazanie okresu objętego sprawozdaniem
B19: od 01.01.2024 r. do 31.12.2024 r.
A20: 3. | B20: wskazanie, że sprawozdanie finansowe zawiera dane łączne, jeżeli w skład jednostki nadrzędnej lub jednostki samorządu terytorialnego wchodzą jednostki sporządzające samodzielne sprawozdania finansowe
B21: Sprawozdanie nie zawiera danych łącznych
A22: 4. | B22: omówienie przyjętych zasad (polityki) rachunkowości, w tym metod wyceny aktywów i pasywów (także amortyzacji)
A23: 4. | B23: Aktywa i pasywa wyceniane są przy uwzględnianiu nadrzędnych zasad rachunkowości, w sposób przewidziany ustawą o rachunkowości i rozporzadzeniem Ministra Rozwoju i Finansow w sprawie szczegółowych zasad rachunkowości oraz planu kont dla budżetu państwa , budżetów jednostek samorządu terytorialnego........ 1) Za środki trwałe uważa się przedmioty o przewidywanym okresie użytkowania dłuższym niż jeden rok i o wartości poczatkowej od 5.000,00 zł. 2)Środki trwałe o wartości początkowej od 5.000,00 zł do 9.999,99 zł uważa się za pozostałe srodki trwałe w użytkowaniu stosując jednorazowe umorzenie 100% ich wartości w miesiącu oddania do użytkowania w ciężar kosztów bieżącej działalności- podlegają one ewidencji ilościowo-wartościowej. Wydatki poniesione na ich zakup badź wytworzenie stanowią wydatki bieżące. 3)Środki trwałe o wartości początkowej równej 10.000,00 zł lub większej umarza się lub amortyzuje stosując metodę liniową. 4) Przedmioty o wartości początkowej od 300 do 4.999,99 zł nie kwalifikuje się jako środki trwałe, uważa się je za wyposażenie stanowisk pracy i dla celów księgowych uważa za zużyte w momencie oddania do użytkowania. Podlegają ewidencji ilościowej. 5) Przedmioty o wartości poczatkowej poniżej 300,00 zł stanowiące wyposażenie odnoszone są w koszty bieżącej działalnosci w momencie zakupu, uważa się za zużyte z datą oddania do użytkowania i nie podlegają inwentaryzacji. 6) Do ewidencji i wyceny wartości niematerialnych i prawnych stosuje sią zasady jak dla środkow trwałych. Na potrzeby ustalenia stawek amortyzacyjnych jako okres ich użytkowania przyjmuje się minimalny czas dokonywania odpisów amortyzacyjnych przewidziany przepisami ustawy o podatku dochodowym od osob prawnych. 7) Materiały wycenia się z chwilą nabycia w cenach zakupu i odpisuje się w koszty na dzień ich zakupu. 8) Na dzień bilansowy środki trwale ( z wyjatkiem gruntów) wycenia się w wartosci netto, tj. z uwzglednieniem odpisów umorzeniowych ustalonych na dzień bilansowy.
A24: 5. | B24: inne informacje
A27: II | B27: Dodatkowe informacje i objaśnienia:
A28: 1.
A29: 1.1. | B29: szczegółowy zakres zmian wartości grup rodzajowych środków trwałych, wartości niematerialnych i prawnych, zawierający stan tych aktywów na początek roku obrotowego, zwiększenia i zmniejszenia z tytułu: aktualizacji wartości, nabycia, rozchodu, przemieszczenia wewnętrznego oraz stan końcowy, a dla majątku amortyzowanego - podobne przedstawienie stanów i tytułów zmian dotychczasowej amortyzacji lub umorzenia
B30: tabela nr 1 , nr 2
A31: 1.2. | B31: aktualną wartość rynkową środków trwałych, w tym dóbr kultury - o ile jednostka dysponuje takimi informacjami
B32: Suma ubezpieczeniowa z polisy ubezpieczeniowej- 18.907.030,95 zł
A33: 1.3 | B33: kwotę dokonanych w trakcie roku obrotowego odpisów aktualizujących wartość aktywów trwałych odrębnie dla długoterminowych aktywów niefinansowych oraz długoterminowych aktywów finansowych
B34: tabela nr 3
A35: 1.4 | B35: wartość gruntów użytkowanych wieczyście
B36: tabela nr 4
A37: 1.5 | B37: wartość nieamortyzowanych lub nieumarzanych przez jednostkę środków trwałych, używanych na podstawie umów najmu, dzierżawy i innych umów, w tym z tytułu umów leasingu
B38: tabela nr 5
A39: 1.6 | B39: liczbę oraz wartość posiadanych papierów wartościowych, w tym akcji i udziałów oraz dłużnych papierów wartościowych
B40: nie dotyczy
A41: 1.7 | B41: dane o odpisach aktualizujacych wartość należnosci, ze wskazaniem stanu na poczatek roku obrotowego, zwiekszeniachm, wykorzystaniu, rozwiazaniu i stanie na koniec roku obrotowego, z uwzglednieniem naleznosci finansowych jednostek samorządu terytorialnego (stan pożyczek zagrozonych)
B42: tabela nr 7
A43: 1.8 | B43: dane o stanie rezerw według celu ich utworzenia na początek roku obrotowego, zwiększeniach wykorzystaniu, rozwiązaniu i stanie końcowym
B44: tabela nr 8 | C44: nie wystepują
A45: 1.9 | B45: podział zobowiązań długoterminowych według pozycji bilansu o pozostałym od dnia bilansowego, przewidywanym umową lub wynikającym z innego tytułu prawnego, okresie spłaty:
B46: a) powyżej 1 roku do 3 lat
B47: b) powyżej 3 do 5 lat
B48: c) powyżej 5 lat
B49: tabela nr 9
A50: 1.10 | B50: kwotę zobowiązań w sytuacji gdy jednostka kwalifikuje umowy leasingu zgodnie z przepisami podatkowymi (leasing operacyjny), a według przepisów o rachunkowości byłby to leasing finansowy lub zwrotny z podziałem na kwotę zobowiązań z tytułu leasingu finansowego lub leasingu zwrotnego
B51: nie występują
A52: 1.11 | B52: łączną kwotę zobowiązań zabezpieczonych na majątku jednostki ze wskazaniem charakteru i formy tych zabezpieczeń
B53: tabela 10
A54: 1.12 | B54: łączną kwotę zobowiązań warunkowych, w tym również udzielonych przez jednostkę gwarancji i poręczeń, także wekslowych, niewykazanych w bilansie, ze wskazaniem zobowiązań zabezpieczonych na majątku jednostki oraz charakteru i formy tych zabezpieczeń
B55: tabela 11
A56: 1.13 | B56: wykaz istotnych pozycji czynnych i biernych rozliczeń międzyokresowych w tym kwotę czynnych rozliczeń międzyokresowych kosztów stanowiących różnicę między wartością otrzymanych finansowych składników aktywów a zobowiązaniem zapłaty za nie
B57: tabela nr 12
A59: 1.14 | B59: łączną kwotę otrzymanych przez jednostkę gwarancji i poręczeń niewykazanych w bilansie
B60: tabela nr 13
A61: 1.15 | B61: kwotę wypłaconych środków pieniężnych na świadczenia pracownicze
B62: tabela nr 14
A64: 1.16 | B64: inne informacje
A66: 2.
A67: 2.1 | B67: Wysokość odpisow aktualizujacych wartość zapasow
B68: tabela nr 15
A69: 2.2 | B69: koszt wytworzenia środków trwałych w budowie, w tym odsetki oraz różnice kursowe, które powiększyły koszt wytworzenia środków trwałych w budowie w roku obrotowym
B70: tabela nr 16
A71: 2.3 | B71: kwota i charakter poszczególnych pozycji przychodów lub kosztów o nadzwyczajnej wartości lub które wystąpiły incydentalnie
B72: tabela nr 17
A73: 2.4. | B73: informację o kwocie należności z tytułu podatków realizowanych przez organy podatkowe podległe ministrowi właściwemu do spraw finansów publicznych wykazywanych w sprawozdaniu z wykonania planu dochodów budżetowych
B74: Uszczególowienie pozycji z Bilansu Pozostałe należności (aktywa poz. B.II.4)
A75: 2.5 | B75: inne informacje - wydatki związane z wojną na Ukrainie
B76: tabela nr 18
A77: 2.6 | B77: Inne informacje - uszczególowienie pozycji z Bilansu Pozostałe należności (aktywa poz. B.II.4)
B78: tabela nr 19
A79: 3. | B79: Inne informacje niż wymienione powyżej, jeżeli mogłyby w istotny sposób wpłynąć na ocenę sytuacji majątkowej i finansowej oraz wynik finansowy jednostki
B83: ……………………………… | C83: 2025-03-24 ……………………………………….. | D83: ……………………………………………
B84: (główny ksiegowy) | C84: (rok, miesiąc, dzień) (kierownik jednostki | D84: (kierownik jednostki)
A86: Sporządził: Jolanta Mazurek

Sheet Tabela 1 
A1: Tabela 1. Zmiany stanu wartości początkowej wartości niematerialnych i prawnych oraz rzeczowych aktywow trwałych
A2: Lp. | B2: Wyszczególnienie | C2: Wartość poczatkowa - Stan na początek okresu sprawozdaw-czego | D2: Zwiększenia | I2: Zmniejszenia | O2: Wartość poczatkowa - Stan na koniec okresu sprawozdaw-czego
D3: nabycie | E3: przemieszczenia wewnętrzne | F3: aktualizacja | G3: inne zwiekszenia | H3: zwiększenia ogółem | I3: zbycie | J3: likwidacja | K3: przemieszczenia wewnętrzne | L3: aktualizacja | M3: inne zmniejszenia | N3: zmniejszenia ogółem
A4: 1 | B4: 2 | C4: 3 | D4: 4 | E4: 5 | F4: 6 | G4: 7 | H4: 8 | I4: 9 | J4: 10 | K4: 11 | L4: 12 | M4: 13 | N4: 14 | O4: 15
A5: I. | B5: Razem wartości niematerialne i prawne | C5: 528657.65 | D5: =D6+D7 -> 0 | E5: =E6+E7 -> 0 | F5: =F6+F7 -> 0 | G5: =G6+G7 -> 0 | H5: =D5+E5+F5+G5 -> 0 | I5: =I6+I7 -> 0 | J5: =J6+J7 -> 0 | K5: =K6+K7 -> 0 | L5: =L6+L7 -> 0 | M5: =M6+M7 -> 0 | N5: =I5+J5+K5+L5+M5 -> 0 | O5: =C5+H5-N5 -> 528657.65
A6: 1.1. | B6: Licencje i prawa autorskie dotyczace oprogramowania komputerowego | C6: 528657.65 | D6: 0 | E6: 0 | F6: 0 | G6: 0 | H6: =D6+E6+F6+G6 -> 0 | I6: 0 | J6: 0 | K6: 0 | L6: 0 | M6: 0 | N6: =I6+J6+K6+L6+M6 -> 0 | O6: =C6+H6-N6 -> 528657.65
A7: 1.2. | B7: Pozostale wartości niematerialne i prawne | C7: 0 | D7: 0 | E7: 0 | F7: 0 | G7: 0 | H7: 0 | I7: 0 | J7: 0 | K7: 0 | L7: 0 | M7: 0 | N7: =I7+J7+K7+L7+M7 -> 0 | O7: =C7+H7-N7 -> 0
A8: II. | B8: Razem rzeczowe aktywa trwałe | C8: 34240096 | D8: =D9+D16+D17 -> 51773.79 | E8: =E9+E16+E17 -> 0 | F8: =F9+F16+F17 -> 0 | G8: =G9+G16+G17 -> 194173 | H8: =H9+H16+H17 -> 245946.79 | I8: =I9+I16+I17 -> 87858.27 | J8: =J9+J16+J17 -> 171409.97 | K8: =K9+K16+K17 -> 0 | ... O8: =O9+O16+O17 -> 34061170 | P8: =29766772.14+621681.66+3926532.46 -> 34314986 | Q8: =+O8-P8 -> -253815.92
A9: 2. | B9: Razem środki trwałe | C9: 34227046 | D9: =SUM(D10:D15)-D11 -> 51773.79 | E9: =SUM(E10:E15)-E11 -> 0 | F9: =SUM(F10:F15)-F11 -> 0 | G9: =SUM(G10:G15)-G11 -> 194173 | H9: =SUM(H10:H15)-H11 -> 245946.79 | I9: =SUM(I10:I15)-I11 -> 87858.27 | J9: =SUM(J10:J15)-J11 -> 171409.97 | K9: =SUM(K10:K15)-K11 -> 0 | ... O9: =SUM(O10:O15)-O11 -> 34048120 | P9: =33296444.29+620692.93 -> 33917137 | Q9: =+O9-P9 -> 130983.12
A10: 2.1. | B10: Grunty, w tym: | C10: 4223631.9 | G10: 27454 | H10: =D10+E10+F10+G10 -> 27454 | I10: 87858.27 | M10: 149500 | N10: =I10+J10+K10+L10+M10 -> 237358.27 | O10: =C10+H10-N10 -> 4013727.7 | P10: =+O10-O11 -> 4008227.7 | Q10: =+O10-P10 -> 5500
A11: 2.1.1. | B11: Grunty stanowiące własność jednostki samorządu terytorialnego przekazane w użytkowanie wieczyste innym podmiotom | C11: 5500 | H11: =D11+E11+F11+G11 -> 0 | N11: =I11+J11+K11+L11+M11 -> 0 | O11: =C11+H11-N11 -> 5500
A12: 2.2. | B12: Budynki, lokale i obiekty inżynierii lądowej i wodnej | C12: 27349939 | G12: 155526 | H12: =D12+E12+F12+G12 -> 155526 | J12: 85035 | N12: =I12+J12+K12+L12+M12 -> 85035 | O12: =C12+H12-N12 -> 27420430 | P12: =12054537.54+11570545.5 -> 23625083 | Q12: =+O12-P12 -> 3795346.8
A13: 2.3. | B13: Urządzenia techniczne i maszyny | C13: 1208908.9 | G13: 11193 | H13: =D13+E13+F13+G13 -> 11193 | J13: =11724.65+3751.5 -> 15476.15 | M13: 9710.85 | N13: =I13+J13+K13+L13+M13 -> 25187 | O13: =C13+H13-N13 -> 1194914.9 | P13: =4336.12+527799.47+48039.49+727233.86 -> 1307408.9 | Q13: =+O13-P13 -> -112494.05 | R13: 1395904.3 | S13: =+R13-O13 -> 200989.43
A14: 2.4. | B14: Środki transportu | C14: 373739.7 | H14: =D14+E14+F14+G14 -> 0 | N14: =I14+J14+K14+L14+M14 -> 0 | O14: =C14+H14-N14 -> 373739.7
A15: 2.5. | B15: Inne środki trwałe | C15: 1070826.9 | D15: =27173.79+24600 -> 51773.79 | H15: =D15+E15+F15+G15 -> 51773.79 | J15: 70898.82 | M15: 6393.6 | N15: =I15+J15+K15+L15+M15 -> 77292.42 | O15: =C15+H15-N15 -> 1045308.3 | P15: =247374.58+621681.66 -> 869056.24 | Q15: =+O15-P15 -> 176252.03
A16: 3. | B16: Środki trwałe w budowie (inwestycje) | C16: 13050 | H16: =D16+E16+F16+G16 -> 0 | N16: =I16+J16+K16+L16+M16 -> 0 | O16: =C16+H16-N16 -> 13050 | R16: 118475.56
A17: 4. | B17: Zaliczki na środki trwałe w budowie (inwestycje) | C17: 0 | H17: =D17+E17+F17+G17 -> 0 | N17: =I17+J17+K17+L17+M17 -> 0 | O17: =C17+H17-N17 -> 0 | R17: 6805.65
J18: różnica prze.wewn. | K18: =+K8-E8 -> 0 | R18: 40899.98
P19: 436.12 | R19: =SUM(R16:R18) -> 166181.19
B20: ……………………………… | G20: 45377 | L20: ……………………………………………
B21: (główny ksiegowy) | G21: (rok, miesiąc, dzień) | L21: (kierownik jednostki)
A23: Sporządził: Jolanta Mazurek
P24: =P23-O15 -> -1045308.3

Sheet Tabela 2
A1: Tabela 2. Zmiany stanu umorzenia/amortyzacji wartości niematerialnych i prawnych oraz rzeczowych aktywów trwałych
A2: Lp. | B2: Wyszczególnienie | C2: Umorzenie - Stan na początek okresu sprawozdaw-czego | D2: Zwiększenia | H2: Zmniejszenia | L2: Umorzenie - Stan na koniec okresu sprawozdaw-czego | M2: Wartość netto składników aktywów
D3: amortyzacja/ umorzenie za okres sprawozda-wczy | E3: aktualiza-cja | F3: inne zwiększenia | G3: zwiększenia ogółem | H3: dotyczące zbytych składników | I3: dotyczące zlikwidowa-nych składników | J3: inne zmniejszenia | K3: zmniejszenia ogółem | M3: Wartość netto na początek okresu | N3: Wartość netto na koniec okresu
A4: 1 | B4: 2 | C4: 3 | D4: 4 | E4: 5 | F4: 6 | G4: 7 | H4: 8 | I4: 9 | J4: 10 | K4: 11 | L4: 12 | M4: 13 | N4: 14
A5: I. | B5: Razem wartości niematerialne i prawne | C5: 516552.69 | D5: =D6+D7 -> 6052.44 | E5: =E6+E7 -> 0 | F5: =F6+F7 -> 0 | G5: =D5+E5+F5 -> 6052.44 | H5: =H6+H7 -> 0 | I5: =I6+I7 -> 0 | J5: =J6+J7 -> 0 | K5: =H5+I5+J5 -> 0 | L5: =C5+G5-K5 -> 522605.13 | M5: ='Tabela 1 '!C5-'Tabela 2'!C5 -> 12104.96 | N5: ='Tabela 1 '!O5-'Tabela 2'!L5 -> 6052.52
A6: 1.1. | B6: Licencje i prawa autorskie dotyczace oprogramowania komputerowego | C6: 516552.69 | D6: 6052.44 | G6: =D6+E6+F6 -> 6052.44 | I6: 0 | K6: =H6+I6+J6 -> 0 | L6: =C6+G6-K6 -> 522605.13 | M6: ='Tabela 1 '!C6-'Tabela 2'!C6 -> 12104.96 | N6: ='Tabela 1 '!O6-'Tabela 2'!L6 -> 6052.52
A7: 1.2. | B7: Pozostale wartości niematerialne i prawne | C7: 0 | G7: =D7+E7+F7 -> 0 | K7: =H7+I7+J7 -> 0 | L7: =C7+G7-K7 -> 0 | M7: ='Tabela 1 '!C7-'Tabela 2'!C7 -> 0 | N7: ='Tabela 1 '!O7-'Tabela 2'!L7 -> 0
A8: II. | B8: Razem rzeczowe aktywa trwałe | C8: 13163646 | D8: =D9+D16+D17 -> 1111114 | E8: =E9+E16+E17 -> 0 | F8: =F9+F16+F17 -> 0 | G8: =D8+E8+F8 -> 1111114 | H8: =H9+H16+H17 -> 0 | I8: =I9+I16+I17 -> 102479.42 | J8: =J9+J16+J17 -> 0 | K8: =H8+I8+J8 -> 102479.42 | L8: =C8+G8-K8 -> 14172280 | M8: ='Tabela 1 '!C8-'Tabela 2'!C8 -> 21076451 | N8: ='Tabela 1 '!O8-'Tabela 2'!L8 -> 19888890
A9: 2. | B9: Razem środki trwałe | C9: 13163646 | D9: =D10+D11+D12+D14+D15+D13 -> 1111114 | E9: =E10+E11+E12+E14+E15+E13 -> 0 | F9: =F10+F11+F12+F14+F15+F13 -> 0 | G9: =G10+G11+G12+G14+G15+G13 -> 1111114 | H9: =H10+H11+H12+H14+H15+H13 -> 0 | I9: =I10+I11+I12+I14+I15+I13 -> 102479.42 | J9: =J10+J11+J12+J14+J15+J13 -> 0 | K9: =K10+K11+K12+K14+K15+K13 -> 102479.42 | L9: =L10+L11+L12+L14+L15+L13 -> 14172280 | M9: ='Tabela 1 '!C9-'Tabela 2'!C9 -> 21063401 | N9: ='Tabela 1 '!O9-'Tabela 2'!L9 -> 19875840
A10: 2.1. | B10: Grunty, w tym: | C10: 0 | G10: =D10+E10+F10 -> 0 | K10: =H10+I10+J10 -> 0 | L10: =C10+G10-K10 -> 0 | M10: ='Tabela 1 '!C10-'Tabela 2'!C10 -> 4223631.9 | N10: ='Tabela 1 '!O10-'Tabela 2'!L10 -> 4013727.7
A11: 2.1.1. | B11: Grunty stanowiące własność jednostki samorządu terytorialnego przekazane w użytkowanie wieczyste innym podmiotom | C11: 0 | G11: =D11+E11+F11 -> 0 | K11: =H11+I11+J11 -> 0 | L11: =C11+G11-K11 -> 0 | M11: ='Tabela 1 '!C11-'Tabela 2'!C11 -> 5500 | N11: ='Tabela 1 '!O11-'Tabela 2'!L11 -> 5500
A12: 2.2. | B12: Budynki, lokale i obiekty inżynierii lądowej i wodnej | C12: 10796767 | D12: =474783.32+487034.32 -> 961817.64 | G12: =D12+E12+F12 -> 961817.64 | K12: =H12+I12+J12 -> 0 | L12: =C12+G12-K12 -> 11758585 | M12: ='Tabela 1 '!C12-'Tabela 2'!C12 -> 16553172 | N12: ='Tabela 1 '!O12-'Tabela 2'!L12 -> 15661845
A13: 2.3. | B13: Urządzenia techniczne i maszyny | C13: =4336.12+471534.87+48039.49+505655.84 -> 1029566.3 | D13: =9467.38+15011.34+36761.5 -> 61240.22 | G13: =D13+E13+F13 -> 61240.22 | I13: =21435.5+3751.5 -> 25187 | K13: =H13+I13+J13 -> 25187 | L13: =C13+G13-K13 -> 1065619.5 | M13: ='Tabela 1 '!C13-'Tabela 2'!C13 -> 179342.57 | N13: ='Tabela 1 '!O13-'Tabela 2'!L13 -> 129295.35
A14: 2.4. | B14: Środki transportu | C14: 337788.29 | D14: 16931.16 | G14: =D14+E14+F14 -> 16931.16 | K14: =H14+I14+J14 -> 0 | L14: =C14+G14-K14 -> 354719.45 | M14: ='Tabela 1 '!C14-'Tabela 2'!C14 -> 35951.41 | N14: ='Tabela 1 '!O14-'Tabela 2'!L14 -> 19020.25
A15: 2.5. | B15: Inne środki trwałe | C15: =259957.66+201675.42+258658.09+194270.14+84962.67 -> 999523.98 | D15: =43951.23+5904+21269.79 -> 71125.02 | G15: =D15+E15+F15 -> 71125.02 | I15: =11466.78+3705.6+37644.03+24476.01 -> 77292.42 | K15: =H15+I15+J15 -> 77292.42 | L15: =C15+G15-K15 -> 993356.58 | M15: ='Tabela 1 '!C15-'Tabela 2'!C15 -> 71302.92 | N15: ='Tabela 1 '!O15-'Tabela 2'!L15 -> 51951.69
A16: 3. | B16: Środki trwałe w budowie (inwestycje) | C16: 0 | G16: =D16+E16+F16 -> 0 | K16: =H16+I16+J16 -> 0 | L16: =C16+G16-K16 -> 0 | M16: ='Tabela 1 '!C16-'Tabela 2'!C16 -> 13050 | N16: ='Tabela 1 '!O16-'Tabela 2'!L16 -> 13050
A17: 4. | B17: Zaliczki na środki trwałe w budowie (inwestycje) | C17: 0 | G17: =D17+E17+F17 -> 0 | K17: =H17+I17+J17 -> 0 | L17: =C17+G17-K17 -> 0 | M17: ='Tabela 1 '!C17-'Tabela 2'!C17 -> 0 | N17: ='Tabela 1 '!O17-'Tabela 2'!L17 -> 0
L18: =+L13-1029566.32 -> 36053.22
B20: ……………………………… | E20: 24.03.2025 r. | L20: ……………………………………………
B21: (główny ksiegowy) | E21: (rok, miesiąc, dzień) | L21: (kierownik jednostki)
A23: Sporządził: Jolanta Mazurek

Sheet Tabela 3.
A2: Tabela 3. Odpisy aktualizujace wartość aktywów trwałych
A4: Lp. | B4: Wyszczególnienie | C4: Stan odpisow aktualizujących na poczatek okresu sprawozdawczego | D4: Zwiększenia odpisow aktualizujących w ciągu okresu sprawozdawczego | E4: Zmiększenia odpisow aktualizujących w ciągu okresu sprawozdawczego | F4: Stan odpisow aktualizujacych na koniec okresu sprawozdawczego (4+5-6)
A6: 1 | B6: 2 | C6: 4 | D6: 5 | E6: 6 | F6: 7
A7: 1. | B7: Wartosci niematerialne i prawne
A8: 2. | B8: Srodki trwałe
A9: 3. | B9: Środki trwale w budowie (inwestycje)
A10: 4. | B10: zaliczki naśrodki trwale w budowie (inwestycje)
A11: 5. | B11: Razem długoterminowe aktywa finansowe
A12: 5.1. | B12: Akcje i udziały
A13: 5.2. | B13: Inne papiery wartościowe
A14: 5.3. | B14: Inne długoterminowe aktywa finansowe
A15: X | B15: Ogółem (1 + 2 + 3 + 4 + 5) | C15: 0 | F15: 0
B18: ……………………………… | C18: 24.03.2025 r. | E18: ………………………………………
B19: (główny ksiegowy) | C19: (rok, miesiąc, dzień) | E19: (kierownik jednostki)
A21: Sporządził: Jolanta Mazurek

Sheet Tabela 4.
A2: Tabela 4. Zmiany w stanie gruntów użytkowanych wieczyście
A4: Lp. | B4: Lokalizacja i numer dzialki | C4: Wyszczególnienie gruntów uzytkowanych wieczyście - dane identyfikujace grunt | D4: Wartość gruntów uzytkowanych wieczyście - Stan na poczatek okresu sprawozdawczego | E4: Zwiększenia wartości gruntów uzytkowanych wieczyście - Stan w ciagu okresu sprawozdawczego | F4: Zmniejszenia wartości gruntów uzytkowanych wieczyście - Stan w ciagu okresu sprawozdawczego | G4: Stan wartości gruntów użytkowanych wieczyście na koniec okresu sprawozdawczego (4+5-6)
A6: 1 | B6: 2 | C6: 3 | D6: 4 | E6: 5 | F6: 6 | G6: 7
A7: 1. | C7: Powierzchnia (m2 ) | D7: 0 | G7: 0
C8: Wartość (zł) | D8: 0 | G8: 0
A9: 2. | C9: Powierzchnia (m2 )
C10: Wartość (zł)
A11: 3. | C11: Powierzchnia (m2 )
C12: Wartość (zł)
A13: 4. | C13: Powierzchnia (m2 )
C14: Wartość (zł)
A15: x | B15: Razem: | C15: Powierzchnia (m2 ) | D15: 0 | G15: 0
C16: Wartość (zł) | D16: 0 | G16: 0
B19: ……………………………… | C19: 2025-03-24 | F19: ………………………………………
B20: (główny ksiegowy) | C20: (rok, miesiąc, dzień) | F20: (kierownik jednostki)
A22: Sporządził: Jolanta Mazurek

Sheet Tabela 5
A1: Tabela 5. Zmiany nieamortyzowanych lub nieumarzanych przez jednostkę środków trwałych, używanych na podstawie umów najmu, dzierżawy i innych umów, w tym z tytułu umów leasingu
A3: Lp. | B3: Wyszczególnienie | C3: Wartość na poczatek okresu sprawozdawczego | D3: Zwiększenia w ciagu okresu sprawozdawczego | E3: Zmniejszenia w ciagu okresu sprawozdawczego | F3: Wartość na koniec okresu sprawozdawczego
A5: 1 | B5: 2 | C5: 3 | D5: 4 | E5: 5 | F5: 6
A6: 1. | B6: Grunty | F6: =C6+D6-E6 -> 0
A7: 2. | B7: Budynki, lokale i obiekty inżynierii lądowej i wodnej | C7: 0 | D7: 0 | E7: =+C7 -> 0 | F7: =+C7+D7-E7 -> 0
A8: 3. | B8: Urządzenia techniczne i maszyny | C8: 116410.26 | E8: 0 | F8: =+C8+D8-E8 -> 116410.26
A9: 3. | B9: Środki transportu | F9: =C9+D9-E9 -> 0
A10: 4. | B10: Inne środki trwałe | F10: =C10+D10-E10 -> 0
A11: … | F11: =C11+D11-E11 -> 0
A12: x | B12: Razem: | C12: =C6+C7+C8+C9+C10+C11 -> 116410.26 | D12: =SUM(D6:D11) -> 0 | E12: =SUM(E6:E11) -> 0 | F12: =F6+F7+F8+F9+F10+F11 -> 116410.26
B15: ……………………………… | C15: 24.03.2025 r. | E15: ………………………………………
B16: (główny ksiegowy) | C16: (rok, miesiąc, dzień) | E16: (kierownik jednostki)
A18: Sporządził: Jolanta Mazurek

Sheet Tabela 6
A1: Tabela 6. Liczba i wartość posiadanych papierow wartościowych, w tym akcji i udziałów oraz dłużnych papierow wartościowych
A3: Lp. | B3: Wyszczególnienie | C3: Stan na poczatek okresu sprawozdawczego | E3: Zwiekszenia w okresie sprawozdawczym | G3: Zmniejszenia w okresie sprawozdawczym | I3: Stan na koniec okresu sprawozdawczego
C4: liczba | D4: wartość | E4: liczba | F4: wartość | G4: liczba | H4: wartość | I4: liczba | J4: wartość
I5: (3+5+7) | J5: 4+6+8)
A6: 1 | B6: 2 | C6: 3 | D6: 4 | E6: 5 | F6: 6 | G6: 7 | H6: 8 | I6: 9 | J6: 10
A7: 1. | B7: Akcje | C7: nie występuje | I7: 0 | J7: =D7+F7+H7 -> 0
A8: 1.1. | I8: =C8+E8+G8 -> 0 | J8: =D8+F8+H8 -> 0
A9: 1.2. | I9: =C9+E9+G9 -> 0 | J9: =D9+F9+H9 -> 0
I10: =C10+E10+G10 -> 0 | J10: =D10+F10+H10 -> 0
A11: 2. | B11: Udziały | I11: =C11+E11+G11 -> 0 | J11: =D11+F11+H11 -> 0
A12: 2.1. | I12: =C12+E12+G12 -> 0 | J12: =D12+F12+H12 -> 0
A13: 2.2. | I13: =C13+E13+G13 -> 0 | J13: =D13+F13+H13 -> 0
I14: =C14+E14+G14 -> 0 | J14: =D14+F14+H14 -> 0
A15: 3. | B15: Dłużne papiery wartościowe | I15: =C15+E15+G15 -> 0 | J15: =D15+F15+H15 -> 0
A16: 3.1. | I16: =C16+E16+G16 -> 0 | J16: =D16+F16+H16 -> 0
A17: 3.2. | I17: =C17+E17+G17 -> 0 | J17: =D17+F17+H17 -> 0
I18: =C18+E18+G18 -> 0 | J18: =D18+F18+H18 -> 0
A19: 4. | B19: Inne papiery wartościowe | I19: =C19+E19+G19 -> 0 | J19: =D19+F19+H19 -> 0
A20: 4.1. | I20: =C20+E20+G20 -> 0 | J20: =D20+F20+H20 -> 0
A21: 4.2. | I21: =C21+E21+G21 -> 0 | J21: =D21+F21+H21 -> 0
I22: =C22+E22+G22 -> 0 | J22: =D22+F22+H22 -> 0
B23: Ogółem: | C23: 0 | D23: =D19+D15+D11+D7 -> 0 | E23: =E19+E15+E11+E7 -> 0 | F23: =F19+F15+F11+F7 -> 0 | G23: =G19+G15+G11+G7 -> 0 | H23: =H19+H15+H11+H7 -> 0 | I23: =C23+E23+G23 -> 0 | J23: =J19+J15+J11+J7 -> 0
B27: ……………………………… | D27: 24.03.2025 r. | I27: ……………………………………………
B28: (główny ksiegowy) | D28: (rok, miesiąc, dzień) | I28: (kierownik jednostki)
A30: Sporządził: Jolanta Mazurek

Sheet Tabela 7
A1: Tabela 7. Zmiany odpisów aktualizujacych wartość należnosci
A3: Lp. | B3: Wyszczegolnienie według grupy należności | C3: Stan odpisow aktualizujacych na poczatek okresu sprawozdawczego | D3: Zwiekszenia odpisów aktualizujacych w ciagu okresu sprawozdawczego | E3: Zmniejaszenia odpisow aktualizujacych w ciagu okresu sprawozdawczego | H3: Stan odpisow aktualizujacych na koniec okresu sprawozdawczego (3+4-7)
E4: wykorzystane | F4: rozwiazanie odpisow aktualizujacych (uznanie odpisow za zbędne) | G4: zmniejszenia - razem (5 + 6)
A5: 1 | B5: 2 | C5: 3 | D5: 4 | E5: 5 | F5: 6 | G5: 7 | H5: 8
A6: 1 | B6: Odpisy na należności główne | C6: 125421.23 | D6: 0 | F6: 136 | G6: =+E6+F6 -> 136 | H6: =+C6+D6-G6 -> 125285.23 | J6: k.290.1
A7: 2 | B7: Odpisy na odsetki | C7: 78050.6 | D7: 5078.54 | F7: 7954.37 | G7: =+E7+F7 -> 7954.37 | H7: =+C7+D7-G7 -> 75174.77 | J7: k.290.2
A8: 3 | B8: Odpisy na koszty upomnienia | C8: 81.2 | D8: 16 | F8: 11.6 | G8: =+E8+F8 -> 11.6 | H8: =+C8+D8-G8 -> 85.6 | J8: k290.3
C9: 0 | G9: =+E9+F9 -> 0 | H9: =+C9+D9-G9 -> 0
A11: x | B11: Razem: | C11: =SUM(C6:C10) -> 203553.03 | D11: =SUM(D6:D10) -> 5094.54 | E11: =SUM(E6:E10) -> 0 | F11: =SUM(F6:F10) -> 8101.97 | G11: =SUM(G6:G10) -> 8101.97 | H11: =SUM(H6:H10) -> 200545.6
B15: ……………………………… | D15: 24.03.2025 r. | G15: ………………………………………
B16: (główny ksiegowy) | D16: (rok, miesiąc, dzień) | G16: (kierownik jednostki)
A18: Sporządził: Jolanta Mazurek

Sheet Tabela 8.
A2: Tabela 8. Informacja o stanie rezerw
A4: Lp. | B4: Wyszczególnienie rodzajów rezerw według celu ich utworzenia | C4: Stan na początek okresu sprawozdawczego | D4: Zwiększenia w ciągu okresu sprawozdawczego | E4: Zmniejszenia w ciagu okresu sprawozdawczego | H4: Stan na koniec okresu sprawozdawczego (3 +4 -7)
E5: wykorzystanie | F5: rozwiązane (uznanie rezerw za zbędne) | G5: Zmniejszenia razem (5 + 8)
A6: 1 | B6: 2 | C6: 3 | D6: 4 | E6: 5 | F6: 6 | G6: 7 | H6: 8
A7: 1. | B7: nie wystepują | H7: =SUM(D7:G7) -> 0
A8: 2. | H8: =SUM(D8:G8) -> 0
A9: 3. | H9: =SUM(D9:G9) -> 0
A10: 4. | H10: =SUM(D10:G10) -> 0
A11: 5. | H11: =SUM(D11:G11) -> 0
H12: =SUM(D12:G12) -> 0
H13: =SUM(D13:G13) -> 0
B14: Ogółem: | C14: =C7+C8-C11 -> 0 | D14: =D7+D8-D11 -> 0 | E14: =E7+E8-E11 -> 0 | F14: =F7+F8-F11 -> 0 | G14: =G7+G8-G11 -> 0 | H14: =SUM(D14:G14) -> 0
B17: ……………………………… | C17: 24.03.2025 r. | G17: ………………………………………
B18: (główny ksiegowy) | C18: (rok, miesiąc, dzień) | G18: (kierownik jednostki)
A20: Sporządził: Jolanta Mazurek

Sheet Tabela 9.
A2: Tabela 9. Zobowiazania długoterminowe według okresu spłaty
A4: Lp. | B4: Wyszcegółowienie zobowiazań wg pozycji bilansu | C4: Okres wymagalności | I4: Razem
C5: powyżej 1 roku do 3 lat | E5: powyżej 3 lat do 5 lat | G5: powyżej 5 lat
C6: według stanu na:
C7: początek okresu sprawo-zdawczego | D7: koniec okresu sprawo-zdawczego | E7: początek okresu sprawo-zdawczego | F7: koniec okresu sprawo-zdawczego | G7: początek okresu sprawo- zdawczego | H7: koniec okresu sprawo-zdawczego | I7: początek okresu sprawo-zdawczego (3+5+7) | J7: koniec okresu sprawo-zdawczego (4+6+8)
A8: 1 | B8: 2 | C8: 3 | D8: 4 | E8: 5 | F8: 6 | G8: 7 | H8: 8 | I8: 9 | J8: 10
B9: nie występują
A16: x | B16: Ogółem: | C16: =C9+C10+C11+C12+C13+C14+C15 -> 0 | D16: =D9+D10+D11+D12+D13+D14+D15 -> 0 | E16: =E9+E10+E11+E12+E13+E14+E15 -> 0 | F16: =F9+F10+F11+F12+F13+F14+F15 -> 0 | G16: =G9+G10+G11+G12+G13+G14+G15 -> 0 | H16: =H9+H10+H11+H12+H13+H14+H15 -> 0 | I16: =I9+I10+I11+I12+I13+I14+I15 -> 0 | J16: =J9+J10+J11+J12+J13+J14+J15 -> 0
B19: ……………………………… | D19: 24.03.2025 r. | I19: ……………………………………………
B20: (główny ksiegowy) | D20: (rok, miesiąc, dzień) | I20: (kierownik jednostki)
A22: Sporządził: Jolanta Mazurek

Sheet Tabela 10.
A2: Tabela 10. Łączna kwota zobowiazań zabezpieczonych na majątku jednostki ze wskazaniem charakteru i formy zabezpieczeń
A4: Lp. | B4: Wyszczególnienie według rodzajów zobowiązań | C4: Kwota zobowiązania | D4: Wyszczególnienie według formy i charakteru zabezpieczenia | E4: Kwota zabezpieczenia
A6: 1 | B6: 2 | C6: 3 | D6: 4 | E6: 5
A7: 1. | B7: nie występują
A8: 2.
A9: 3.
A10: 4.
A11: 5.
A12: 6.
A13: 7.
A15: X | B15: Ogółem: | C15: =C7+C8+C9+C10+C11+C12+C13+C14 -> 0 | D15: X | E15: =E7+E8+E9+E10+E11+E12+E13+E14 -> 0
B18: ……………………………… | C18: 24.03.2025 r. | E18: ………………………………….
B19: (główny ksiegowy) | C19: (rok, miesiąc, dzień) | E19: (kierownik jednostki)
A21: Sporządził: Jolanta Mazurek

Sheet Tabela  11.
A3: Tabela 11. Zobowiązania warunkowe na dzień bilansowy
A5: Lp. | B5: Wyszczególnienie według rodzajów zobowiązań warunkowych | C5: Kwota zobowiązania warunkowego | D5: Wyszczególnienie według formy i charakteru zabezpieczenia zobowiazania warunkowego | E5: Kwota zabezpieczenia
A7: 1 | B7: 2 | C7: 3 | D7: 4 | E7: 5
A8: 1. | C8: 0 | E8: 0
A9: 2.
A10: 3.
A11: 4.
A12: 5.
A13: 6.
A15: X | B15: Ogółem: | C15: =SUM(C8:C14) -> 0 | D15: X | E15: =SUM(E8:E14) -> 0
B18: ……………………………… | C18: 24.03.2025 r. | E18: …………………………….
B19: (główny ksiegowy) | C19: (rok, miesiąc, dzień) | E19: (kierownik jednostki)
A21: Sporządził: Jolanta Mazurek

Sheet Tabela 12
A2: Tabela 12. Czynne i bierne rozliczenia międzyokresowe
A4: Lp. | B4: Wyszczególnienie według rodzaju rozliczeń miedzyokresowych | C4: Wartość rozliczeń miedzyokresowych według stanu na:
C5: początek okresu sprawozdawczego | D5: koniec okresu sprawozdawczego
A6: 1. | B6: Rozliczenia międzyokresowe czynne kosztów
A7: 1.1.
A8: 1.2.
A9: …
B10: Rozliczenia międzyokresowe czynne kosztów ogółem: | C10: =C7+C8+C9 -> 0 | D10: =D7+D8+D9 -> 0
A11: 2. | B11: Rozliczenia międzyokresowe czynne przychodów
A12: 2.1.
A13: 2.2.
A14: …
B15: Rozliczenia międzyokresowe czynne przychodów ogółem: | C15: =C12+C13+C14 -> 0 | D15: =D12+D13+D14 -> 0
A16: 3. | B16: Rozliczenia międzyokresowe bierne kosztów
A17: 3.1.
A18: 3.2.
A19: …
B20: Rozliczenia międzyokresowe bierne kosztów ogółem: | C20: =C17+C18+C19 -> 0 | D20: =D17+D18+D19 -> 0
A21: 4. | B21: Rozliczenia międzyokresowe bierne przychodów
A22: 4.1. | B22: Rata za rok 2025 z tyt.sprzedaży gruntów Powiatu | D22: 2400
A23: …
B24: Rozliczenia międzyokresowe bierne przychodów ogółem: | C24: =SUM(C21:C23) -> 0 | D24: =SUM(D21:D23) -> 2400
B27: ……………………………… 2025-03-24 | D27: ……………………………..
B28: (główny ksiegowy) (rok, miesiąc, dzień) | D28: (kierownik jednostki)
A30: Sporządził: Jolanta Mazurek

Sheet Tabela 13
A2: Tabela 13. Kwota otrzymanych gwarancji i poręczeń
A4: Lp. | B4: Wyszczegółowienie według rodzaju otrzymanych gwarancji i poręczeń | C4: Kwota otrzymanych przez jednostkę gwarancji i poręczeń niewykazanych w bilansie według stanu na: | E4: Kwota zobowiazań zabezpieczonych otrzymanymi (niewykazanymi w bilansie) gwarancjami i poręczeniami według stanu na:
C6: początek okresu sprawozdawczego | D6: koniec okresu sprawozdawczego | E6: początek okresu sprawozdawczego | F6: koniec okresu sprawozdawczego
A7: 1 | B7: 2 | C7: 3 | D7: 4 | E7: 5 | F7: 6
A8: 1.
A9: 2.
A10: 3.
A11: 4.
A12: 5.
A13: 6.
A14: 7.
A15: x | B15: Ogółem: | C15: =C8+C9+C10+C11+C12+C13+C14 -> 0 | D15: =D8+D9+D10+D11+D12+D13+D14 -> 0 | E15: =E8+E9+E10+E11+E12+E13+E14 -> 0 | F15: =F8+F9+F10+F11+F12+F13+F14 -> 0
B18: ……………………………… | C18: 24.03.2025 r. | E18: ……………………………………………
B19: (główny ksiegowy) | C19: (rok, miesiąc, dzień) | E19: (kierownik jednostki)
A21: Sporządził: Joanna Dembińska

Sheet tabela nr 14
A1: Tabela nr 14
A2: Kwotę wypłaconych środków pieniężnych na świadczenia pracownicze
A4: wykazane na koncie 405 - Ubezpieczenia społeczne i inne świadczenia
A6: Lp. | B6: Wyszczególnienie | C6: Stan na koniec roku
A7: 1. | B7: Świadczenia emerytalne (odprawy emerytalne) | C7: 41445 | I7: odpr.em.\
A8: 2. | B8: Nagrody jubileuszowe | C8: 150710.55 | I8: 31752
A9: 3. | B9: Koszty niewykorzystanych urlopów wraz ze składkami ZUS | C9: =+C10+C11 -> 6320.8205 | D9: =+D39 -> 5283.2 | E9: =+D9*0.1719 -> 908.18208 | F9: =+C10*2.45% -> 129.4384 | G9: 6652.86 | I9: 131766
B10: w tym ekwiwalent | C10: 5283.2 | D10: =+C10+C11-C9 -> 0 | I10: =+I8+I9 -> 163518
B11: składki od ekwiwalentu | C11: =+E9+F9 -> 1037.6205
A12: 4. | B12: Inne świadczenia: | C12: =+C13 -> 0 | D12: ekw.netto | E12: skł.ZUS | F12: razem
B13: w tym pozostałe odprawy
A17: Razem: | C17: =C7+C8+C9+C13 -> 198476.37 | D17: =+C17-E39 -> 36359.33
B24: …………………… | C24: ………………………..
B25: (główny ksiegowy) | C25: (kierownik jednostki)
B27: 24.03.2025 r.
B28: (rok, miesiąc, dzień)
B30: Symbol konta | C30: Nazwa konta analitycznego | D30: BO + Obroty narastające MA
A31: 1. | B31: 404 *****-401*-**-01*-***** | C31: zasadnicze | D31: 5986722.3 | F31: 1400 | G31: 59507.6
A32: 2. | B32: 404 *****-401*-**-02*-***** | C32: funkcyjne | D32: 397407.45 | F32: 9723.6 | G32: 48384
A33: 3. | B33: 404 *****-401*-**-03*-***** | C33: specjalne | D33: 243793.61 | F33: 11123.6
A34: 4. | B34: 404 *****-401*-**-04*-***** | C34: stazowe | D34: 1009477.1
A35: 5. | B35: 404 *****-401*-**-06*-***** | C35: nagrody | D35: 299950.8
A36: 6. | B36: 404 *****-401*-**-07*-***** | C36: wyn za czas choroby | D36: 86418.18
A37: 7. | B37: 404 *****-401*-**-08*-***** | C37: nagr.jubileuszowe | D37: 150710.55
A38: 8. | B38: 404 *****-401*-**-09*-***** | C38: odprawy | D38: 41445
A39: 9. | B39: 404 *****-401*-**-10*-***** | C39: ekw.za urlop | D39: 5283.2 | E39: 162117.04
B40: 404 *****-401*-**-11*-***** | C40: godziny nadliczbowe | D40: 0
B41: 404 *****-401*-**-12*-***** | C41: pozost.wynagrodzenia | D41: 1419.6
C42: Razem konto 404 | D42: 8998066.2

Sheet Tabela 15
A2: Tabela 15. Wysokość odpisów aktualizujących wartość zapasów
A4: Lp. | B4: Wyszcegółowienie według rodzaju zapasów | C4: Stan odpisów aktualizujacych na poczatek okresu sprawozdawczego | D4: Zwiększenia odpisów aktualizujacych w ciągu okresu sprawozdawczego | E4: Zmniejszenia odpisów aktualizujacych w ciągu okresu sprawozdawczego | H4: Stan odpisów aktualizujacych na koniec okresu sprawozdawczego (3+4-7)
E6: wykorzystanie | F6: rozwiazamnie odpisów aktualizujacych (uznanie odpisów za zbędne) | G6: zmniejszenia razem (5 + 6)
A8: 1 | B8: 2 | C8: 3 | D8: 4 | E8: 5 | F8: 6 | G8: 7 | H8: 8
B9: nie występują | G9: =E9+F9 -> 0 | H9: =C9+D9-G9 -> 0
G10: =E10+F10 -> 0 | H10: =C10+D10-G10 -> 0
G11: =E11+F11 -> 0 | H11: =C11+D11-G11 -> 0
G12: =E12+F12 -> 0 | H12: =C12+D12-G12 -> 0
G13: =E13+F13 -> 0 | H13: =C13+D13-G13 -> 0
G14: =E14+F14 -> 0 | H14: =C14+D14-G14 -> 0
G15: =E15+F15 -> 0 | H15: =C15+D15-G15 -> 0
A16: x | B16: Ogółem: | C16: =C9+C10+C11+C12+C13+C14+C15 -> 0 | D16: =D9+D10+D11+D12+D13+D14+D15 -> 0 | E16: =E9+E10+E11+E12+E13+E14+E15 -> 0 | F16: =F9+F10+F11+F12+F13+F14+F15 -> 0 | G16: =G9+G10+G11+G12+G13+G14+G15 -> 0 | H16: =H9+H10+H11+H12+H13+H14+H15 -> 0
B19: ……………………………… | D19: 24.03.2025 r. | G19: ……………………………..
B20: (główny ksiegowy) | D20: (rok, miesiąc, dzień) | G20: (kierownik jednostki)
A22: Sporządziła: Jolanta Mazurek

Sheet Tabela 16
A2: Tabela 16. Koszt wytworzenia środków trwałych w budowie
A4: Lp. | B4: Wyszczegółowienie | C4: Koszty wytworzenia poniesione w ciągu poprzednich okresów sprawozdawczych | F4: Koszty wytworzenia poniesione w ciagu bieżącego okresu sprawozdawczego
C5: ogółem | D5: w tym: | F5: ogółem | G5: w tym:
D6: odsetki | E6: różnice kursowe | G6: odsetki | H6: różnice kursowe
A7: 1 | B7: 2 | C7: 3 | D7: 4 | E7: 5 | F7: 6 | G7: 7 | H7: 8
A8: 1. | B8: Adaptacja pomieszczeń parteru - Gryf Areny | C8: 13050 | F8: 0 | G8: 0 | H8: 0
A10: x | B10: Ogółem: | C10: =SUM(C8:C9) -> 13050 | D10: =SUM(D8:D9) -> 0 | E10: =SUM(E8:E9) -> 0 | F10: =SUM(F8:F9) -> 0 | G10: =SUM(G8:G9) -> 0 | H10: =SUM(H8:H9) -> 0
B13: ……………………………… | D13: 24.03.2025 r. | G13: ……………………………..
B14: (główny ksiegowy) | D14: (rok, miesiąc, dzień) | G14: (kierownik jednostki)
A16: Sporządziła: Jolanta Mazurek

Sheet Tabela 17 - zg. z RZIS
A1: Tabela nr 17
A2: Kwota i charakter poszczególnych pozycji przychodów lub kosztów o nadzwyczajnej wartości lub które wystąpiły incydentalnie | J2: Syntetyka po wybranych cyfrach konta za okres 01-12 2024 rok dla jednostki 001-STAROSTWO POWIATOWE
I3: Strona : 1/1
A4: Pozostałe przychody operacyjne
I5: Symbol konta | J5: Nazwa konta analitycznego | K5: BO + Obroty narastające MA
A6: Lp. | B6: Treść | C6: 1.01.-31.12.2023 r. | D6: 1.01.-31.12.2024 r. | I6: 760 091 | J6: ROZWIĄZANIE REZERW AKTUALIZUJĄCYCH NALEŻNOŚCI | K6: 147.6
A7: 1. | B7: Zysk ze sprzedaży środków trwałych i wartości niematerialnych i prawnych | C7: 300239.6 | D7: 404044.3 | I7: 760 70005-0770-00-1 | J7: PP-PRZYCHODY ZE SPRZEDAŻY GRUNTÓW (W TYM ZABUDOWAN | K7: 403901.87
A8: 2. | B8: Zysk z likwidacji środków trwałych, inwestycji bez efektu gospodarczego | I8: 760 70005-0950-1 | J8: PP- WPŁYWY Z KAR I ODSZKODOWAŃ WYNIK. Z UMÓW | K8: 13
A9: 3. | B9: kary, grzywny, odszkodowania | C9: 83417.31 | D9: 25511.91 | I9: 760 70005-0970-03-1 | J9: OTRZYMANE ODSZKODOWANIA-NIERUCHOMOŚCI-POWIAT | K9: 17918.91
A10: 4. | B10: Wyegzekwowane odpisane należności | I10: 760 70005-0970-06-1 | J10: INNE POZOSTAŁE PRZYCHODY-GOSPOD.NIERUCHOM. | K10: 273.62 | L10: Korzyst.z nieruchom. (w tym bezumowne)
A11: 5. | B11: Darowizny środków trwałych | I11: 760 75020-0640-1 | J11: PP-ZWR.K.UPOMNIEŃ, K.EGZEK.I KOMORNICZYCH | K11: 96 | L11: =K11 -> 96
A12: 6. | B12: Darowizny środków pieniężnych i pozostałych środków obrotowych | D12: 9403.35 | I12: 760 75020-0970-02-1 | J12: PP-WYNAGRODZENIE PŁATNIKA-ZUS,US | K12: 1855.04
A13: 7. | B13: Rozwiązane odpisu aktualizującego wartość należności | C13: 0 | D13: 147.6 | I13: 760 75020-0970-04-1 | J13: PP-OTRZYMANE DAROWIZNY - NIEPIENIĘŻNE - NIEODPŁ.OT | K13: 9403.35 | L13: =K13 -> 9403.35
A14: 8. | B14: Niewykorzystane zgodnie z przeznaczeniem utworzone uprzednio rezerwy | I14: 760 75020-0970-06-1 | J14: PP-INNE POZOSTAŁE PRZYCHODY | K14: 14002.18 | L14: =T29 -> 1898.88 | M14: fiserv | N14: 11881.46 | O14: 104.11 | P14: 117.73 | Q14: =SUM(L14:P14) -> 14002.18 | R14: 1905.17 | T14: 42.39
A15: 9. | B15: Zwrot opłat sądowych, kosztów upomnień i innych wierzytelności | C15: 175.6 | D15: 96 | H15: =SUM(E15:G15) -> 0 | I15: 760 75020-0970-07-1 | J15: PP-KOREKTA ROCZNA PODATKU VAT NALICZONEGO | K15: 1470 | N15: osetki bank po.20 | O15: biuro rzezcy znal | P15: zarot kosz.zast.proces | R15: -1.59 | T15: 1.26
A16: 10. | B16: Korzyst.z nieruchom. (w tym bezumowne) | C16: 428.84 | D16: 273.62 | I16: 760 75020-0970-10-1 | J16: PP-"KOŃCÓWKI"VAT Z PORZUCENIA | K16: 1.61 | R16: -3.07 | T16: 22.98
A17: 11. | B17: Zwrot wydatków z lat ubiegłych | C17: 9938.9 | D17: 234.9 | I17: 760 75095-0870-1 | J17: PP- WPŁYWY ZE SPRZEDAŻY SKŁADNIKÓW MAJĄTKU | K17: 142.43 | L17: =K7+K17 -> 404044.3 | R17: -1.63 | T17: 650
A18: 12. | B18: Wynagrodzenie płatnika ZUS i podatków dochodowych | C18: 3378.18 | D18: 1855.04 | I18: 760 92601-0940-1 | J18: PP-ZWROT WYDATKÓW Z LAT UBIEGŁYCH-HALA | K18: 234.9 | L18: =K18 -> 234.9 | R18: =SUM(R14:R17) -> 1898.88 | T18: 1.32
A19: 13. | B19: Opłata za korzystanie z terminala płatniczego i opłata akceptanta -uiszczona przez Fundację Polska Bezgotówkowa | C19: 697.52 | D19: 1898.88 | H19: =+E17+F17 -> 0 | I19: 760 92601-0950-1 | J19: PP-KARY I ODSZKODOWANIA WYNIKAJĄCE Z UMÓW - HALA S | K19: 7580 | L19: =K8+K9+K19 -> 25511.91 | R19: =+K14-R18 -> 12103.3 | T19: 11.59
A20: 14. | B20: Korekta roczna odliczonego podatku VAT | D20: 1470 | I20: 760 92605-0970-06-1 | J20: PP - INNE POZOSTAŁE PRZYCHODY | K20: 30350 | L20: wpłaty sponsorów | R20: 11881.46 | T20: 7.01
A21: 15. | B21: "Końcówki " VAT | C21: 3.35 | D21: 1.61 | J21: Razem konto 760 | K21: 487390.51 | R21: =+R19-R20 -> 221.84 | T21: 1.06
A22: 16. | B22: Zwrot kosztów używania samochodu służbowego do celów prywatnych | T22: 1.67
A23: 17. | B23: Wpłaty sponsorów na imprezy organizowane przez Powiat | C23: 19300 | D23: 30350 | R23: 104.11 | T23: 590
A24: 18. | B24: zwrot części kosztów zastępstwa procesoweg (dot. Sk.P.) | D24: 117.73 | R24: 117.73 | T24: 62.4
A25: 19. | B25: Gotówka z Biura rzeczy znalezionych | C25: 480.22 | D25: 104.11 | R25: =SUM(R23:R24) -> 221.84 | T25: 74.3
A26: 20. | B26: Odsetki bankowe od konta sum depozytowych - inne niż należne kontrahentom od wadiów i zabezpieczeń nal. wyk.umowy | C26: 0 | D26: 11881.46 | R26: =+R25-R21 -> 0 | T26: 225.32
A27: RAZEM | C27: =SUM(C7:C26) -> 418059.52 | D27: =SUM(D7:D26) -> 487390.51 | E27: 417839.54 | F27: =+D27-E27 -> 69550.97 | I27: =+D27-K21 -> 0 | T27: 207.58
A29: Pozostałe koszty operacyjne | T29: =SUM(T14:T28) -> 1898.88 | U29: =+T29-R18 -> 0
A31: Lp. | B31: Tytuł | C31: 1.01.-31.12.2023 r. | D31: 1.01.-31.12.2024 r.
A32: 1 | B32: Strata ze sprzedaży środków trwałych i wartości niematerialnych i prawnych
A33: 2 | B33: Starta z likwidacji środków trwałych
A34: 3 | B34: Nieplanowane odpisy środków trwałych, wartości niematerialnych i prawnych, które utraciły swoją przydatność
A35: 4 | B35: Wartość środków trwałych w budowie bez efektu gospodarczego
A36: 5 | B36: Wartość środków trwałych w budowie przekazanych nieodpłatnie
A37: 6 | B37: Odpisanie kosztów zaniechanej lub niepodjętej produkcji | I37: 761 081 | J37: PK-UMORZENIE NALEŻNOŚCI | K37: 0
A38: 7 | B38: Odpisy aktualizujące (obniżające) wartość zapasów rzeczowych składników majątku obrotowego | I38: 761 091 | J38: PK-ODPISY AKTUALIZUJĄCE NALEŻNOŚCI | K38: 16
A39: 8 | B39: Różnice wycen bilansowych środków trwałych | I39: 761 70005-4610-08-2 | J39: PK-K.EGZEK.NALEŻ.GOSPOD.NIERUCH.SK.PAŃSTWA | K39: 1822.26
A40: 9 | B40: Odpisane należności przedawnione, umorzone i nieściągalne | C40: 10000 | D40: 0 | I40: 761 75020-3020-1 | J40: ODSZKODOWANIA - DOT. PRACY | K40: 19736.36 | L40: =K40 -> 19736.36
A41: 10 | B41: Przekazane darowizny rzeczowe i finansowe | I41: 761 75020-4530-1 | J41: PK-"KOŃCÓWKI"VAT | K41: 3.03
A42: 11 | B42: Niezawinione niedobory składników majątku obrotowego | I42: 761 75020-4610-08-1 | J42: PK-KOSZTY EGZEKUCJI NALEŻN.-STAROSTWO-WŁASNE | K42: 4031 | L42: =K39+K42 -> 5853.26
A43: 12 | B43: Niezawinione niedobory środków trwałych | I43: 761 75095-2957-1 | J43: ZWROT NIEWYKORZYSTAEJ DOTACJI-CYFR.POW.,SWP | K43: 3571.2
A44: 13 | B44: Koszty postępowania spornego i egzekucyjnego | C44: 18973.42 | D44: 5853.26 | E44: 9007 | F44: 1900 | G44: =+E44+F44 -> 10907 | I44: 761 85395-2957-1 | J44: PK- ZWROT DOTACJI - DOSTĘPNY SAMORZĄD | K44: 5183.22
A45: 14 | B45: Odpisy aktualizacyjne z tytułu niedoborów składników majątku obrotowego | C45: 33417.2 | D45: 16 | I45: 761 85395-2959-1 | J45: PK - ZWROT NIEWYKORZYSTANEJ DOTACJI - DOSTĘPNY SAM | K45: 966.78 | L45: =SUM(K43:K45) -> 9721.2
A46: 15 | B46: Odpisy aktualizujące wartość należności wątpliwych i nieściągalnych | C46: 0 | D46: 0 | J46: Razem konto 761 | K46: 35329.85
A47: 16 | B47: Składki na rzecz organizacji społecznych
A48: 17 | B48: Trwała utrata wartości z tyt. ostrożnej wyceny
A49: a | B49: towary
A50: b | B50: materiały
A51: c | B51: środki trwałe
A52: 18 | B52: Umorzone grzywny z WUAIB i należności z tyt.kosztów upomnienia | H52: =+#REF!-E44-F44-G44 -> #REF!
A53: 19 | B53: Zapłacone kary i odszkodowania | C53: 8043.51 | D53: 19736.36 | E53: 4030 | F53: 16272 | G53: =+D58-E53-F53 -> -20302
A54: 20 | B54: końcówki VAT - koszty | C54: 3.48 | D54: 3.03
A55: 21 | B55: Korekta roczna odliczonego podatku VAT | C55: 14040.78 | D55: 0
A56: 22 | B56: Zwroty dotacji i subwencji | C56: 44770.82 | D56: 9721.2
A57: 23 | B57: Koszty upomnień | C57: 0
A58: 24 | B58: Kara za niedotr.termonu zawarcia umowy dostawy energii elektr. -CUP | C58: 0
A59: RAZEM | C59: =SUM(C32:C58) -> 129249.21 | D59: =SUM(D32:D58) -> 35329.85 | E59: 96483.78 | F59: =+D59-E59 -> -61153.93
B61: …………… | C61: 24.03.2025 r. | D61: ……………………
B62: (główny księgowy) | C62: (rok miesiąc, dzień) | D62: (kierownik jednostki)

Sheet Tabela 18 
B2: tabela 18 - Innne informacje - Wydatki poniesione przez Starostwa w związku z wojną na Ukrainie
B4: Lp. | C4: Tytuł | D4: 1.01.-31.12.2024 r.
B5: 1 | C5: Koszt orzeczeń o niepełnosprawności itp. dla obywateli Ukrainy (finansowane z Funduszu Pomocy) | D5: 6165
B6: 2 | C6: Dotacje dla uczniów z Ukrainy w szkołach niepublicznych Powiatu gryfickiego | D6: 72067.04
B8: RAZEM | D8: =SUM(D5:D7) -> 78232.04
C11: …………………….. 2025-03-24 | D11: ……………………
C12: (główny księowy) (rok miesiąc, dzień) | D12: (kierownik jednostki)

Sheet Tabela 19
B1: Tabela 19
B2: Uszczególowienie pozycji z Bilansu Pozostałe należności (aktywa poz. B.II.4)
B4: Lp. | C4: Tytuł | D4: 1.01.-31.12.2024 r.
B5: 1 | C5: Rozrachunki z tytułu udzielonych dotacji dla szkól niepublicznych, dla których na dzień 31.12.2024r. nie zakończył proces uznania za rozliczoną (kontrola wykonania trwa) | D5: 16458223
B6: 2 | C6: Rozrachunki z pracownikami z tytułu pożyczek mieszkaniowych z ZFŚS | D6: 55285
B7: 3. | C7: Kaucje za butle z wodą w dystrybutorach | D7: 396
B8: 3. | C8: Zasilenie rachunku bankowego dochodów Skarbu Państwa z tytułu odprowadzoego do urzędu skarbowego, a nie zapłąconego przez dłużników podatku VAT | D8: 18555.79
B13: RAZEM | D13: =SUM(D5:D12) -> 16532460
C16: …………………….. 2025-03-24 | D16: ……………………
C17: (główny księowy) (rok miesiąc, dzień) | D17: (kierownik jednostki)

Sheet Arkusz2
