Workbook
Name OLE_LINK1: 'Dane STAROSTWO'!$B$63

Sheet Dane  STAROSTWO
A2: Sprawozdanie finansowe za rok 2025 rok
A4: I. Wprowadzenie do sprawozdania finansowego.
A5: 1.
A6: 1.1. | B6: Nazwa Jednostki | C6: Starostwo Powiatowe w Gryficach
A7: 1.2. | B7: Siedziba jednostki | C7: Gryfice Pl. Zwycięstwa 37
A8: 1.3. | B8: Adres jednostki | C8: Gryfice Pl. Zwycięstwa 37
A9: 1.4. | B9: Podstawowy przedmiot działalności jednostki | C9: Ustawa z dnia 5 czerwca 1998r. o samorządzie powiatowym
A18: 2. | B18: Wskazanie okresu objętego sprawozdaniem
B19: od 01.01.2025 r. do 31.12.2025 r.
A20: 3. | B20: wskazanie, że sprawozdanie finansowe zawiera dane łączne, jeżeli w skład jednostki nadrzędnej lub jednostki samorządu terytorialnego wchodzą jednostki sporządzające samodzielne sprawozdania finansowe
B21: Sprawozdanie nie zawiera danych łącznych
A22: 4. | B22: omówienie przyjętych zasad (polityki) rachunkowości, w tym metod wyceny aktywów i pasywów (także amortyzacji)
A23: 4. | B23: Aktywa i pasywa wyceniane są przy uwzględnianiu nadrzędnych zasad rachunkowości, w sposób przewidziany ustawą o rachunkowości i rozporzadzeniem Ministra Rozwoju i Finansow w sprawie szczegółowych zasad rachunkowości oraz planu kont dla budżetu państwa , budżetów jednostek samorządu terytorialnego........ 1) Za środki trwałe uważa się przedmioty o przewidywanym okresie użytkowania dłuższym niż jeden rok i o wartości poczatkowej od 5.000,00 zł. 2)Środki trwałe o wartości początkowej od 5.000,00 zł do 9.999,99 zł uważa się za pozostałe srodki trwałe w użytkowaniu stosując jednorazowe umorzenie 100% ich wartości w miesiącu oddania do użytkowania w ciężar kosztów bieżącej działalności- podlegają one ewidencji ilościowo-wartościowej. Wydatki poniesione na ich zakup badź wytworzenie stanowią wydatki bieżące. 3)Środki trwałe o wartości początkowej równej 10.000,00 zł lub większej umarza się lub amortyzuje stosując metodę liniową. 4) Przedmioty o wartości początkowej od 300 do 4.999,99 zł nie kwalifikuje się jako środki trwałe, uważa się je za wyposażenie stanowisk pracy i dla celów księgowych uważa za zużyte w momencie oddania do użytkowania. Podlegają ewidencji ilościowej. 5) Przedmioty o wartości poczatkowej poniżej 300,00 zł stanowiące wyposażenie odnoszone są w koszty bieżącej działalnosci w momencie zakupu, uważa się za zużyte z datą oddania do użytkowania i nie podlegają inwentaryzacji. 6) Do ewidencji i wyceny wartości niematerialnych i prawnych stosuje sią zasady jak dla środkow trwałych. Na potrzeby ustalenia stawek amortyzacyjnych jako okres ich użytkowania przyjmuje się minimalny czas dokonywania odpisów amortyzacyjnych przewidziany przepisami ustawy o podatku dochodowym od osob prawnych. 7) Materiały wycenia się z chwilą nabycia w cenach zakupu i odpisuje się w koszty na dzień ich zakupu. 8) Na dzień bilansowy środki trwale ( z wyjatkiem gruntów) wycenia się w wartosci netto, tj. z uwzglednieniem odpisów umorzeniowych ustalonych na dzień bilansowy.
A24: 5. | B24: inne informacje
A27: II | B27: Dodatkowe informacje i objaśnienia:
A28: 1.
A29: 1.1. | B29: szczegółowy zakres zmian wartości grup rodzajowych środków trwałych, wartości niematerialnych i prawnych, zawierający stan tych aktywów na początek roku obrotowego, zwiększenia i zmniejszenia z tytułu: aktualizacji wartości, nabycia, rozchodu, przemieszczenia wewnętrznego oraz stan końcowy, a dla majątku amortyzowanego - podobne przedstawienie stanów i tytułów zmian dotychczasowej amortyzacji lub umorzenia
B30: tabela nr 1 , nr 2
A31: 1.2. | B31: aktualną wartość rynkową środków trwałych, w tym dóbr kultury - o ile jednostka dysponuje takimi informacjami
B32: Suma ubezpieczeniowa z polisy ubezpieczeniowej- 18.907.030,95 zł
A33: 1.3 | B33: kwotę dokonanych w trakcie roku obrotowego odpisów aktualizujących wartość aktywów trwałych odrębnie dla długoterminowych aktywów niefinansowych oraz długoterminowych aktywów finansowych
B34: tabela nr 3
A35: 1.4 | B35: wartość gruntów użytkowanych wieczyście
B36: tabela nr 4
A37: 1.5 | B37: wartość nieamortyzowanych lub nieumarzanych przez jednostkę środków trwałych, używanych na podstawie umów najmu, dzierżawy i innych umów, w tym z tytułu umów leasingu
B38: tabela nr 5
A39: 1.6 | B39: liczbę oraz wartość posiadanych papierów wartościowych, w tym akcji i udziałów oraz dłużnych papierów wartościowych
B40: nie dotyczy
A41: 1.7 | B41: dane o odpisach aktualizujacych wartość należnosci, ze wskazaniem stanu na poczatek roku obrotowego, zwiekszeniachm, wykorzystaniu, rozwiazaniu i stanie na koniec roku obrotowego, z uwzglednieniem naleznosci finansowych jednostek samorządu terytorialnego (stan pożyczek zagrozonych)
B42: tabela nr 7
A43: 1.8 | B43: dane o stanie rezerw według celu ich utworzenia na początek roku obrotowego, zwiększeniach wykorzystaniu, rozwiązaniu i stanie końcowym
B44: tabela nr 8 | C44: nie wystepują
A45: 1.9 | B45: podział zobowiązań długoterminowych według pozycji bilansu o pozostałym od dnia bilansowego, przewidywanym umową lub wynikającym z innego tytułu prawnego, okresie spłaty:
B46: a) powyżej 1 roku do 3 lat
B47: b) powyżej 3 do 5 lat
B48: c) powyżej 5 lat
B49: tabela nr 9
A50: 1.10 | B50: kwotę zobowiązań w sytuacji gdy jednostka kwalifikuje umowy leasingu zgodnie z przepisami podatkowymi (leasing operacyjny), a według przepisów o rachunkowości byłby to leasing finansowy lub zwrotny z podziałem na kwotę zobowiązań z tytułu leasingu finansowego lub leasingu zwrotnego
B51: nie występują
A52: 1.11 | B52: łączną kwotę zobowiązań zabezpieczonych na majątku jednostki ze wskazaniem charakteru i formy tych zabezpieczeń
...

Sheet Tabela 1 
A1: Tabela 1. Zmiany stanu wartości początkowej wartości niematerialnych i prawnych oraz rzeczowych aktywow trwałych
A2: Lp. | B2: Wyszczególnienie | C2: Wartość poczatkowa - Stan na początek okresu sprawozdaw-czego | D2: Zwiększenia | I2: Zmniejszenia | O2: Wartość poczatkowa - Stan na koniec okresu sprawozdaw-czego
D3: nabycie | E3: przemieszczenia wewnętrzne | F3: aktualizacja | G3: inne zwiekszenia | H3: zwiększenia ogółem | I3: zbycie | J3: likwidacja | K3: przemieszczenia wewnętrzne | L3: aktualizacja | M3: inne zmniejszenia | N3: zmniejszenia ogółem
A4: 1 | B4: 2 | C4: 3 | D4: 4 | E4: 5 | F4: 6 | G4: 7 | H4: 8 | I4: 9 | J4: 10 | K4: 11 | L4: 12 | M4: 13 | N4: 14 | O4: 15
A5: I. | B5: Razem wartości niematerialne i prawne | C5: 528657.65 | D5: =D6+D7 -> 27044.01 | E5: =E6+E7 -> 0 | F5: =F6+F7 -> 0 | G5: =G6+G7 -> 0 | H5: =D5+E5+F5+G5 -> 27044.01 | I5: =I6+I7 -> 0 | J5: =J6+J7 -> 0 | K5: =K6+K7 -> 0 | L5: =L6+L7 -> 0 | M5: =M6+M7 -> 0 | N5: =I5+J5+K5+L5+M5 -> 0 | O5: =C5+H5-N5 -> 555701.66
A6: 1.1. | B6: Licencje i prawa autorskie dotyczace oprogramowania komputerowego | C6: 528657.65 | D6: 27044.01 | E6: 0 | F6: 0 | G6: 0 | H6: =D6+E6+F6+G6 -> 27044.01 | I6: 0 | J6: 0 | K6: 0 | L6: 0 | M6: 0 | N6: =I6+J6+K6+L6+M6 -> 0 | O6: =C6+H6-N6 -> 555701.66
A7: 1.2. | B7: Pozostale wartości niematerialne i prawne | C7: 0 | D7: 0 | E7: 0 | F7: 0 | G7: 0 | H7: 0 | I7: 0 | J7: 0 | K7: 0 | L7: 0 | M7: 0 | N7: =I7+J7+K7+L7+M7 -> 0 | O7: =C7+H7-N7 -> 0
A8: II. | B8: Razem rzeczowe aktywa trwałe | C8: =C9+C16 -> 34061170 | D8: =D9+D16 -> 1597109.1 | E8: =E9+E16 -> 0 | F8: =F9+F16 -> 0 | G8: =G9+G16 -> 2971185.1 | H8: =H9+H16 -> 4568294.3 | I8: =I9+I16 -> 2037254.5 | J8: =J9+J16 -> 167554.15 | ... N8: =N9+N16 -> 3334478.5 | O8: =C8+H8-N8 -> 35294986
A9: 2. | B9: Razem środki trwałe | C9: =C10+C12+C13+C14+C15 -> 34048120 | D9: =SUM(D10:D15) -> 1034390.1 | E9: =SUM(E10:E15) -> 0 | F9: =SUM(F10:F15) -> 0 | G9: =SUM(G10:G15) -> 2971185.1 | H9: =H10+H12+H13+H14+H15 -> 4005575.2 | I9: =SUM(I10:I15) -> 2037254.5 | J9: =J10+J12+J13+J14+J15 -> 167554.15 | K9: =K10+K12+K13+K14+K15 -> 0 | L9: =L10+L12+L13+L14+L15 -> 0 | M9: =M10+M12+M13+M14+M15 -> 1129669.8 | N9: =N10+N12+N13+N14+N15 -> 3334478.5 | O9: =C9+H9-N9 -> 34719217
A10: 2.1. | B10: Grunty, w tym: | C10: 4013727.7 | D10: 0 | E10: 0 | G10: 1473601.1 | H10: =D10+E10+F10+G10 -> 1473601.1 | I10: =1463901.06+143350.98 -> 1607252 | M10: 35834.79 | N10: =I10+J10+K10+L10+M10 -> 1643086.8 | O10: =C10+H10-N10 -> 3844241.9
A11: 2.1.1. | B11: Grunty stanowiące własność jednostki samorządu terytorialnego przekazane w użytkowanie wieczyste innym podmiotom | C11: 5500 | H11: =D11+E11+F11+G11 -> 0 | N11: =I11+J11+K11+L11+M11 -> 0 | O11: =C11+H11-N11 -> 5500
A12: 2.2. | B12: Budynki, lokale i obiekty inżynierii lądowej i wodnej | C12: =15894920.31+11525509.5 -> 27420430 | G12: 371978.61 | H12: =D12+E12+F12+G12 -> 371978.61 | I12: 371978.61 | M12: 946157.53 | N12: =SUM(I12:M12) -> 1318136.1 | O12: =C12+H12-N12 -> 26474272
A13: 2.3. | B13: Urządzenia techniczne i maszyny | C13: =15529.12+487744.75+44287.99+647353.03 -> 1194914.9 | D13: 245716 | G13: =12739.9+40000+5284 -> 58023.9 | H13: =D13+E13+F13+G13 -> 303739.9 | I13: 58023.9 | J13: =23487.24+6765+128703.9 -> 158956.14 | M13: =30750 -> 30750 | N13: =SUM(I13:M13) -> 247730.04 | O13: =C13+H13-N13 -> 1250924.8
A14: 2.4. | B14: Środki transportu | C14: 373739.7 | D14: 409272.46 | G14: 62990 | H14: =D14+E14+F14+G14 -> 472262.46 | M14: 82201 | N14: =I14+J14+K14+L14+M14 -> 82201 | O14: =C14+H14-N14 -> 763801.16
A15: 2.5. | B15: Inne środki trwałe | C15: 1045308.3 | D15: 379401.66 | G15: 1004591.6 | H15: =D15+E15+F15+G15 -> 1383993.2 | J15: 8598.01 | M15: 34726.43 | N15: =I15+J15+K15+L15+M15 -> 43324.44 | O15: =C15+H15-N15 -> 2385977
A16: 3. | B16: Środki trwałe w budowie (inwestycje) | C16: 13050 | D16: 562719.03 | H16: =D16+E16+F16+G16 -> 562719.03 | N16: =I16+J16+K16+L16+M16 -> 0 | O16: =C16+H16-N16 -> 575769.03
A17: 4. | B17: Zaliczki na środki trwałe w budowie (inwestycje) | C17: 0 | H17: =D17+E17+F17+G17 -> 0 | N17: =I17+J17+K17+L17+M17 -> 0 | O17: =C17+H17-N17 -> 0
J18: różnica prze.wewn. | K18: =+K8-E8 -> 0
B20: ……………………………… | G20: 45741 | L20: ……………………………………………
B21: (główny ksiegowy) | G21: (rok, miesiąc, dzień) | L21: (kierownik jednostki)
A23: Sporządził: Jolanta Mazurek

Sheet Tabela 2
A1: Tabela 2. Zmiany stanu umorzenia/amortyzacji wartości niematerialnych i prawnych oraz rzeczowych aktywów trwałych
A2: Lp. | B2: Wyszczególnienie | C2: Umorzenie - Stan na początek okresu sprawozdaw-czego | D2: Zwiększenia | H2: Zmniejszenia | L2: Umorzenie - Stan na koniec okresu sprawozdaw-czego | M2: Wartość netto składników aktywów | P2: =31614.34+490990.79 -> 522605.13
D3: amortyzacja/ umorzenie za okres sprawozda-wczy | E3: aktualiza-cja | F3: inne zwiększenia | G3: zwiększenia ogółem | H3: dotyczące zbytych składników | I3: dotyczące zlikwidowa-nych składników | J3: inne zmniejszenia | K3: zmniejszenia ogółem | M3: Wartość netto na początek okresu | N3: Wartość netto na koniec okresu
A4: 1 | B4: 2 | C4: 3 | D4: 4 | E4: 5 | F4: 6 | G4: 7 | H4: 8 | I4: 9 | J4: 10 | K4: 11 | L4: 12 | M4: 13 | N4: 14
A5: I. | B5: Razem wartości niematerialne i prawne | C5: =C6+C7 -> 522605.13 | D5: =D6+D7 -> 13940.25 | E5: =E6+E7 -> 0 | F5: =F6+F7 -> 0 | G5: =D5+E5+F5 -> 13940.25 | H5: =H6+H7 -> 0 | I5: =I6+I7 -> 0 | J5: =J6+J7 -> 0 | K5: =H5+I5+J5 -> 0 | L5: =C5+G5-K5 -> 536545.38 | M5: ='Tabela 1 '!C5-'Tabela 2'!C5 -> 6052.52 | N5: ='Tabela 1 '!O5-'Tabela 2'!L5 -> 19156.28 | O5: =484938.36+31614.34 -> 516552.7 | P5: =+L5-O5 -> 19992.68
A6: 1.1. | B6: Licencje i prawa autorskie dotyczace oprogramowania komputerowego | C6: 522605.13 | D6: 13940.25 | G6: =D6+E6+F6 -> 13940.25 | I6: 0 | K6: =H6+I6+J6 -> 0 | L6: =C6+G6-K6 -> 536545.38 | M6: ='Tabela 1 '!C6-'Tabela 2'!C6 -> 6052.52 | N6: ='Tabela 1 '!O6-'Tabela 2'!L6 -> 19156.28
A7: 1.2. | B7: Pozostale wartości niematerialne i prawne | C7: 0 | G7: =D7+E7+F7 -> 0 | K7: =H7+I7+J7 -> 0 | L7: =C7+G7-K7 -> 0 | M7: ='Tabela 1 '!C7-'Tabela 2'!C7 -> 0 | N7: ='Tabela 1 '!O7-'Tabela 2'!L7 -> 0
A8: II. | B8: Razem rzeczowe aktywa trwałe | C8: 14145107 | D8: =D9+D16+D17 -> 942007.76 | E8: =E9+E16+E17 -> 0 | F8: =F9+F16+F17 -> 1639302.9 | G8: =D8+E8+F8 -> 2581310.6 | H8: =H9+H16+H17 -> 0 | I8: =I9+I16+I17 -> 239678.69 | J8: =J9+J16+J17 -> 818263.34 | K8: =H8+I8+J8 -> 1057942 | L8: =C8+G8-K8 -> 15668475 | M8: ='Tabela 1 '!C8-'Tabela 2'!C8 -> 19916064 | N8: ='Tabela 1 '!O8-'Tabela 2'!L8 -> 19626511 | O8: 19626511 | P8: =N8-O8 -> 0
A9: 2. | B9: Razem środki trwałe | C9: =SUM(C12:C15) -> 14145107 | D9: =SUM(D11:D15) -> 942007.76 | E9: =SUM(E11:E15) -> 0 | F9: =SUM(F11:F15) -> 1639302.9 | G9: =G10+G11+G12+G14+G15+G13 -> 2581310.6 | H9: =H10+H11+H12+H14+H15+H13 -> 0 | I9: =I10+I11+I12+I14+I15+I13 -> 239678.69 | J9: =J10+J11+J12+J14+J15+J13 -> 818263.34 | K9: =K10+K11+K12+K14+K15+K13 -> 1057942 | L9: =L10+L11+L12+L14+L15+L13 -> 15668475 | M9: ='Tabela 1 '!C9-'Tabela 2'!C9 -> 19903014 | N9: ='Tabela 1 '!O9-'Tabela 2'!L9 -> 19050742
A10: 2.1. | B10: Grunty, w tym: | C10: 0 | G10: =D10+E10+F10 -> 0 | K10: =H10+I10+J10 -> 0 | L10: =C10+G10-K10 -> 0 | M10: ='Tabela 1 '!C10-'Tabela 2'!C10 -> 4013727.7 | N10: ='Tabela 1 '!O10-'Tabela 2'!L10 -> 3844241.9
A11: 2.1.1. | B11: Grunty stanowiące własność jednostki samorządu terytorialnego przekazane w użytkowanie wieczyste innym podmiotom | C11: 0 | G11: =D11+E11+F11 -> 0 | K11: =H11+I11+J11 -> 0 | L11: =C11+G11-K11 -> 0 | M11: ='Tabela 1 '!C11-'Tabela 2'!C11 -> 5500 | N11: ='Tabela 1 '!O11-'Tabela 2'!L11 -> 5500
A12: 2.2. | B12: Budynki, lokale i obiekty inżynierii lądowej i wodnej | C12: 11758585 | D12: =388499.88+462487.05 -> 850986.93 | F12: =335128.21+469.2+30816+4481.7 -> 370895.11 | G12: =D12+E12+F12 -> 1221882 | J12: 701335.91 | K12: =H12+I12+J12 -> 701335.91 | L12: =C12+G12-K12 -> 12279131 | M12: ='Tabela 1 '!C12-'Tabela 2'!C12 -> 15661845 | N12: ='Tabela 1 '!O12-'Tabela 2'!L12 -> 14195141
A13: 2.3. | B13: Urządzenia techniczne i maszyny | C13: 1065619.5 | D13: =3280.38+14295.12+19298.64 -> 36874.14 | F13: =12739.9+16800.32+16800.32+5284 -> 51624.54 | G13: =D13+E13+F13 -> 88498.68 | I13: =46340.54+23487.24+6765+154487.9 -> 231080.68 | K13: =H13+I13+J13 -> 231080.68 | L13: =C13+G13-K13 -> 923037.54 | M13: ='Tabela 1 '!C13-'Tabela 2'!C13 -> 129295.35 | N13: ='Tabela 1 '!O13-'Tabela 2'!L13 -> 327887.21
A14: 2.4. | B14: Środki transportu | C14: 354719.45 | D14: 31116.75 | F14: 62990 | G14: =D14+E14+F14 -> 94106.75 | J14: 82201 | K14: =H14+I14+J14 -> 82201 | L14: =C14+G14-K14 -> 366625.2 | M14: ='Tabela 1 '!C14-'Tabela 2'!C14 -> 19020.25 | N14: ='Tabela 1 '!O14-'Tabela 2'!L14 -> 397175.96
A15: 2.5. | B15: Inne środki trwałe | C15: 966182.79 | D15: =23029.94 -> 23029.94 | F15: 1153793.2 | G15: =D15+E15+F15 -> 1176823.1 | I15: 8598.01 | J15: =34726.43 -> 34726.43 | K15: =H15+I15+J15 -> 43324.44 | L15: =C15+G15-K15 -> 2099681.5 | M15: ='Tabela 1 '!C15-'Tabela 2'!C15 -> 79125.48 | N15: ='Tabela 1 '!O15-'Tabela 2'!L15 -> 286295.54
A16: 3. | B16: Środki trwałe w budowie (inwestycje) | C16: 0 | G16: =D16+E16+F16 -> 0 | K16: =H16+I16+J16 -> 0 | L16: =C16+G16-K16 -> 0 | M16: ='Tabela 1 '!C16-'Tabela 2'!C16 -> 13050 | N16: ='Tabela 1 '!O16-'Tabela 2'!L16 -> 575769.03
A17: 4. | B17: Zaliczki na środki trwałe w budowie (inwestycje) | C17: 0 | G17: =D17+E17+F17 -> 0 | K17: =H17+I17+J17 -> 0 | L17: =C17+G17-K17 -> 0 | M17: ='Tabela 1 '!C17-'Tabela 2'!C17 -> 0 | N17: ='Tabela 1 '!O17-'Tabela 2'!L17 -> 0
B20: ……………………………… | E20: 25.03.2026 r. | L20: ……………………………………………
B21: (główny ksiegowy) | E21: (rok, miesiąc, dzień) | L21: (kierownik jednostki)
A23: Sporządził: Jolanta Mazurek

Sheet Tabela 3.
A2: Tabela 3. Odpisy aktualizujace wartość aktywów trwałych
A4: Lp. | B4: Wyszczególnienie | C4: Stan odpisow aktualizujących na poczatek okresu sprawozdawczego | D4: Zwiększenia odpisow aktualizujących w ciągu okresu sprawozdawczego | E4: Zmiększenia odpisow aktualizujących w ciągu okresu sprawozdawczego | F4: Stan odpisow aktualizujacych na koniec okresu sprawozdawczego (4+5-6)
A6: 1 | B6: 2 | C6: 4 | D6: 5 | E6: 6 | F6: 7
A7: 1. | B7: Wartosci niematerialne i prawne
A8: 2. | B8: Srodki trwałe
A9: 3. | B9: Środki trwale w budowie (inwestycje)
A10: 4. | B10: zaliczki naśrodki trwale w budowie (inwestycje)
A11: 5. | B11: Razem długoterminowe aktywa finansowe
A12: 5.1. | B12: Akcje i udziały
A13: 5.2. | B13: Inne papiery wartościowe
A14: 5.3. | B14: Inne długoterminowe aktywa finansowe
A15: X | B15: Ogółem (1 + 2 + 3 + 4 + 5) | C15: 0 | F15: 0
B18: ……………………………… | C18: 25.03.2026 r. | E18: ………………………………………
B19: (główny ksiegowy) | C19: (rok, miesiąc, dzień) | E19: (kierownik jednostki)
A21: Sporządził: Jolanta Mazurek

Sheet Tabela 4.
A2: Tabela 4. Zmiany w stanie gruntów użytkowanych wieczyście
A4: Lp. | B4: Lokalizacja i numer dzialki | C4: Wyszczególnienie gruntów uzytkowanych wieczyście - dane identyfikujace grunt | D4: Wartość gruntów uzytkowanych wieczyście - Stan na poczatek okresu sprawozdawczego | E4: Zwiększenia wartości gruntów uzytkowanych wieczyście - Stan w ciagu okresu sprawozdawczego | F4: Zmniejszenia wartości gruntów uzytkowanych wieczyście - Stan w ciagu okresu sprawozdawczego | G4: Stan wartości gruntów użytkowanych wieczyście na koniec okresu sprawozdawczego (4+5-6)
A6: 1 | B6: 2 | C6: 3 | D6: 4 | E6: 5 | F6: 6 | G6: 7
A7: 1. | C7: Powierzchnia (m2 ) | D7: 0 | G7: 0
C8: Wartość (zł) | D8: 0 | G8: 0
A9: 2. | C9: Powierzchnia (m2 )
C10: Wartość (zł)
A11: 3. | C11: Powierzchnia (m2 )
C12: Wartość (zł)
A13: 4. | C13: Powierzchnia (m2 )
C14: Wartość (zł)
A15: x | B15: Razem: | C15: Powierzchnia (m2 ) | D15: 0 | G15: 0
C16: Wartość (zł) | D16: 0 | G16: 0
B19: ……………………………… | C19: 2026-03-25 | F19: ………………………………………
B20: (główny ksiegowy) | C20: (rok, miesiąc, dzień) | F20: (kierownik jednostki)
A22: Sporządził: Jolanta Mazurek

Sheet Tabela 5
A1: Tabela 5. Zmiany nieamortyzowanych lub nieumarzanych przez jednostkę środków trwałych, używanych na podstawie umów najmu, dzierżawy i innych umów, w tym z tytułu umów leasingu
A3: Lp. | B3: Wyszczególnienie | C3: Wartość na poczatek okresu sprawozdawczego | D3: Zwiększenia w ciagu okresu sprawozdawczego | E3: Zmniejszenia w ciagu okresu sprawozdawczego | F3: Wartość na koniec okresu sprawozdawczego
A5: 1 | B5: 2 | C5: 3 | D5: 4 | E5: 5 | F5: 6
A6: 1. | B6: Grunty | F6: =C6+D6-E6 -> 0
A7: 2. | B7: Budynki, lokale i obiekty inżynierii lądowej i wodnej | C7: 0 | D7: 0 | E7: =+C7 -> 0 | F7: =+C7+D7-E7 -> 0
A8: 3. | B8: Urządzenia techniczne i maszyny | C8: 116410.26 | E8: 0 | F8: =+C8+D8-E8 -> 116410.26
A9: 3. | B9: Środki transportu | F9: =C9+D9-E9 -> 0
A10: 4. | B10: Inne środki trwałe | F10: =C10+D10-E10 -> 0
A11: … | F11: =C11+D11-E11 -> 0
A12: x | B12: Razem: | C12: =C6+C7+C8+C9+C10+C11 -> 116410.26 | D12: =SUM(D6:D11) -> 0 | E12: =SUM(E6:E11) -> 0 | F12: =F6+F7+F8+F9+F10+F11 -> 116410.26
B15: ……………………………… | C15: 25.03.2026 r. | E15: ………………………………………
B16: (główny ksiegowy) | C16: (rok, miesiąc, dzień) | E16: (kierownik jednostki)
A18: Sporządził: Jolanta Mazurek

Sheet Tabela 6
A1: Tabela 6. Liczba i wartość posiadanych papierow wartościowych, w tym akcji i udziałów oraz dłużnych papierow wartościowych
A3: Lp. | B3: Wyszczególnienie | C3: Stan na poczatek okresu sprawozdawczego | E3: Zwiekszenia w okresie sprawozdawczym | G3: Zmniejszenia w okresie sprawozdawczym | I3: Stan na koniec okresu sprawozdawczego
C4: liczba | D4: wartość | E4: liczba | F4: wartość | G4: liczba | H4: wartość | I4: liczba | J4: wartość
I5: (3+5+7) | J5: 4+6+8)
A6: 1 | B6: 2 | C6: 3 | D6: 4 | E6: 5 | F6: 6 | G6: 7 | H6: 8 | I6: 9 | J6: 10
A7: 1. | B7: Akcje | C7: nie występuje | I7: 0 | J7: =D7+F7+H7 -> 0
A8: 1.1. | I8: =C8+E8+G8 -> 0 | J8: =D8+F8+H8 -> 0
A9: 1.2. | I9: =C9+E9+G9 -> 0 | J9: =D9+F9+H9 -> 0
I10: =C10+E10+G10 -> 0 | J10: =D10+F10+H10 -> 0
A11: 2. | B11: Udziały | I11: =C11+E11+G11 -> 0 | J11: =D11+F11+H11 -> 0
A12: 2.1. | I12: =C12+E12+G12 -> 0 | J12: =D12+F12+H12 -> 0
A13: 2.2. | I13: =C13+E13+G13 -> 0 | J13: =D13+F13+H13 -> 0
I14: =C14+E14+G14 -> 0 | J14: =D14+F14+H14 -> 0
A15: 3. | B15: Dłużne papiery wartościowe | I15: =C15+E15+G15 -> 0 | J15: =D15+F15+H15 -> 0
A16: 3.1. | I16: =C16+E16+G16 -> 0 | J16: =D16+F16+H16 -> 0
A17: 3.2. | I17: =C17+E17+G17 -> 0 | J17: =D17+F17+H17 -> 0
I18: =C18+E18+G18 -> 0 | J18: =D18+F18+H18 -> 0
A19: 4. | B19: Inne papiery wartościowe | I19: =C19+E19+G19 -> 0 | J19: =D19+F19+H19 -> 0
A20: 4.1. | I20: =C20+E20+G20 -> 0 | J20: =D20+F20+H20 -> 0
A21: 4.2. | I21: =C21+E21+G21 -> 0 | J21: =D21+F21+H21 -> 0
I22: =C22+E22+G22 -> 0 | J22: =D22+F22+H22 -> 0
B23: Ogółem: | C23: 0 | D23: =D19+D15+D11+D7 -> 0 | E23: =E19+E15+E11+E7 -> 0 | F23: =F19+F15+F11+F7 -> 0 | G23: =G19+G15+G11+G7 -> 0 | H23: =H19+H15+H11+H7 -> 0 | I23: =C23+E23+G23 -> 0 | J23: =J19+J15+J11+J7 -> 0
B27: ……………………………… | D27: 25.03.2026 r. | I27: ……………………………………………
B28: (główny ksiegowy) | D28: (rok, miesiąc, dzień) | I28: (kierownik jednostki)
A30: Sporządził: Jolanta Mazurek

Sheet Tabela 7
A1: Tabela 7. Zmiany odpisów aktualizujacych wartość należnosci
A3: Lp. | B3: Wyszczegolnienie według grupy należności | C3: Stan odpisow aktualizujacych na poczatek okresu sprawozdawczego | D3: Zwiekszenia odpisów aktualizujacych w ciagu okresu sprawozdawczego | E3: Zmniejaszenia odpisow aktualizujacych w ciagu okresu sprawozdawczego | H3: Stan odpisow aktualizujacych na koniec okresu sprawozdawczego (3+4-7)
E4: wykorzystane | F4: rozwiazanie odpisow aktualizujacych (uznanie odpisow za zbędne) | G4: zmniejszenia - razem (5 + 6)
A5: 1 | B5: 2 | C5: 3 | D5: 4 | E5: 5 | F5: 6 | G5: 7 | H5: 8
A6: 1 | B6: Odpisy na należności główne | C6: 125285.23 | D6: 0 | F6: 6146.08 | G6: =+E6+F6 -> 6146.08 | H6: =+C6+D6-G6 -> 119139.15 | J6: k.290.1
A7: 2 | B7: Odpisy na odsetki | C7: 75174.77 | D7: 4620.21 | F7: 14102.38 | G7: =+E7+F7 -> 14102.38 | H7: =+C7+D7-G7 -> 65692.6 | J7: k.290.2
A8: 3 | B8: Odpisy na koszty upomnienia | C8: 85.6 | D8: 16 | F8: 0 | G8: =+E8+F8 -> 0 | H8: =+C8+D8-G8 -> 101.6 | J8: k290.3
C9: 0 | G9: =+E9+F9 -> 0 | H9: =+C9+D9-G9 -> 0
A11: x | B11: Razem: | C11: =SUM(C6:C10) -> 200545.6 | D11: =SUM(D6:D10) -> 4636.21 | E11: =SUM(E6:E10) -> 0 | F11: =SUM(F6:F10) -> 20248.46 | G11: =SUM(G6:G10) -> 20248.46 | H11: =SUM(H6:H10) -> 184933.35
B15: ……………………………… | D15: 25.03.2026 r. | G15: ………………………………………
B16: (główny ksiegowy) | D16: (rok, miesiąc, dzień) | G16: (kierownik jednostki)
A18: Sporządził: Jolanta Mazurek

Sheet Tabela 8.
A2: Tabela 8. Informacja o stanie rezerw
A4: Lp. | B4: Wyszczególnienie rodzajów rezerw według celu ich utworzenia | C4: Stan na początek okresu sprawozdawczego | D4: Zwiększenia w ciągu okresu sprawozdawczego | E4: Zmniejszenia w ciagu okresu sprawozdawczego | H4: Stan na koniec okresu sprawozdawczego (3 +4 -7)
E5: wykorzystanie | F5: rozwiązane (uznanie rezerw za zbędne) | G5: Zmniejszenia razem (5 + 8)
A6: 1 | B6: 2 | C6: 3 | D6: 4 | E6: 5 | F6: 6 | G6: 7 | H6: 8
A7: 1. | B7: nie wystepują | H7: =SUM(D7:G7) -> 0
A8: 2. | H8: =SUM(D8:G8) -> 0
A9: 3. | H9: =SUM(D9:G9) -> 0
A10: 4. | H10: =SUM(D10:G10) -> 0
A11: 5. | H11: =SUM(D11:G11) -> 0
H12: =SUM(D12:G12) -> 0
H13: =SUM(D13:G13) -> 0
B14: Ogółem: | C14: =C7+C8-C11 -> 0 | D14: =D7+D8-D11 -> 0 | E14: =E7+E8-E11 -> 0 | F14: =F7+F8-F11 -> 0 | G14: =G7+G8-G11 -> 0 | H14: =SUM(D14:G14) -> 0
B17: ……………………………… | C17: 25.03.2026 r. | G17: ………………………………………
B18: (główny ksiegowy) | C18: (rok, miesiąc, dzień) | G18: (kierownik jednostki)
A20: Sporządził: Jolanta Mazurek

Sheet Tabela 9.
A2: Tabela 9. Zobowiazania długoterminowe według okresu spłaty
A4: Lp. | B4: Wyszcegółowienie zobowiazań wg pozycji bilansu | C4: Okres wymagalności | I4: Razem
C5: powyżej 1 roku do 3 lat | E5: powyżej 3 lat do 5 lat | G5: powyżej 5 lat
C6: według stanu na:
C7: początek okresu sprawo-zdawczego | D7: koniec okresu sprawo-zdawczego | E7: początek okresu sprawo-zdawczego | F7: koniec okresu sprawo-zdawczego | G7: początek okresu sprawo- zdawczego | H7: koniec okresu sprawo-zdawczego | I7: początek okresu sprawo-zdawczego (3+5+7) | J7: koniec okresu sprawo-zdawczego (4+6+8)
A8: 1 | B8: 2 | C8: 3 | D8: 4 | E8: 5 | F8: 6 | G8: 7 | H8: 8 | I8: 9 | J8: 10
B9: nie występują
A16: x | B16: Ogółem: | C16: =C9+C10+C11+C12+C13+C14+C15 -> 0 | D16: =D9+D10+D11+D12+D13+D14+D15 -> 0 | E16: =E9+E10+E11+E12+E13+E14+E15 -> 0 | F16: =F9+F10+F11+F12+F13+F14+F15 -> 0 | G16: =G9+G10+G11+G12+G13+G14+G15 -> 0 | H16: =H9+H10+H11+H12+H13+H14+H15 -> 0 | I16: =I9+I10+I11+I12+I13+I14+I15 -> 0 | J16: =J9+J10+J11+J12+J13+J14+J15 -> 0
B19: ……………………………… | D19: 25.03.2026 r. | I19: ……………………………………………
B20: (główny ksiegowy) | D20: (rok, miesiąc, dzień) | I20: (kierownik jednostki)
A22: Sporządził: Jolanta Mazurek

Sheet Tabela 10.
A2: Tabela 10. Łączna kwota zobowiazań zabezpieczonych na majątku jednostki ze wskazaniem charakteru i formy zabezpieczeń
A4: Lp. | B4: Wyszczególnienie według rodzajów zobowiązań | C4: Kwota zobowiązania | D4: Wyszczególnienie według formy i charakteru zabezpieczenia | E4: Kwota zabezpieczenia
A6: 1 | B6: 2 | C6: 3 | D6: 4 | E6: 5
A7: 1. | B7: nie występują
A8: 2.
A9: 3.
A10: 4.
A11: 5.
A12: 6.
A13: 7.
A15: X | B15: Ogółem: | C15: =C7+C8+C9+C10+C11+C12+C13+C14 -> 0 | D15: X | E15: =E7+E8+E9+E10+E11+E12+E13+E14 -> 0
B18: ……………………………… | C18: 25.03.2026 r. | E18: ………………………………….
B19: (główny ksiegowy) | C19: (rok, miesiąc, dzień) | E19: (kierownik jednostki)
A21: Sporządził: Jolanta Mazurek

Sheet Tabela  11.
A3: Tabela 11. Zobowiązania warunkowe na dzień bilansowy
A5: Lp. | B5: Wyszczególnienie według rodzajów zobowiązań warunkowych | C5: Kwota zobowiązania warunkowego | D5: Wyszczególnienie według formy i charakteru zabezpieczenia zobowiazania warunkowego | E5: Kwota zabezpieczenia
A7: 1 | B7: 2 | C7: 3 | D7: 4 | E7: 5
A8: 1. | C8: 0 | E8: 0
A9: 2.
A10: 3.
A11: 4.
A12: 5.
A13: 6.
A15: X | B15: Ogółem: | C15: =SUM(C8:C14) -> 0 | D15: X | E15: =SUM(E8:E14) -> 0
B18: ……………………………… | C18: 25.03.2026 r. | E18: …………………………….
B19: (główny ksiegowy) | C19: (rok, miesiąc, dzień) | E19: (kierownik jednostki)
A21: Sporządził: Jolanta Mazurek

Sheet Tabela 12
A2: Tabela 12. Czynne i bierne rozliczenia międzyokresowe
A4: Lp. | B4: Wyszczególnienie według rodzaju rozliczeń miedzyokresowych | C4: Wartość rozliczeń miedzyokresowych według stanu na:
C5: początek okresu sprawozdawczego | D5: koniec okresu sprawozdawczego
A6: 1. | B6: Rozliczenia międzyokresowe czynne kosztów
A7: 1.1.
A8: 1.2.
A9: …
B10: Rozliczenia międzyokresowe czynne kosztów ogółem: | C10: =C7+C8+C9 -> 0 | D10: =D7+D8+D9 -> 0
A11: 2. | B11: Rozliczenia międzyokresowe czynne przychodów
A12: 2.1.
A13: 2.2.
A14: …
B15: Rozliczenia międzyokresowe czynne przychodów ogółem: | C15: =C12+C13+C14 -> 0 | D15: =D12+D13+D14 -> 0
A16: 3. | B16: Rozliczenia międzyokresowe bierne kosztów
A17: 3.1.
A18: 3.2.
A19: …
B20: Rozliczenia międzyokresowe bierne kosztów ogółem: | C20: =C17+C18+C19 -> 0 | D20: =D17+D18+D19 -> 0
A21: 4. | B21: Rozliczenia międzyokresowe bierne przychodów
A22: 4.1. | D22: 0
A23: …
B24: Rozliczenia międzyokresowe bierne przychodów ogółem: | C24: =SUM(C21:C23) -> 0 | D24: =SUM(D21:D23) -> 0
B27: ……………………………… 2026-03-25 | D27: ……………………………..
B28: (główny ksiegowy) (rok, miesiąc, dzień) | D28: (kierownik jednostki)
A30: Sporządził: Jolanta Mazurek

Sheet Tabela 13
A2: Tabela 13. Kwota otrzymanych gwarancji i poręczeń
A4: Lp. | B4: Wyszczegółowienie według rodzaju otrzymanych gwarancji i poręczeń | C4: Kwota otrzymanych przez jednostkę gwarancji i poręczeń niewykazanych w bilansie według stanu na: | E4: Kwota zobowiazań zabezpieczonych otrzymanymi (niewykazanymi w bilansie) gwarancjami i poręczeniami według stanu na:
C6: początek okresu sprawozdawczego | D6: koniec okresu sprawozdawczego | E6: początek okresu sprawozdawczego | F6: koniec okresu sprawozdawczego
A7: 1 | B7: 2 | C7: 3 | D7: 4 | E7: 5 | F7: 6
A8: 1.
A9: 2.
A10: 3.
A11: 4.
A12: 5.
A13: 6.
A14: 7.
A15: x | B15: Ogółem: | C15: =C8+C9+C10+C11+C12+C13+C14 -> 0 | D15: =D8+D9+D10+D11+D12+D13+D14 -> 0 | E15: =E8+E9+E10+E11+E12+E13+E14 -> 0 | F15: =F8+F9+F10+F11+F12+F13+F14 -> 0
B18: ……………………………… | C18: 25.03.2026 r. | E18: ……………………………………………
B19: (główny ksiegowy) | C19: (rok, miesiąc, dzień) | E19: (kierownik jednostki)
A21: Sporządził: Joanna Dembińska

Sheet tabela nr 14
A1: Tabela nr 14
A2: Kwotę wypłaconych środków pieniężnych na świadczenia pracownicze
A5: Lp. | B5: Wyszczególnienie | C5: Stan na koniec roku
A6: 1. | B6: Świadczenia emerytalne (odprawy emerytalne) | C6: =D37 -> 157352.16 | I6: odpr.em.\
A7: 2. | B7: Nagrody jubileuszowe | C7: =D36 -> 217625.04 | I7: 31752
A8: 3. | B8: Koszty niewykorzystanych urlopów wraz ze składkami ZUS | C8: =+C9+C10 -> 3938.1791 | D8: =D38 -> 3298.86 | E8: =+D8*0.1693 -> 558.497 | F8: =+C9*2.45% -> 80.82207 | G8: 6652.86 | I8: 131766
B9: w tym ekwiwalent | C9: =D38 -> 3298.86 | D9: 0 | I9: 163518
B10: składki od ekwiwalentu | C10: =+E8+F8 -> 639.31907
A11: 4. | B11: Inne świadczenia: | C11: =+C12 -> 0 | D11: ekw.netto | E11: skł.ZUS | F11: razem
B12: w tym pozostałe odprawy
A16: Razem: | C16: =C6+C7+C8+C12 -> 378915.38 | D16: 216806.92
B23: …………………… | C23: ………………………..
B24: (główny ksiegowy) | C24: (kierownik jednostki)
B26: 25.03.2026 r.
B27: (rok, miesiąc, dzień)
B29: Symbol konta | C29: Nazwa konta analitycznego | D29: BO + Obroty narastające MA | F29: Symbol konta | G29: Nazwa konta analitycznego | H29: BO + Obroty narastające MA | I29: Saldo Wn
A30: 1. | B30: 404 *****-401*-**-01*-***** | C30: zasadnicze | D30: 6526363 | F30: 404 *****-4010-**-009-***** | G30: odprawy | H30: 127224 | I30: 0
A31: 2. | B31: 404 *****-401*-**-02*-***** | C31: funkcyjne | D31: 408855.63 | F31: 404 *****-4010-**-011-***** | G31: zasadnicze | H31: 5480098 | I31: 0
A32: 3. | B32: 404 *****-401*-**-03*-***** | C32: specjalne | D32: 238016.52 | F32: 404 *****-4010-**-012-***** | G32: zasadnicze | H32: 1046265 | I32: 0
A33: 4. | B33: 404 *****-401*-**-04*-***** | C33: stazowe | D33: 1084812.7 | F33: 404 *****-4010-**-021-***** | G33: funkcyjne | H33: 381880.63 | I33: 0
A34: 5. | B34: 404 *****-401*-**-06*-***** | C34: nagrody | D34: 428355 | F34: 404 *****-4010-**-022-***** | G34: funkcyjne | H34: 26975 | I34: 0
A35: 6. | B35: 404 *****-401*-**-07*-***** | C35: wyn za czas choroby | D35: 107376.21 | F35: 404 *****-4010-**-031-***** | G35: specjalne | H35: 238016.52 | I35: 0
A36: 7. | B36: 404 *****-401*-**-08*-***** | C36: nagr.jubileuszowe | D36: 217625.04 | F36: 404 *****-4010-**-041-***** | G36: stazowe | H36: 988857.96 | I36: 0
A37: 8. | B37: 404 *****-401*-**-09*-***** | C37: odprawy | D37: 157352.16 | F37: 404 *****-4010-**-042-***** | G37: stazowe | H37: 95954.7 | I37: 0
A38: 9. | B38: 404 *****-401*-**-10*-***** | C38: ekw.za urlop | D38: 3298.86 | E38: 162117.04 | F38: 404 *****-4010-**-061-***** | G38: nagrody | H38: 386455 | I38: 0
B39: 404 *****-401*-**-11*-***** | C39: godziny nadliczbowe | D39: 0 | F39: 404 *****-4010-**-062-***** | G39: nagrody | H39: 41900 | I39: 0
B40: 404 *****-401*-**-12*-***** | C40: pozost.wynagrodzenia | D40: 0 | F40: 404 *****-4010-**-071-***** | G40: wyn za czas choroby | H40: 103447.92 | I40: 0
C41: Razem konto 404 | D41: 9172055.1 | F41: 404 *****-4010-**-072-***** | G41: wyn za czas choroby | H41: 3928.29 | I41: 0
F42: 404 *****-4010-**-081-***** | G42: nagr.jubileuszowe | H42: 168041.04 | I42: 0
F43: 404 *****-4010-**-082-***** | G43: nagr.jubileuszowe | H43: 49584 | I43: 0
F44: 404 *****-4010-**-091-***** | G44: odprawy | H44: 30128.16 | I44: 0
F45: 404 *****-4010-**-101-***** | G45: ekw.za urlop | H45: 3298.86 | I45: 0
F46: 404 *****-4010-**-111-***** | G46: godziny nadliczbowe | H46: 0 | I46: 0
F47: 404 *****-4010-**-121-***** | G47: pozost.wynagrodzenia | H47: 0 | I47: 0 | J47: 9172055.1 | K47: 0
H48: =SUM(H30:H47) -> 9172055.1

Sheet Tabela 15
A2: Tabela 15. Wysokość odpisów aktualizujących wartość zapasów
A4: Lp. | B4: Wyszcegółowienie według rodzaju zapasów | C4: Stan odpisów aktualizujacych na poczatek okresu sprawozdawczego | D4: Zwiększenia odpisów aktualizujacych w ciągu okresu sprawozdawczego | E4: Zmniejszenia odpisów aktualizujacych w ciągu okresu sprawozdawczego | H4: Stan odpisów aktualizujacych na koniec okresu sprawozdawczego (3+4-7)
E6: wykorzystanie | F6: rozwiazamnie odpisów aktualizujacych (uznanie odpisów za zbędne) | G6: zmniejszenia razem (5 + 6)
A8: 1 | B8: 2 | C8: 3 | D8: 4 | E8: 5 | F8: 6 | G8: 7 | H8: 8
B9: nie występują | G9: =E9+F9 -> 0 | H9: =C9+D9-G9 -> 0
G10: =E10+F10 -> 0 | H10: =C10+D10-G10 -> 0
G11: =E11+F11 -> 0 | H11: =C11+D11-G11 -> 0
G12: =E12+F12 -> 0 | H12: =C12+D12-G12 -> 0
G13: =E13+F13 -> 0 | H13: =C13+D13-G13 -> 0
G14: =E14+F14 -> 0 | H14: =C14+D14-G14 -> 0
G15: =E15+F15 -> 0 | H15: =C15+D15-G15 -> 0
A16: x | B16: Ogółem: | C16: =C9+C10+C11+C12+C13+C14+C15 -> 0 | D16: =D9+D10+D11+D12+D13+D14+D15 -> 0 | E16: =E9+E10+E11+E12+E13+E14+E15 -> 0 | F16: =F9+F10+F11+F12+F13+F14+F15 -> 0 | G16: =G9+G10+G11+G12+G13+G14+G15 -> 0 | H16: =H9+H10+H11+H12+H13+H14+H15 -> 0
B19: ……………………………… | D19: 25.03.2026 r. | G19: ……………………………..
B20: (główny ksiegowy) | D20: (rok, miesiąc, dzień) | G20: (kierownik jednostki)
A22: Sporządziła: Jolanta Mazurek

Sheet Tabela 16
A2: Tabela 16. Koszt wytworzenia środków trwałych w budowie
A4: Lp. | B4: Wyszczegółowienie | C4: Koszty wytworzenia poniesione w ciągu poprzednich okresów sprawozdawczych | F4: Koszty wytworzenia poniesione w ciagu bieżącego okresu sprawozdawczego
C5: ogółem | D5: w tym: | F5: ogółem | G5: w tym:
D6: odsetki | E6: różnice kursowe | G6: odsetki | H6: różnice kursowe
A7: 1 | B7: 2 | C7: 3 | D7: 4 | E7: 5 | F7: 6 | G7: 7 | H7: 8
A8: 1. | B8: Adaptacja pomieszczeń parteru - hali sportowej "Gryf Arena" | C8: 13050 | F8: 0 | G8: 0 | H8: 0
A9: 2. | B9: Budowa hali widowiskowo- sportowej w Trzebiatowie | C9: 0 | F9: 153159.35
A10: 3. | B10: Zakup obiektu pełniącego rolę budowli ochronnej program POLIiOC | C10: 0 | F10: 409559.68
J11: =C12+F12 -> 575769.03
A12: x | B12: Ogółem: | C12: =SUM(C8:C11) -> 13050 | D12: =SUM(D8:D11) -> 0 | E12: =SUM(E8:E11) -> 0 | F12: =SUM(F8:F11) -> 562719.03 | G12: =SUM(G8:G11) -> 0 | H12: =SUM(H8:H11) -> 0
B15: ……………………………… | D15: 25.03.2026 r. | G15: ……………………………..
B16: (główny ksiegowy) | D16: (rok, miesiąc, dzień) | G16: (kierownik jednostki)
A18: Sporządziła: Jolanta Mazurek

Sheet Tabela 17 - zg. z RZIS
A1: Tabela nr 17
A2: Kwota i charakter poszczególnych pozycji przychodów lub kosztów o nadzwyczajnej wartości lub które wystąpiły incydentalnie | N2: Syntetyka po wybranych cyfrach konta za okres 01-12 2024 rok dla jednostki 001-STAROSTWO POWIATOWE
M3: Strona : 1/1
A4: Pozostałe przychody operacyjne
M5: Symbol konta | N5: Nazwa konta analitycznego | O5: BO + Obroty narastające MA
A6: Lp. | B6: Treść | C6: 1.01.-31.12.2024 r. | D6: 1.01.-31.12.2025 r. | F6: Symbol konta | G6: Nazwa konta analitycznego | H6: BO + Obroty narastające MA | I6: Saldo WN | M6: 760 091 | N6: ROZWIĄZANIE REZERW AKTUALIZUJĄCYCH NALEŻNOŚCI | O6: 147.6 | P6: spłata zaległości
A7: 1. | B7: Zysk ze sprzedaży środków trwałych i wartości niematerialnych i prawnych | C7: 404044.3 | D7: 804889.99 | F7: 760 70005-0770-00-1 | G7: PP-PRZYCHODY ZE SPRZEDAŻY GRUNTÓW (W TYM ZABUDOWANYCH) | H7: 804889.99 | M7: 760 70005-0770-00-1 | N7: PP-PRZYCHODY ZE SPRZEDAŻY GRUNTÓW (W TYM ZABUDOWAN | O7: 403901.87
A8: 2. | B8: Zysk z likwidacji środków trwałych, inwestycji bez efektu gospodarczego | C8: 0 | D8: 0 | F8: 760 70005-0970-03-1 | G8: OTRZYMANE ODSZKODOWANIA-NIERUCHOMOŚCI-POWIAT | H8: 27980.57 | J8: lokale | M8: 760 70005-0950-1 | N8: PP- WPŁYWY Z KAR I ODSZKODOWAŃ WYNIK. Z UMÓW | O8: 13
A9: 3. | B9: kary, grzywny, odszkodowania | C9: 25511.91 | D9: 27980.57 | F9: 760 70005-0970-06-1 | G9: INNE POZOSTAŁE PRZYCHODY-GOSPOD.NIERUCHOM. | H9: 41.91 | J9: bezumowne działka | M9: 760 70005-0970-03-1 | N9: OTRZYMANE ODSZKODOWANIA-NIERUCHOMOŚCI-POWIAT | O9: 17918.91
A10: 4. | B10: Wyegzekwowane odpisane należności | F10: 760 75020-0640-1 | G10: PP-ZWR.K.UPOMNIEŃ, K.EGZEK.I KOMORNICZYCH | H10: 16 | M10: 760 70005-0970-06-1 | N10: INNE POZOSTAŁE PRZYCHODY-GOSPOD.NIERUCHOM. | O10: 273.62 | P10: Korzyst.z nieruchom. (w tym bezumowne)
A11: 5. | B11: Darowizny środków trwałych | F11: 760 75020-0970-02-1 | G11: PP-WYNAGRODZENIE PŁATNIKA-ZUS,US | H11: 2386.76 | L11: =I12+J12+K12+L12 -> 5859.29 | M11: 760 75020-0640-1 | N11: PP-ZWR.K.UPOMNIEŃ, K.EGZEK.I KOMORNICZYCH | O11: 96 | P11: =O11 -> 96
A12: 6. | B12: Darowizny środków pieniężnych i pozostałych środków obrotowych | C12: 9403.35 | F12: 760 75020-0970-06-1 | G12: PP-INNE POZOSTAŁE PRZYCHODY | H12: 5859.29 | I12: =3748.97+1300 -> 5048.97 | J12: 692.67 | K12: 114.92 | L12: 2.73 | M12: 760 75020-0970-02-1 | N12: PP-WYNAGRODZENIE PŁATNIKA-ZUS,US | O12: 1855.04
A13: 7. | B13: Rozwiązane odpisu aktualizującego wartość należności | C13: 147.6 | F13: 760 75020-0970-10-1 | G13: PP-"KOŃCÓWKI"VAT Z PORZUCENIA | H13: 3.31 | I13: fiserv | J13: koszty zastępstwa | K13: przeks.mylnych | L13: zwort za karty zagran | M13: 760 75020-0970-04-1 | N13: PP-OTRZYMANE DAROWIZNY - NIEPIENIĘŻNE - NIEODPŁ.OT | O13: 9403.35 | P13: =O13 -> 9403.35
A14: 8. | B14: Niewykorzystane zgodnie z przeznaczeniem utworzone uprzednio rezerwy | F14: 760 75095-0940-1 | G14: PP-ZWROT WYDATKÓW Z LAT UBIEGŁYCH | H14: 10918.01 | M14: 760 75020-0970-06-1 | N14: PP-INNE POZOSTAŁE PRZYCHODY | O14: 14002.18 | P14: =X31 -> 1898.88 | Q14: fiserv | R14: 11881.46 | S14: 104.11 | T14: 117.73 | U14: =SUM(P14:T14) -> 14002.18 | V14: 1905.17 | X14: 42.39
A15: 9. | B15: Zwrot opłat sądowych, kosztów upomnień i innych wierzytelności | C15: 96 | D15: 16 | F15: 760 75095-0970-06-1 | G15: PP-POZOSTAŁE PRZYCHODY | H15: 21400 | J15: darowizny | M15: 760 75020-0970-07-1 | N15: PP-KOREKTA ROCZNA PODATKU VAT NALICZONEGO | O15: 1470 | R15: osetki bank po.20 | S15: biuro rzezcy znal | T15: zarot kosz.zast.proces | V15: -1.59 | X15: 1.26
A16: 10. | B16: Korzyst.z nieruchom. (w tym bezumowne) | C16: 273.62 | D16: 41.91 | F16: 760 75515-2950-1 | G16: ZWROT NIEWYKORZYSTANEJ DOTACJI NPP | H16: 212 | M16: 760 75020-0970-10-1 | N16: PP-"KOŃCÓWKI"VAT Z PORZUCENIA | O16: 1.61 | V16: -3.07 | X16: 22.98
A17: 11. | B17: Zwrot wydatków z lat ubiegłych | C17: 234.9 | D17: 10950.15 | F17: 760 80116-2950-1 | G17: PP- ZWROT DOTACJI Z LAT UBIEGŁYCH SZKOŁY POLICEALNE | H17: 98479.4 | M17: 760 75095-0870-1 | N17: PP- WPŁYWY ZE SPRZEDAŻY SKŁADNIKÓW MAJĄTKU | O17: 142.43 | P17: =O7+O17 -> 404044.3 | V17: -1.63 | X17: 650
A18: 12. | B18: Wynagrodzenie płatnika ZUS i podatków dochodowych | C18: 1855.04 | D18: 2386.76 | F18: 760 80120-2950-1 | G18: PP- ZWROT DOTACJI Z LAT UBIEGŁYCH LO | H18: 43373.34 | M18: 760 92601-0940-1 | N18: PP-ZWROT WYDATKÓW Z LAT UBIEGŁYCH-HALA | O18: 234.9 | P18: =O18 -> 234.9 | V18: =SUM(V14:V17) -> 1898.88 | X18: 1.32
A19: 13. | B19: Opłata za korzystanie z terminala płatniczego i opłata akceptanta -uiszczona przez Fundację Polska Bezgotówkowa | C19: 1898.88 | D19: 5048.97 | F19: 760 80152-2950-1 | G19: PP - ZWROT DOTACJI Z LAT UBIEGŁYCH- SPECJALNE METODY NAUCZANIA | H19: 39053.19 | M19: 760 92601-0950-1 | N19: PP-KARY I ODSZKODOWANIA WYNIKAJĄCE Z UMÓW - HALA S | O19: 7580 | P19: =O8+O9+O19 -> 25511.91 | V19: =+O14-V18 -> 12103.3 | X19: 11.59
A20: 14. | B20: Korekta roczna odliczonego podatku VAT | C20: 1470 | D20: 0 | F20: 760 85404-2950-1 | G20: PP- ZWROT DOTACJI Z LAT UBIEGŁYCH OREW | H20: 24.46 | M20: 760 92605-0970-06-1 | N20: PP - INNE POZOSTAŁE PRZYCHODY | O20: 30350 | P20: wpłaty sponsorów | V20: 11881.46 | X20: 7.01
A21: 15. | B21: "Końcówki " VAT | C21: 1.61 | D21: 3.31 | F21: 760 85419-2950-1 | G21: PP- ZWROT DOTACJI Z LAT UBIEGŁYCH OŚR.REWALIDACYJNO-WYCH. | H21: 5.52 | I21: =SUM(H16:H21) -> 181147.91 | N21: Razem konto 760 | O21: 487390.51 | V21: =+V19-V20 -> 221.84 | X21: 1.06
A22: 16. | B22: Zwrot nierozliczonych dotacji z lat ubiegłych | D22: 181147.91 | F22: 760 92601-0940-1 | G22: PP-ZWROT WYDATKÓW Z LAT UBIEGŁYCH-HALA | H22: 32.14 | I22: =H22+H14 -> 10950.15 | X22: 1.67
A23: 17. | B23: Wpłaty sponsorów na imprezy organizowane przez Powiat | C23: 30350 | D23: 36400 | F23: 760 92605-0970-06-1 | G23: PP - INNE POZOSTAŁE PRZYCHODY | H23: 15000 | I23: =H15+H23 -> 36400 | J23: darowizny | V23: 104.11 | X23: 590
A24: 18. | B24: zwrot części kosztów zastępstwa procesoweg (dot. Sk.P.) | C24: 117.73 | D24: 692.67 | G24: Razem konto 760 | H24: 1069675.9 | I24: 0 | V24: 117.73 | X24: 62.4
A25: 19. | B25: Gotówka z Biura rzeczy znalezionych | C25: 104.11 | V25: =SUM(V23:V24) -> 221.84 | X25: 74.3
A26: 20. | B26: Przeksięgowanie wpłaty z mylnych dochodów | D26: 114.92
A27: 21. | B27: Zwrot prowizji za korzystanie z kart zagranicznych | D27: 2.73
A28: 22. | B28: Odsetki bankowe od konta sum depozytowych - inne niż należne kontrahentom od wadiów i zabezpieczeń nal. wyk.umowy | C28: 11881.46 | V28: =+V25-V21 -> 0 | X28: 225.32
A29: RAZEM | C29: =SUM(C7:C28) -> 487390.51 | D29: =SUM(D7:D28) -> 1069675.9 | G29: =D29-H24 -> 0 | M29: =+D29-O21 -> 582285.38 | X29: 207.58
A31: Pozostałe koszty operacyjne | X31: =SUM(X14:X30) -> 1898.88 | Y31: =+X31-V18 -> 0
A33: Lp. | B33: Tytuł | C33: 1.01.-31.12.2024 r. | D33: 1.01.-31.12.2025 r.
A34: 1 | B34: Strata ze sprzedaży środków trwałych i wartości niematerialnych i prawnych
A35: 2 | B35: Starta z likwidacji środków trwałych
A36: 3 | B36: Nieplanowane odpisy środków trwałych, wartości niematerialnych i prawnych, które utraciły swoją przydatność
A37: 4 | B37: Wartość środków trwałych w budowie bez efektu gospodarczego
A38: 5 | B38: Wartość środków trwałych w budowie przekazanych nieodpłatnie
A39: 6 | B39: Odpisanie kosztów zaniechanej lub niepodjętej produkcji | F39: Symbol konta | G39: Nazwa konta analitycznego | H39: BO + Obroty narastające MA | M39: 761 081 | N39: PK-UMORZENIE NALEŻNOŚCI | O39: 0
A40: 7 | B40: Odpisy aktualizujące (obniżające) wartość zapasów rzeczowych składników majątku obrotowego | F40: 761 091 | G40: PK-ODPISY AKTUALIZUJĄCE NALEŻNOŚCI | H40: 16 | M40: 761 091 | N40: PK-ODPISY AKTUALIZUJĄCE NALEŻNOŚCI | O40: 16
A41: 8 | B41: Różnice wycen bilansowych środków trwałych | F41: 761 70005-4610-08-2 | G41: PK-K.EGZEK.NALEŻ.GOSPOD.NIERUCH.SK.PAŃSTWA | H41: 1693.99 | M41: 761 70005-4610-08-2 | N41: PK-K.EGZEK.NALEŻ.GOSPOD.NIERUCH.SK.PAŃSTWA | O41: 1822.26
A42: 9 | B42: Odpisane należności przedawnione, umorzone i nieściągalne | C42: 0 | D42: 0 | F42: 761 71015-2950-1 | G42: PK - ZWROT DOTACJI PINB | H42: 1304.64 | M42: 761 75020-3020-1 | N42: ODSZKODOWANIA - DOT. PRACY | O42: 19736.36 | P42: =O42 -> 19736.36
...

Sheet Tabela 18 
B2: tabela 18 - Innne informacje - Wydatki poniesione przez Starostwa w związku z wojną na Ukrainie
B4: Lp. | C4: Tytuł | D4: 1.01.-31.12.2025 r.
B5: 1 | C5: Koszt orzeczeń o niepełnosprawności itp. dla obywateli Ukrainy (finansowane z Funduszu Pomocy) | D5: 3000
B6: 2 | C6: Dotacje dla uczniów z Ukrainy w szkołach niepublicznych Powiatu gryfickiego | D6: 107063.41
B8: RAZEM | D8: =SUM(D5:D7) -> 110063.41
C11: …………………….. 2026-03-25 | D11: ……………………
C12: (główny księowy) (rok miesiąc, dzień) | D12: (kierownik jednostki)

Sheet Tabela 19
B1: Tabela 19
B2: Uszczególowienie pozycji z Bilansu Pozostałe należności (aktywa poz. B.II.4)
B4: Lp. | C4: Tytuł | D4: 1.01.-31.12.2025r.
B5: 1 | C5: Rozrachunki z tytułu udzielonych dotacji dla szkól niepublicznych, dla których na dzień 31.12.2024r. nie zakończył proces uznania za rozliczoną (kontrola wykonania trwa) | D5: 24439496
B6: 2 | C6: Rozrachunki z pracownikami z tytułu pożyczek mieszkaniowych z ZFŚS | D6: 61446 | I6: k.234
B7: 3. | C7: Kaucje za butle z wodą w dystrybutorach | D7: 396
B8: 3. | C8: Zasilenie rachunku bankowego dochodów Skarbu Państwa z tytułu odprowadzoego do urzędu skarbowego, a nie zapłąconego przez dłużników podatku VAT | D8: 18555.79
B13: RAZEM | D13: =SUM(D5:D12) -> 24519893
C16: …………………….. 2026-03-25 | D16: ……………………
C17: (główny księowy) (rok miesiąc, dzień) | D17: (kierownik jednostki)
