Workbook
Name OLE_LINK1: 'Dane STAROSTWO'!$B$60

Sheet Dane  STAROSTWO
A1: Sprawozdanie finansowe za rok 2025 rok
A3: I. Wprowadzenie do sprawozdania finansowego.
A4: 1.
A5: 1.1. | B5: Nazwa Jednostki | C5: Powiat Gryficki w Gryficach - Dochody Skarbu Państwa
A6: 1.2. | B6: Siedziba jednostki | C6: Gryfice Pl. Zwycięstwa 37
A7: 1.3. | B7: Adres jednostki | C7: Gryfice Pl. Zwycięstwa 37
A8: 1.4. | B8: Podstawowy przedmiot działalności jednostki | C8: Ustawa z dnia 5 czerwca 1998r, o samorządzie powiatowym
C9: Ustawa z dnia 21 sierpnia 1997r. o gospodarce nieruchomościami
A17: 2. | B17: Wskazanie okresu objętego sprawozdaniem
B18: od 01.01.2025 r. do 31.12.2025 r.
A19: 3. | B19: wskazanie, że sprawozdanie finansowe zawiera dane łączne, jeżeli w skład jednostki nadrzędnej lub jednostki samorządu terytorialnego wchodzą jednostki sporządzające samodzielne sprawozdania finansowe
B20: Sprawozdanie nie zawiera danych łącznych
A21: 4. | B21: omówienie przyjętych zasad (polityki) rachunkowości, w tym metod wyceny aktywów i pasywów (także amortyzacji)
B22: Aktywa i pasywa wyceniane są przy uwzględnianiu nadrzędnych zasad rachunkowości, w sposób przewidziany ustawą o rachunkowości i rozporzadzeniem Ministra Rozwoju i Finansow w sprawie szczegółowych zasad rachunkowości oraz planu kont dla budżetu państwa , budżetów jednostek samorządu terytorialnego........ 1) Za środki trwałe uważa się przedmioty o przewidywanym okresie użytkowania dłuższym niż jeden rok i o wartości poczatkowej od 5.000,00 zł. 2)Środki trwałe o wartości początkowej od 5.000,00 zł do 9.999,99 zł uważa się za pozostałe srodki trwałe w użytkowaniu stosując jednorazowe umorzenie 100% ich wartości w miesiącu oddania do użytkowania w ciężar kosztów bieżącej działalności- podlegają one ewidencji ilościowo-wartościowej. Wydatki poniesione na ich zakup badź wytworzenie stanowią wydatki bieżące. 3)Środki trwałe o wartości początkowej równej 10.000,00 zł lub większej umarza się lub amortyzuje stosując metodę liniową. 4) Przedmioty o wartości początkowej od 300 do 4.999,99 zł nie kwalifikuje się jako środki trwałe, uważa się je za wyposażenie stanowisk pracy i dla celów księgowych uważa za zużyte w momencie oddania do użytkowania. Podlegają ewidencji ilościowej. 5) Przedmioty o wartości poczatkowej poniżej 300,00 zł stanowiące wyposażenie odnoszone są w koszty bieżącej działalnosci w momencie zakupu, uważa się za zużyte z datą oddania do użytkowania i nie podlegają inwentaryzacji. 6) Do ewidencji i wyceny wartości niematerialnych i prawnych stosuje sią zasady jak dla środkow trwałych. Na potrzeby ustalenia stawek amortyzacyjnych jako okres ich użytkowania przyjmuje się minimalny czas dokonywania odpisów amortyzacyjnych przewidziany przepisami ustawy o podatku dochodowym od osob prawnych. 7) Materiały wycenia się z chwilą nabycia w cenach zakupu i odpisuje się w koszty na dzień ich zakupu. 8) Na dzień bilansowy środki trwale ( z wyjatkiem gruntów) wycenia się w wartosci netto, tj. z uwzglednieniem odpisów umorzeniowych ustalonych na dzień bilansowy. 9) Dla należności przeterminowanych co najmniej 3 miesiące dokonuje odpisu aktualizującego w wysokości 50% dla tych należności, z zapłatą których dłużnik zwleka 3-6 miesięcy, a w wysokości 100% dla tych należności, z zapłatą których dłużnik zwleka dłużej niż 6 miesięcy. Odpisów aktualizujących można dokonywać także w innych terminach i wysokościach, gdy zaistnieje taka potrzeba, zgodnie z zapisami Ustawy o rachunkowości. Dla odsetek za zwłokę i ewentualnych innych należności ubocznych dokonuje się odpisu w takiej proporcji, w jakiej dokonano odpisu od należności głównej. W przypadku, gdy dłużnik zwleka z zapłatą jedynie odsetek i ewentualnych innych należności ubocznych, dla tych należności stosuje się zasady jak w punktach 1 i 2
A23: 5. | B23: inne informacje
A26: II | B26: Dodatkowe informacje i objaśnienia:
A27: 1.
A28: 1.1. | B28: szczegółowy zakres zmian wartości grup rodzajowych środków trwałych, wartości niematerialnych i prawnych, zawierający stan tych aktywów na początek roku obrotowego, zwiększenia i zmniejszenia z tytułu: aktualizacji wartości, nabycia, rozchodu, przemieszczenia wewnętrznego oraz stan końcowy, a dla majątku amortyzowanego - podobne przedstawienie stanów i tytułów zmian dotychczasowej amortyzacji lub umorzenia
B29: tabela nr 1 , nr 2
A30: 1.2. | B30: aktualną wartość rynkową środków trwałych, w tym dóbr kultury - o ile jednostka dysponuje takimi informacjami
B31: brak danych
A32: 1.3 | B32: kwotę dokonanych w trakcie roku obrotowego odpisów aktualizujących wartość aktywów trwałych odrębnie dla długoterminowych aktywów niefinansowych oraz długoterminowych aktywów finansowych
B33: tabela nr 3
A34: 1.4 | B34: wartość gruntów użytkowanych wieczyście
B35: tabela nr 4
A36: 1.5 | B36: wartość nieamortyzowanych lub nieumarzanych przez jednostkę środków trwałych, używanych na podstawie umów najmu, dzierżawy i innych umów, w tym z tytułu umów leasingu
B37: tabela nr 5
A38: 1.6 | B38: liczbę oraz wartość posiadanych papierów wartościowych, w tym akcji i udziałów oraz dłużnych papierów wartościowych
B39: nie dotyczy
A40: 1.7 | B40: dane o odpisach aktualizujacych wartość należnosci, ze wskazaniem stanu na poczatek roku obrotowego, zwiekszeniachm, wykorzystaniu, rozwiazaniu i stanie na koniec roku obrotowego, z uwzglednieniem naleznosci finansowych jednostek samorządu terytorialnego (stan pożyczek zagrozonych)
B41: tabela nr 7
A42: 1.8 | B42: dane o stanie rezerw według celu ich utworzenia na początek roku obrotowego, zwiększeniach wykorzystaniu, rozwiązaniu i stanie końcowym
B43: tabela nr 8 | C43: nie wystepują
A44: 1.9 | B44: podział zobowiązań długoterminowych według pozycji bilansu o pozostałym od dnia bilansowego, przewidywanym umową lub wynikającym z innego tytułu prawnego, okresie spłaty:
B45: a) powyżej 1 roku do 3 lat
B46: b) powyżej 3 do 5 lat
B47: c) powyżej 5 lat
B48: tabela nr 9
A49: 1.10 | B49: kwotę zobowiązań w sytuacji gdy jednostka kwalifikuje umowy leasingu zgodnie z przepisami podatkowymi (leasing operacyjny), a według przepisów o rachunkowości byłby to leasing finansowy lub zwrotny z podziałem na kwotę zobowiązań z tytułu leasingu finansowego lub leasingu zwrotnego
B50: nie występują
A51: 1.11 | B51: łączną kwotę zobowiązań zabezpieczonych na majątku jednostki ze wskazaniem charakteru i formy tych zabezpieczeń
B52: tabela 10
A53: 1.12 | B53: łączną kwotę zobowiązań warunkowych, w tym również udzielonych przez jednostkę gwarancji i poręczeń, także wekslowych, niewykazanych w bilansie, ze wskazaniem zobowiązań zabezpieczonych na majątku jednostki oraz charakteru i formy tych zabezpieczeń
B54: tabela 11
A55: 1.13 | B55: wykaz istotnych pozycji czynnych i biernych rozliczeń międzyokresowych w tym kwotę czynnych rozliczeń międzyokresowych kosztów stanowiących różnicę między wartością otrzymanych finansowych składników aktywów a zobowiązaniem zapłaty za nie
B56: tabela nr 12
A58: 1.14 | B58: łączną kwotę otrzymanych przez jednostkę gwarancji i poręczeń niewykazanych w bilansie
B59: tabela nr 13
A60: 1.15 | B60: kwotę wypłaconych środków pieniężnych na świadczenia pracownicze
B61: tabela nr 14
A63: 1.16 | B63: inne informacje
A65: 2.
A66: 2.1 | B66: Wysokość odpisow aktualizujacych wartość zapasow
B67: tabela nr 15
A68: 2.2 | B68: koszt wytworzenia środków trwałych w budowie, w tym odsetki oraz różnice kursowe, które powiększyły koszt wytworzenia środków trwałych w budowie w roku obrotowym
B69: tabela nr 16
A70: 2.3 | B70: kwotę i charakter poszczególnych pozycji przychodów lub kosztów o nadzwyczajnej wartości lub które wystąpiły incydentalnie
B71: tabela nr 17
A72: 2.4. | B72: informację o kwocie należności z tytułu podatków realizowanych przez organy podatkowe podległe ministrowi właściwemu do spraw finansów publicznych wykazywanych w sprawozdaniu z wykonania planu dochodów budżetowych
A74: 2.5 | B74: inne informacje
A76: 3. | B76: Inne informacje niż wymienione powyżej, jeżeli mogłyby w istotny sposób wpłynąć na ocenę sytuacji majątkowej i finansowej oraz wynik finansowy jednostki
B82: ……………………………… | C82: 2026-03-30 ………………………………… | D82: ……………………………………………
B83: (główny ksiegowy) | C83: (rok, miesiąc, dzień) (kierownik jednostki | D83: (kierownik jednostki)
A85: Sporządził: Jolanta Mazurek

Sheet Tabela 1 
A1: Tabela 1. Zmiany stanu wartości początkowej wartości niematerialnych i prawnych oraz rzeczowych aktywow trwałych
A2: Lp. | B2: Wyszczególnienie | C2: Wartość poczatkowa - Stan na początek okresu sprawozdaw-czego | D2: Zwiększenia | I2: Zmniejszenia | O2: Wartość poczatkowa - Stan na koniec okresu sprawozdaw-czego
D3: nabycie | E3: przemieszczenia wewnętrzne | F3: aktualizacja | G3: inne zwiększenia | H3: zwiększenia ogółem | I3: zbycie | J3: likwidacja | K3: przemieszczenia wewnętrzne | L3: aktualizacja | M3: inne zmniejszenia | N3: zmniejszenia ogółem
A4: 1 | B4: 2 | C4: 3 | D4: 4 | E4: 5 | F4: 6 | G4: 7 | H4: 8 | I4: 9 | J4: 10 | K4: 11 | L4: 12 | M4: 13 | N4: 14 | O4: 15
A5: I. | B5: Razem wartości niematerialne i prawne | C5: 0 | D5: =D6+D7 -> 0 | E5: =E6+E7 -> 0 | F5: =F6+F7 -> 0 | G5: =G6+G7 -> 0 | H5: =D5+E5+F5+G5 -> 0 | I5: =I6+I7 -> 0 | J5: =J6+J7 -> 0 | K5: =K6+K7 -> 0 | L5: =L6+L7 -> 0 | M5: =M6+M7 -> 0 | N5: =I5+J5+K5+L5+M5 -> 0 | O5: =C5+H5-N5 -> 0
A6: 1.1. | B6: Licencje i prawa autorskie dotyczace oprogramowania komputerowego | C6: 0 | D6: 0 | E6: 0 | F6: 0 | G6: 0 | H6: 0 | I6: 0 | J6: 0 | K6: 0 | L6: 0 | M6: 0 | N6: =I6+J6+K6+L6+M6 -> 0 | O6: =C6+H6-N6 -> 0
A7: 1.2. | B7: Pozostale wartości niematerialne i prawne | C7: 0 | D7: 0 | E7: 0 | F7: 0 | G7: 0 | H7: 0 | I7: 0 | J7: 0 | K7: 0 | L7: 0 | M7: 0 | N7: =I7+J7+K7+L7+M7 -> 0 | O7: =C7+H7-N7 -> 0
A8: II. | B8: Razem rzeczowe aktywa trwałe | C8: 2.8159132e+08 | D8: =D9+D16+D17 -> 0 | E8: =E9+E16+E17 -> 0 | F8: =F9+F16+F17 -> 0 | G8: =G9+G16+G17 -> 1416687.1 | H8: =D8+E8+F8+G8 -> 1416687.1 | I8: =I9+I16+I17 -> 1722013.4 | J8: =J9+J16+J17 -> 0 | K8: =K9+K16+K17 -> 0 | L8: =L9+L16+L17 -> 0 | M8: =M9+M16+M17 -> 2329263.6 | N8: =I8+J8+K8+L8+M8 -> 4051277.1 | O8: =C8+H8-N8 -> 2.7895673e+08
A9: 2. | B9: Razem środki trwałe | C9: =SUM(C10:C12) -> 4.7976761e+08 | D9: =D10+D12+D14+D15+D13 -> 0 | E9: =E10+E12+E14+E15+E13 -> 0 | F9: =F10+F12+F14+F15+F13 -> 0 | G9: =G10+G12+G14+G15+G13 -> 1416687.1 | H9: =H10+H12+H14+H15+H13 -> 1416687.1 | I9: =I10+I12+I14+I15+I13 -> 1722013.4 | J9: =J10+J12+J14+J15+J13 -> 0 | K9: =K10+K12+K14+K15+K13 -> 0 | ... O9: =O10+O12+O14+O15+O13 -> 2.7981511e+08
A10: 2.1. | B10: Grunty, w tym: | C10: 2.8119341e+08 | D10: =D11 -> 0 | E10: =E11 -> 0 | F10: =F11 -> 0 | G10: =G11 -> 1416687.1 | H10: =D10+E10+F10+G10 -> 1416687.1 | I10: =I11 -> 1722013.4 | J10: =J11 -> 0 | K10: =K11 -> 0 | L10: =L11 -> 0 | M10: =M11 -> 2329263.6 | N10: =+I10+M10 -> 4051277.1 | O10: =C10+H10-N10 -> 2.7855882e+08
A11: 2.1.1. | B11: Grunty stanowiące własność jednostki samorządu terytorialnego przekazane w użytkowanie wieczyste innym podmiotom | C11: 1.9731791e+08 | D11: 0 | F11: 0 | G11: 1416687.1 | H11: =D11+E11+F11+G11 -> 1416687.1 | I11: 1722013.4 | M11: 2329263.6 | N11: =I11+J11+K11+L11+M11 -> 4051277.1 | O11: =C11+H11-N11 -> 1.9468332e+08
A12: 2.2. | B12: Budynki, lokale i obiekty inżynierii lądowej i wodnej | C12: =1210034.51+46258.91 -> 1256293.4 | D12: 0 | H12: =D12+E12+F12+G12 -> 0 | I12: 0 | J12: 0 | M12: 0 | N12: =I12+J12+K12+L12+M12 -> 0 | O12: =C12+H12-N12 -> 1256293.4
A13: 2.3. | B13: Urządzenia techniczne i maszyny | C13: 0 | H13: =D13+E13+F13+G13 -> 0 | N13: =I13+J13+K13+L13+M13 -> 0 | O13: =C13+H13-N13 -> 0
A14: 2.4. | B14: Środki transportu | C14: 0 | H14: =D14+E14+F14+G14 -> 0 | N14: =I14+J14+K14+L14+M14 -> 0 | O14: =C14+H14-N14 -> 0
A15: 2.5. | B15: Inne środki trwałe | C15: 0 | H15: =D15+E15+F15+G15 -> 0 | N15: =I15+J15+K15+L15+M15 -> 0 | O15: =C15+H15-N15 -> 0
A16: 3. | B16: Środki trawale w budowie (inwestycje) | C16: 0 | H16: =D16+E16+F16+G16 -> 0 | N16: =I16+J16+K16+L16+M16 -> 0 | O16: =C16+H16-N16 -> 0
A17: 4. | B17: Zaliczki na środki trawale w budowie (inwestycje) | C17: 0 | H17: =D17+E17+F17+G17 -> 0 | N17: =I17+J17+K17+L17+M17 -> 0 | O17: =C17+H17-N17 -> 0
B20: ……………………………… | G20: 2026-03-30 | L20: ……………………………………………
B21: (główny ksiegowy) | G21: (rok, miesiąc, dzień) | L21: (kierownik jednostki)
A23: Sporządziła: Jolanta Mazurek

Sheet Tabela 2
A1: Tabela 2. Zmiany stanu umorzenia/amortyzacji wartości niematerialnych i prawnych oraz rzeczowych aktywów trwałych
A2: Lp. | B2: Wyszczególnienie | C2: Umorzenie - Stan na początek okresu sprawozdaw-czego | D2: Zwiększenia | H2: Zmniejszenia | L2: Umorzenie - Stan na koniec okresu sprawozdaw-czego | M2: Wartość netto składników aktywów
D3: amortyzacja/ umorzenie za okres sprawozda-wczy | E3: aktualiza-cja | F3: inne zwiekszenia | G3: zwiększenia ogółem | H3: dotyczące zbytych składników | I3: dotyczące zlikwidowa-nych składników | J3: inne zmniejszenia | K3: zmniejszenia ogółem | M3: Wartość netto na początek okresu | N3: Wartość netto na koniec okresu
A4: 1 | B4: 2 | C4: 3 | D4: 4 | E4: 5 | F4: 6 | G4: 7 | H4: 8 | I4: 9 | J4: 10 | K4: 11 | L4: 12 | M4: 13 | N4: 14
A5: I. | B5: Razem wartości niematerialne i prawne | C5: 0 | D5: =D6+D7 -> 0 | E5: =E6+E7 -> 0 | F5: =F6+F7 -> 0 | G5: =D5+E5+F5 -> 0 | H5: =H6+H7 -> 0 | I5: =I6+I7 -> 0 | J5: =J6+J7 -> 0 | K5: =H5+I5+J5 -> 0 | L5: =C5+G5-K5 -> 0 | M5: ='Tabela 1 '!C5-'Tabela 2'!C5 -> 0 | N5: ='Tabela 1 '!O5-'Tabela 2'!L5 -> 0
A6: 1.1. | B6: Licencje i prawa autorskie dotyczace oprogramowania komputerowego | C6: 0 | G6: =D6+E6+F6 -> 0 | K6: =H6+I6+J6 -> 0 | L6: =C6+G6-K6 -> 0 | M6: ='Tabela 1 '!C6-'Tabela 2'!C6 -> 0 | N6: ='Tabela 1 '!O6-'Tabela 2'!L6 -> 0
A7: 1.2. | B7: Pozostale wartości niematerialne i prawne | C7: 0 | G7: =D7+E7+F7 -> 0 | K7: =H7+I7+J7 -> 0 | L7: =C7+G7-K7 -> 0 | M7: ='Tabela 1 '!C7-'Tabela 2'!C7 -> 0 | N7: ='Tabela 1 '!O7-'Tabela 2'!L7 -> 0
A8: II. | B8: Razem rzeczowe aktywa trwałe | C8: =+C9 -> 858380.65 | D8: =D9+D16+D17 -> 15237.28 | E8: =E9+E16+E17 -> 0 | F8: =F9+F16+F17 -> 0 | G8: =D8+E8+F8 -> 15237.28 | H8: =H9+H16+H17 -> 0 | I8: =I9+I16+I17 -> 0 | J8: =J9+J16+J17 -> 0 | K8: =H8+I8+J8 -> 0 | L8: =C8+G8-K8 -> 873617.93 | M8: ='Tabela 1 '!C8-'Tabela 2'!C8 -> 2.8073294e+08 | N8: ='Tabela 1 '!O8-'Tabela 2'!L8 -> 2.7808311e+08
A9: 2. | B9: Razem środki trwałe | C9: =SUM(C10:C13) -> 858380.65 | D9: =D10+D11+D12+D14+D15+D13 -> 15237.28 | E9: =E10+E11+E12+E14+E15+E13 -> 0 | F9: =F10+F11+F12+F14+F15+F13 -> 0 | G9: =G10+G11+G12+G14+G15+G13 -> 15237.28 | H9: =H10+H11+H12+H14+H15+H13 -> 0 | I9: =I10+I11+I12+I14+I15+I13 -> 0 | J9: =J10+J11+J12+J14+J15+J13 -> 0 | K9: =K10+K11+K12+K14+K15+K13 -> 0 | L9: =L10+L11+L12+L14+L15+L13 -> 873617.93 | M9: ='Tabela 1 '!C9-'Tabela 2'!C9 -> 4.7890923e+08 | N9: ='Tabela 1 '!O9-'Tabela 2'!L9 -> 2.7894149e+08
A10: 2.1. | B10: Grunty, w tym: | C10: 0 | G10: =D10+E10+F10 -> 0 | K10: =H10+I10+J10 -> 0 | L10: =C10+G10-K10 -> 0 | M10: ='Tabela 1 '!C10-'Tabela 2'!C10 -> 2.8119341e+08 | N10: ='Tabela 1 '!O10-'Tabela 2'!L10 -> 2.7855882e+08 | P10: =N10+N12 -> 2.7894149e+08
A11: 2.1.1. | B11: Grunty stanowiące własność jednostki samorządu terytorialnego przekazane w użytkowanie wieczyste innym podmiotom | C11: 0 | G11: =D11+E11+F11 -> 0 | K11: =H11+I11+J11 -> 0 | L11: =C11+G11-K11 -> 0 | M11: ='Tabela 1 '!C11-'Tabela 2'!C11 -> 1.9731791e+08 | N11: ='Tabela 1 '!O11-'Tabela 2'!L11 -> 1.9468332e+08
A12: 2.2. | B12: Budynki, lokale i obiekty inżynierii lądowej i wodnej | C12: 858380.65 | D12: 15237.28 | G12: =D12+E12+F12 -> 15237.28 | H12: 0 | I12: 0 | K12: =H12+I12+J12 -> 0 | L12: =C12+G12-K12 -> 873617.93 | M12: ='Tabela 1 '!C12-'Tabela 2'!C12 -> 397912.77 | N12: ='Tabela 1 '!O12-'Tabela 2'!L12 -> 382675.49 | O12: 1674408.5 | P12: =+O12-L12 -> 800790.56
A13: 2.3. | B13: Urządzenia techniczne i maszyny | C13: 0 | G13: =D13+E13+F13 -> 0 | K13: =H13+I13+J13 -> 0 | L13: =C13+G13-K13 -> 0 | M13: ='Tabela 1 '!C13-'Tabela 2'!C13 -> 0 | N13: ='Tabela 1 '!O13-'Tabela 2'!L13 -> 0
A14: 2.4. | B14: Środki transportu | C14: 0 | G14: =D14+E14+F14 -> 0 | K14: =H14+I14+J14 -> 0 | L14: =C14+G14-K14 -> 0 | M14: ='Tabela 1 '!C14-'Tabela 2'!C14 -> 0 | N14: ='Tabela 1 '!O14-'Tabela 2'!L14 -> 0
A15: 2.5. | B15: Inne środki trwałe | C15: 0 | G15: =D15+E15+F15 -> 0 | K15: =H15+I15+J15 -> 0 | L15: =C15+G15-K15 -> 0 | M15: ='Tabela 1 '!C15-'Tabela 2'!C15 -> 0 | N15: ='Tabela 1 '!O15-'Tabela 2'!L15 -> 0
A16: 3. | B16: Środki trawale w budowie (inwestycje) | C16: 0 | G16: =D16+E16+F16 -> 0 | K16: =H16+I16+J16 -> 0 | L16: =C16+G16-K16 -> 0 | M16: ='Tabela 1 '!C16-'Tabela 2'!C16 -> 0 | N16: ='Tabela 1 '!O16-'Tabela 2'!L16 -> 0
A17: 4. | B17: Zaliczki na środki trawale w budowie (inwestycje) | C17: 0 | G17: =D17+E17+F17 -> 0 | K17: =H17+I17+J17 -> 0 | L17: =C17+G17-K17 -> 0 | M17: ='Tabela 1 '!C17-'Tabela 2'!C17 -> 0 | N17: ='Tabela 1 '!O17-'Tabela 2'!L17 -> 0
B20: ……………………………… | E20: 46111 | L20: ……………………………………………
B21: (główny ksiegowy) | E21: (rok, miesiąc, dzień) | L21: (kierownik jednostki)
A23: Sporządziła: Jolanta Mazurek

Sheet Tabela 3.
A2: Tabela 3. Odpisy aktualizujace wartość aktywów trwałych
A4: Lp. | B4: Wyszczególnienie | C4: Stan odpisow aktualizujących na poczatek okresu sprawozdawczego | D4: Zwiększenia odpisow aktualizujących w ciągu okresu sprawozdawczego | E4: Zmiększenia odpisow aktualizujących w ciągu okresu sprawozdawczego | F4: Stan odpisow aktualizujacych na koniec okresu sprawozdawczego (4+5-6)
A6: 1 | B6: 2 | C6: 4 | D6: 5 | E6: 6 | F6: 7
A7: 1. | B7: Wartosci niematerialne i prawne | C7: nie występują
A8: 2. | B8: Srodki trwałe
A9: 3. | B9: Środki trwale w budowie (inwestycje)
A10: 4. | B10: zaliczki naśrodki trwale w budowie (inwestycje)
A11: 5. | B11: Razem długoterminowe aktywa finansowe
A12: 5.1. | B12: Akcje i udziały
A13: 5.2. | B13: Inne papiery wartościowe
A14: 5.3. | B14: Inne długoterminowe aktywa finansowe
A15: X | B15: Ogółem (1 + 2 + 3 + 4 + 5)
B18: ……………………………… | C18: 46111 | E18: ………………………………………
B19: (główny ksiegowy) | C19: (rok, miesiąc, dzień) | E19: (kierownik jednostki)
A21: Sporządził: Jolanta Mazurek

Sheet Tabela 4.
A2: Tabela 4. Zmiany w stanie gruntów użytkowanych wieczyście
A4: Lp. | B4: Lokalizacja i numer dzialki | C4: Wyszczególnienie gruntów uzytkowanych wieczyście - dane identyfikujace grunt | D4: Wartość gruntów uzytkowanych wieczyście - Stan na poczatek okresu sprawozdawczego | E4: Zwiększenia wartości gruntów uzytkowanych wieczyście - Stan w ciagu okresu sprawozdawczego | F4: Zmniejszenia wartości gruntów uzytkowanych wieczyście - Stan w ciagu okresu sprawozdawczego | G4: Stan wartości gruntów użytkowanych wieczyście na koniec okresu sprawozdawczego (4+5-6)
A6: 1 | B6: 2 | C6: 3 | D6: 4 | E6: 5 | F6: 6 | G6: 7
A7: 1. | C7: Powierzchnia (m2 ) | G7: 0
C8: Wartość (zł) | D8: 0 | F8: 0 | G8: 0
A9: 2. | C9: Powierzchnia (m2 )
C10: Wartość (zł)
A11: 3. | C11: Powierzchnia (m2 )
C12: Wartość (zł)
A13: 4. | C13: Powierzchnia (m2 )
C14: Wartość (zł)
A15: x | B15: Razem: | C15: Powierzchnia (m2 ) | G15: 0
C16: Wartość (zł) | D16: =+D8 -> 0 | F16: =+F8 -> 0 | G16: 0
B19: ……………………………… | C19: 46111 | F19: ………………………………………
B20: (główny ksiegowy) | C20: (rok, miesiąc, dzień) | F20: (kierownik jednostki)
A22: Sporządził: Jolanta Mazurek

Sheet Tabela 5
A1: Tabela 5. Zmiany nieamortyzowanych lub nieumarzanych przez jednostkę środków trwałych, używanych na podstawie umów najmu, dzierżawy i innych umów, w tym z tytułu umów leasingu
A3: Lp. | B3: Wyszczególnienie | C3: Wartość na poczatek okresu sprawozdawczego | D3: Zwiekszenia w ciagu okresu sprawozdawczego | E3: Zmniejszenia w ciagu okresu sprawozdawczego | F3: Wartość na koniec okresu sprawozdawczego
A5: 1 | B5: 2 | C5: 3 | D5: 4 | E5: 5 | F5: 6
A6: 1. | B6: Grunty | C6: NIE DOTYCZY | F6: 0
A7: 2. | B7: Budynki, lokale i obiekty inżynierii lądowej i wodnej | F7: =C7+D7-E7 -> 0
A8: 3. | B8: Urządzenia techniczne i maszyny | F8: =C8+D8-E8 -> 0
A9: 3. | B9: Środki transportu | F9: =C9+D9-E9 -> 0
A10: 4. | B10: Inne środki trwałe | F10: =C10+D10-E10 -> 0
A11: … | F11: =C11+D11-E11 -> 0
A12: x | B12: Razem: | C12: 0 | D12: =D6+D7+D8+D9+D10+D11 -> 0 | E12: =E6+E7+E8+E9+E10+E11 -> 0 | F12: =F6+F7+F8+F9+F10+F11 -> 0
B15: ……………………………… | C15: 46111 | E15: ………………………………………
B16: (główny ksiegowy) | C16: (rok, miesiąc, dzień) | E16: (kierownik jednostki)
A18: Sporządził: Jolanta Mazurek

Sheet Tabela 6
A1: Tabela 6. Liczba i wartość posiadanych papierow wartościowych, w tym akcji i udziałów oraz dłużnych papierow wartościowych
A3: Lp. | B3: Wyszczególnienie | C3: Stan na poczatek okresu sprawozdawczego | E3: Zwiekszenia w okresie sprawozdawczym | G3: Zmniejszenia w okresie sprawozdawczym | I3: Stan na koniec okresu sprawozdawczego
C4: liczba | D4: wartość | E4: liczba | F4: wartość | G4: liczba | H4: wartość | I4: liczba | J4: wartość
I5: (3+5+7) | J5: 4+6+8)
A6: 1 | B6: 2 | C6: 3 | D6: 4 | E6: 5 | F6: 6 | G6: 7 | H6: 8 | I6: 9 | J6: 10
A7: 1. | B7: Akcje | C7: NIE DOTYCZY | I7: 0 | J7: =D7+F7+H7 -> 0
A8: 1.1. | I8: =C8+E8+G8 -> 0 | J8: =D8+F8+H8 -> 0
A9: 1.2. | I9: =C9+E9+G9 -> 0 | J9: =D9+F9+H9 -> 0
I10: =C10+E10+G10 -> 0 | J10: =D10+F10+H10 -> 0
A11: 2. | B11: Udziały | I11: =C11+E11+G11 -> 0 | J11: =D11+F11+H11 -> 0
A12: 2.1. | I12: =C12+E12+G12 -> 0 | J12: =D12+F12+H12 -> 0
A13: 2.2. | I13: =C13+E13+G13 -> 0 | J13: =D13+F13+H13 -> 0
I14: =C14+E14+G14 -> 0 | J14: =D14+F14+H14 -> 0
A15: 3. | B15: Dłużne papiery wartościowe | I15: =C15+E15+G15 -> 0 | J15: =D15+F15+H15 -> 0
A16: 3.1. | I16: =C16+E16+G16 -> 0 | J16: =D16+F16+H16 -> 0
A17: 3.2. | I17: =C17+E17+G17 -> 0 | J17: =D17+F17+H17 -> 0
I18: =C18+E18+G18 -> 0 | J18: =D18+F18+H18 -> 0
A19: 4. | B19: Inne papiery wartościowe | I19: =C19+E19+G19 -> 0 | J19: =D19+F19+H19 -> 0
A20: 4.1. | I20: =C20+E20+G20 -> 0 | J20: =D20+F20+H20 -> 0
A21: 4.2. | I21: =C21+E21+G21 -> 0 | J21: =D21+F21+H21 -> 0
I22: =C22+E22+G22 -> 0 | J22: =D22+F22+H22 -> 0
B23: Ogółem: | C23: =C19+C15+C11+C7 -> #VALUE! | D23: =D19+D15+D11+D7 -> 0 | E23: =E19+E15+E11+E7 -> 0 | F23: =F19+F15+F11+F7 -> 0 | G23: =G19+G15+G11+G7 -> 0 | H23: =H19+H15+H11+H7 -> 0 | I23: =C23+E23+G23 -> #VALUE! | J23: =J19+J15+J11+J7 -> 0
B27: ……………………………… | D27: 46111 | I27: ……………………………………………
B28: (główny ksiegowy) | D28: (rok, miesiąc, dzień) | I28: (kierownik jednostki)
A30: Sporządził: Jolanta Mazurek

Sheet Tabela 7
A1: Tabela 7. Zamiany odpisów aktualizujacych wartość należnosci
A3: Lp. | B3: Wyszczegolnienie według grupy należności | C3: Stan odpisow aktualizujacych na poczatek okresu sprawozdawczego | D3: Zwiększenia odpisów aktualizujacych w ciagu okresu sprawozdawczego | E3: Zmniejaszenia odpisow aktualizujacych w ciagu okresu sprawozdawczego | H3: Stan odpisow aktualizujacych na koniec okresu sprawozdawczego (3+4-7)
E4: wykorzystane | F4: rozwiazanie odpisow aktualizujacych (uznanie odpisow za zbędne) | G4: zmniejszenia - razem (5 + 6)
A5: 1 | B5: 2 | C5: 3 | D5: 4 | E5: 5 | F5: 6 | G5: 7 | H5: 8
A6: 1 | B6: Odpisy na należności główne - Skarbu Państwa | C6: 2677125.8 | D6: 175426.5 | E6: 0 | F6: 299318.51 | G6: =+E6+F6 -> 299318.51 | H6: =+C6+D6-G6 -> 2553233.8 | I6: =+E6+F6 -> 299318.51
A7: 2 | B7: Odpisy na odsetki - Skarbu Państwa | C7: 2636046 | D7: 275092.62 | E7: 0 | F7: 674953.88 | G7: =+E7+F7 -> 674953.88 | H7: =+C7+D7-G7 -> 2236184.7 | I7: =+E7+F7 -> 674953.88
A11: x | B11: Razem: | C11: =SUM(C6:C10) -> 5313171.8 | D11: =SUM(D6:D10) -> 450519.12 | E11: =SUM(E6:E10) -> 0 | F11: =SUM(F6:F10) -> 974272.39 | G11: =SUM(G6:G10) -> 974272.39 | H11: =SUM(H6:H10) -> 4789418.5 | I11: 5122422.2 | J11: =+H11-I11 -> -333003.76
B15: ……………………………… | D15: 46111 | G15: ………………………………………
B16: (główny ksiegowy) | D16: (rok, miesiąc, dzień) | G16: (kierownik jednostki)
A18: Sporządził: Jolanta Mazurek
B21: Zmniejszenia fundusz
B22: pozycja 5. "wykorzystane" dotyczy zmniejszenia funduszu z tytyłu wyksięgowanych należności z tytułu m.in.: upadłości, umorzenia, przedawnienia itp. Weryfikacja k.290

Sheet Tabela 8.
A2: Tabela 8. Informacja o stanie rezerw
A4: Lp. | B4: Wyszczególnienie rodzajow rezerw wegług celu ich utworzenia | C4: Stan na początek okresu sprawozdawczego | D4: Zwiększenia w ciągu okresu sprawozdawczego | E4: Zmniejszenia w ciagu okresu sprawozdawczego | H4: Stan na koniec okresu sprawozdawczego (3 +4 -7)
E5: wykorzystanie | F5: rozwiązane (uznanie rezerw za zbędne) | G5: Zmniejszenia razem (5 + 8)
A6: 1 | B6: 2 | C6: 3 | D6: 4 | E6: 5 | F6: 6 | G6: 7 | H6: 8
A7: 1. | B7: NIE DOTYCZY | H7: =SUM(D7:G7) -> 0
A8: 2. | H8: =SUM(D8:G8) -> 0
A9: 3. | H9: =SUM(D9:G9) -> 0
A10: 4. | H10: =SUM(D10:G10) -> 0
A11: 5. | H11: =SUM(D11:G11) -> 0
H12: =SUM(D12:G12) -> 0
H13: =SUM(D13:G13) -> 0
B14: Ogółem: | C14: =C7+C8-C11 -> 0 | D14: =D7+D8-D11 -> 0 | E14: =E7+E8-E11 -> 0 | F14: =F7+F8-F11 -> 0 | G14: =G7+G8-G11 -> 0 | H14: =SUM(D14:G14) -> 0
B17: ……………………………… | C17: 46111 | G17: ………………………………………
B18: (główny ksiegowy) | C18: (rok, miesiąc, dzień) | G18: (kierownik jednostki)
A20: Sporządził: Jolanta Mazurek

Sheet Tabela 9.
A2: Tabela 9. Zobowiązania długoterminowe według okresu spłaty
A4: Lp. | B4: Wyszczegółowienie zobowiazań wg pozycji bilansu | C4: Okres wymagalności | I4: Razem
C5: powyżej 1 roku do 3 lat | E5: powyżej 3 lat do 5 lat | G5: powyżej 5 lat
C6: według stanu na:
C7: początek okresu sprawo-zdawczego | D7: koniec okresu sprawo-zdawczego | E7: początek okresu sprawo-zdawczego | F7: koniec okresu sprawo-zdawczego | G7: początek okresu sprawo- zdawczego | H7: koniec okresu sprawo-zdawczego | I7: początek okresu sprawo-zdawczego (3+5+7) | J7: koniec okresu sprawo-zdawczego (4+6+8)
A8: 1 | B8: 2 | C8: 3 | D8: 4 | E8: 5 | F8: 6 | G8: 7 | H8: 8 | I8: 9 | J8: 10
B9: NIE DOTYCZY
A16: x | B16: Ogółem: | C16: =C9+C10+C11+C12+C13+C14+C15 -> 0 | D16: =D9+D10+D11+D12+D13+D14+D15 -> 0 | E16: =E9+E10+E11+E12+E13+E14+E15 -> 0 | F16: =F9+F10+F11+F12+F13+F14+F15 -> 0 | G16: =G9+G10+G11+G12+G13+G14+G15 -> 0 | H16: =H9+H10+H11+H12+H13+H14+H15 -> 0 | I16: =I9+I10+I11+I12+I13+I14+I15 -> 0 | J16: =J9+J10+J11+J12+J13+J14+J15 -> 0
B19: ……………………………… | D19: 46111 | I19: ……………………………………………
B20: (główny ksiegowy) | D20: (rok, miesiąc, dzień) | I20: (kierownik jednostki)
A22: Sporządził: Jolanta Mazurek

Sheet Tabela 10.
A2: Tabela 10. Łączna kwota zobowiązań zabezpieczonych na majątku jednostki ze wskazaniem charakteru i formy zabezpieczeń
A4: Lp. | B4: Wyszczególnienie według rodzajów zobowiązań | C4: Kwota zobowiązania | D4: Wyszczególnienie według formy i charakteru zabezpieczenia | E4: Kwota zabezpieczenia
A6: 1 | B6: 2 | C6: 3 | D6: 4 | E6: 5
A7: 1. | B7: NIE DOTYCZY
A8: 2.
A9: 3.
A10: 4.
A11: 5.
A12: 6.
A13: 7.
A15: X | B15: Ogółem: | C15: =C7+C8+C9+C10+C11+C12+C13+C14 -> 0 | D15: X | E15: =E7+E8+E9+E10+E11+E12+E13+E14 -> 0
B18: ……………………………… | C18: 46111 | E18: ………………………………….
B19: (główny ksiegowy) | C19: (rok, miesiąc, dzień) | E19: (kierownik jednostki)
A21: Sporządził: Jolanta Mazurek

Sheet Tabela  11.
A3: Tabela 11. Zobowiązania warunkowe na dzień bilansowy
A5: Lp. | B5: Wyszczególnienie według rodzajów zobowiązań warunkowych | C5: Kwota zobowiązania warunkowego | D5: Wyszczególnienie według formy i charakteru zabezpieczenia zobowiazania warunkowego | E5: Kwota zabezpieczenia
A7: 1 | B7: 2 | C7: 3 | D7: 4 | E7: 5
A8: 1. | B8: NIE DOTYCZY
A9: 2.
A10: 3.
A11: 4.
A12: 5.
A13: 6.
A14: 7.
A16: X | B16: Ogółem: | C16: =C8+C9+C10+C11+C12+C13+C14+C15 -> 0 | D16: X | E16: =E8+E9+E10+E11+E12+E13+E14+E15 -> 0
B19: ……………………………… | C19: 46111 | E19: …………………………….
B20: (główny ksiegowy) | E20: (kierownik jednostki)
A22: Sporządził: Jolanta Mazurek

Sheet Tabela 12
A2: Tabela 12. Czynne i bierne rozliczenia międzyokresowe
A4: Lp. | B4: Wyszczególnienie według rodzaju rozliczeń miedzyokresowych | C4: Wartość rozliczeń miedzyokresowych według stanu na:
C5: początek okresu sprawozdawczego | D5: koniec okresu sprawozdawczego
A6: 1. | B6: Rozliczenia międzyokresowe czynne kosztów
A7: 1.1.
A8: 1.2.
A9: …
B10: Rozliczenia międzyokresowe czynne kosztów ogółem: | C10: =C7+C8+C9 -> 0 | D10: =D7+D8+D9 -> 0
A11: 2. | B11: Rozliczenia międzyokresowe czynne przychodów
A12: 2.1.
A13: 2.2.
A14: …
B15: Rozliczenia międzyokresowe czynne przychodów ogółem: | C15: =C12+C13+C14 -> 0 | D15: =D12+D13+D14 -> 0
A16: 3. | B16: Rozliczenia międzyokresowe bierne kosztów
A17: 3.1.
A18: 3.2.
A19: …
B20: Rozliczenia międzyokresowe bierne kosztów ogółem: | C20: =C17+C18+C19 -> 0 | D20: =D17+D18+D19 -> 0
A21: 4. | B21: Rozliczenia międzyokresowe bierne przychodów
A22: 4.1. | B22: Raty za rok 2026 i następne lata - obsługa mienia Skarbu Państwa | C22: 7042727.2 | D22: 6612223.2 | F22: k.840
A23: 4.2.
A24: …
B25: Rozliczenia międzyokresowe bierne przychodów ogółem: | C25: =SUM(C21:C24) -> 7042727.2 | D25: =SUM(D21:D24) -> 6612223.2
B28: 46111 | D28: ……………………………..
B29: (główny ksiegowy) (rok, miesiąc, dzień) | D29: (kierownik jednostki)
A31: Sporządził: Jolanta Mazurek

Sheet Tabela 13
A2: Tabela 13. Kwota otrzymanych gwarancji i poręczeń
A4: Lp. | B4: Wyszczegółowienie według rodzaju otrzymanych gwarancji i poręczeń | C4: Kwota otrzymanych przez jednostkę gwarancji i poręczeń niewykazanych w bilansie według stanu na: | E4: Kwota zobowiazań zabezpieczonych otrzymanymi (niewykazqnymi w bilansie) gwarancjami i poręczeniami według stanu na:
C6: początek okresu sprawozdawczego | D6: koniec okresu sprawozdawczego | E6: początek okresu sprawozdawczego | F6: koniec okresu sprawozdawczego
A7: 1 | B7: 2 | C7: 3 | D7: 4 | E7: 5 | F7: 6
A8: 1. | B8: nie występuje
A9: 2.
A10: 3.
A11: 4.
A12: 5.
A13: 6.
A14: 7.
A15: x | B15: Ogółem: | C15: =C8+C9+C10+C11+C12+C13+C14 -> 0 | D15: =D8+D9+D10+D11+D12+D13+D14 -> 0 | E15: =E8+E9+E10+E11+E12+E13+E14 -> 0 | F15: =F8+F9+F10+F11+F12+F13+F14 -> 0
B18: ……………………………… | C18: 46111 | E18: ……………………………………………
B19: (główny ksiegowy) | C19: (rok, miesiąc, dzień) | E19: (kierownik jednostki)
A21: Sporządził: Jolanta Mazurek

Sheet tabela nr 14
A1: Tabela nr 14
A2: Kwotę wypłaconych środków pieniężnych na świadczenia pracownicze
A4: wykazane na koncie 405 - Ubezpieczenia społeczne i inne świadczenia
A6: Lp. | B6: Wyszczególnienie | C6: Stan na poczatek roku | D6: Stan na koniec roku
A7: 1. | B7: Świadczenia emerytalne | C7: NIE DOTYCZY
A8: 2. | B8: Nagrody jubileuszowe
A9: 3. | B9: Koszty niewykorzystanych urlopów wraz ze składkami ZUS
A10: 4. | B10: Inne świadczenia: | C10: =C11+C12+C13+C14 -> 0 | D10: =D11+D12+D13+D14 -> 0
B11: * odprawy pozostałe
A15: Razem: | C15: 0 | D15: =D7+D8+D9+D10 -> 0
B18: ……………………………… | C18: 46111 | D18: ……………………………..
B19: (główny ksiegowy) | D19: (kierownik jednostki)
A21: Sporządziła: Jolanta Mazurek

Sheet Tabela 15
A2: Tabela 15. Wysokość odpisów aktualizujących wartość zapasów
A4: Lp. | B4: Wyszcegółowienie według rodzaju zapasów | C4: Stan odpisów aktualizujacych na poczatek okresu sprawozdawczego | D4: Zwiększenia odpisów aktualizujacych w ciągu okresu sprawozdawczego | E4: Zmniejszenia odpisów aktualizujacych w ciągu okresu sprawozdawczego | H4: Stan odpisów aktualizujacych na koniec okresu sprawozdawczego (3+4-7)
E6: wykorzystanie | F6: rozwiazamnie odpisów aktualizujacych (uznanie odpisów za zbędne) | G6: zmniejszenia razem (5 + 6)
A8: 1 | B8: 2 | C8: 3 | D8: 4 | E8: 5 | F8: 6 | G8: 7 | H8: 8
B9: NIE DOTYCZY | G9: =E9+F9 -> 0 | H9: =C9+D9-G9 -> 0
G10: =E10+F10 -> 0 | H10: =C10+D10-G10 -> 0
G11: =E11+F11 -> 0 | H11: =C11+D11-G11 -> 0
G12: =E12+F12 -> 0 | H12: =C12+D12-G12 -> 0
G13: =E13+F13 -> 0 | H13: =C13+D13-G13 -> 0
G14: =E14+F14 -> 0 | H14: =C14+D14-G14 -> 0
G15: =E15+F15 -> 0 | H15: =C15+D15-G15 -> 0
A16: x | B16: Ogółem: | C16: =C9+C10+C11+C12+C13+C14+C15 -> 0 | D16: =D9+D10+D11+D12+D13+D14+D15 -> 0 | E16: =E9+E10+E11+E12+E13+E14+E15 -> 0 | F16: =F9+F10+F11+F12+F13+F14+F15 -> 0 | G16: =G9+G10+G11+G12+G13+G14+G15 -> 0 | H16: =H9+H10+H11+H12+H13+H14+H15 -> 0
B19: ……………………………… | D19: 46111 | G19: ……………………………..
B20: (główny ksiegowy) | D20: (rok, miesiąc, dzień) | G20: (kierownik jednostki)
A22: Sporządziła: Jolanta Mazurek

Sheet Tabela 16
A1: Tabela 16. Koszt wytworzenia środków trwałych w budowie
A3: Lp. | B3: Wyszcegółowienie | C3: Koszty wytworzenia poniesione w ciągu poprzedniego okresu sprawozdawczego | F3: Koszty wytworzenia poniesione w ciagu bieżącego okresu sprawozdawczego
C4: ogółem | D4: w tym: | F4: ogółem | G4: w tym:
D5: odsetki | E5: różnice kursowe | G5: odsetki | H5: różnice kursowe
A6: 1 | B6: 2 | C6: 3 | D6: 4 | E6: 5 | F6: 6 | G6: 7 | H6: 8
B7: NIE DOTYCZY
A16: x | B16: Ogółem: | C16: =C7+C8+C9+C10+C13+C14+C15 -> 0 | D16: =D7+D8+D9+D10+D13+D14+D15 -> 0 | E16: =E7+E8+E9+E10+E13+E14+E15 -> 0 | F16: =F7+F8+F9+F10+F13+F14+F15 -> 0 | G16: =G7+G8+G9+G10+G13+G14+G15 -> 0 | H16: =H7+H8+H9+H10+H13+H14+H15 -> 0
B19: ……………………………… | D19: …………………………………… | F19: 2026-03-30 | G19: ……………………………..
B20: (główny ksiegowy) | D20: (rok, miesiąc, dzień) | F20: (rok-miesiąc-dzień) | G20: (kierownik jednostki)
A22: Sporządziła: Jolanta Mazurek

Sheet Tabela 17
A1: Tabela nr 17
A2: Kwota i charakter poszczególnych pozycji przychodów lub kosztów o nadzwyczajnej wartości lub które wystąpiły incydentalnie
A4: Pozostałe przychody operacyjne
A6: Lp. | B6: Treść | C6: 1.01.-31.12. 2024 r. | D6: 1.01.-31.12. 2025 r.
A7: 1 | B7: Zysk ze sprzedaży środków trwałych i wartości niematerialnych i prawnych | C7: 619.51 | D7: 8755.08
A8: 2 | B8: Zysk z likwidacji środków trwałych, inwestycji bez efektu gospodarczego
A9: 3 | B9: Uzyskane kary, grzywny, odszkodowania | C9: 1600 | D9: 0
A10: 4 | B10: Wyegzekwowane odpisane należności
A11: 5 | B11: Darowizny środków trwałych
A12: 6 | B12: Darowizny środków pieniężnych i pozostałych środków obrotowych
A13: 7 | B13: Rozwiązane odpisu aktualizującego wartość należności | C13: 202637.74 | D13: 15924.09
A14: 8 | B14: Nie wykorzystane zgodnie z przeznaczeniem utworzone uprzednio rezerwy
A15: 9 | B15: Zwrot opłat sądowych i innych wierzytelności
A16: 10 | B16: Korzystanie z nieruchomości (w tym bezumowne) i ciężar realny | C16: 20329.89 | D16: 28968.67
A17: RAZEM | C17: =SUM(C7:C16) -> 225187.14 | D17: =SUM(D7:D16) -> 53647.84 | F17: k.760
A19: Pozostałe koszty operacyjne
A21: Lp. | B21: Tytuł | C21: 1.01.-31.12. 2024 r. | D21: 1.01.-31.12. 2025 r.
A22: 1 | B22: Starta ze sprzedaży środków trwałych i wartości niematerialnych i prawnych
A23: 2 | B23: Starta z likwidacji środków trwałych
A24: 3 | B24: Nieplanowane odpisy środków trwałych, wartości niematerialnych i prawnych, które utraciły swoją przydatność
A25: 4 | B25: Wartość środków trwałych w budowie bez efektu gospodarczego
A26: 5 | B26: Wartość środków trwałych w budowie przekazanych nieodpłatnie
A27: 6 | B27: Odpisanie kosztów zaniechanej lub niepodjętej produkcji
A28: 7 | B28: Odpisy aktualizujące (obniżające) wartość zapasów rzeczowych składników majątku obrotowego
A29: 8 | B29: Różnice wycen bilansowych środków trwałych
A30: 9 | B30: Odpisane należności przedawnione, umorzone i nieściągalne
A31: 10 | B31: Przekazane darowizny rzeczowe i finansowe
A32: 11 | B32: Niezawinione niedobory składników majątku obrotowego
A33: 12 | B33: Niezawinione niedobory środków trwałych
... A35: 14 | B35: Odpisy aktualizacyjne z tytułu niedoborów składników majątku obrotowego
A36: 15 | B36: Odpisy aktualizujące wartość należności wątpliwych i nieściągalnych | C36: 118849.18 | D36: 175243.53 | F36: k.761
A37: 16 | B37: Składki na rzecz organizacji społecznych
A38: 17 | B38: Trwała utrata wartości z tyt. ostrożnej wyceny
A39: a | B39: towary
A40: b | B40: materiały
A41: c | B41: środki trwałe
A42: RAZEM | C42: =SUM(C22:C41) -> 118849.18 | D42: =SUM(D22:D41) -> 175243.53
B46: ……………………………… | C46: ………………..
B47: (główny ksiegowy) | C47: (kierownik jednostki)
B48: 46111
B50: Sporządziła: Jolanta Mazurek
