Workbook
Name OLE_LINK1: 'Dane STAROSTWO'!$B$63
Name OLE_LINK1: 'Dane o jednostce'!$B$63

Sheet Dane  STAROSTWO
A2: Sprawozdanie finansowe za rok 2020 rok
A4: I. Wprowadzenie do sprawozdania finansowego.
A5: 1.
A6: 1.1. | B6: Nazwa Jednostki | C6: Starostwo Powiatowe w Gryficach
A7: 1.2. | B7: Siedziba jednostki | C7: Gryfice Pl. Zwycięstwa 37
A8: 1.3. | B8: Adres jednostki | C8: Gryfice Pl. Zwycięstwa 37
A9: 1.4. | B9: Podstawowy przedmiot działalności jednostki | C9: Ustawa z dnia 5 czerwca 1998r. o samorządzie powiatowym
A18: 2. | B18: Wskazanie okresu objętego sprawozdaniem
B19: od 01.01.2020 r. do 31.12.2020 r.
A20: 3. | B20: wskazanie, że sprawozdanie finansowe zawiera dane łączne, jeżeli w skład jednostki nadrzędnej lub jednostki samorządu terytorialnego wchodzą jednostki sporządzające samodzielne sprawozdania finansowe
B21: Sprawozdanie nie zawiera danych łącznych
A22: 4. | B22: omówienie przyjętych zasad (polityki) rachunkowości, w tym metod wyceny aktywów i pasywów (także amortyzacji)
A23: 4. | B23: Aktywa i pasywa wyceniane są przy uwzględnianiu nadrzędnych zasad rachunkowości, w sposób przewidziany ustawą o rachunkowości i rozporzadzeniem Ministra Rozwoju i Finansow w sprawie szczegółowych zasad rachunkowości oraz planu kont dla budżetu państwa , budżetów jednostek samorządu terytorialnego........ 1) Za środki trwałe uważa się przedmioty o przewidywanym okresie użytkowania dłuższym niż jeden rok i o wartości poczatkowej od 5.000,00 zł. 2)Środki trwałe o wartości początkowej od 5.000,00 zł do 9.999,99 zł uważa się za pozostałe srodki trwałe w użytkowaniu stosując jednorazowe umorzenie 100% ich wartości w miesiącu oddania do użytkowania w ciężar kosztów bieżącej działalności- podlegają one ewidencji ilościowo-wartościowej. Wydatki poniesione na ich zakup badź wytworzenie stanowią wydatki bieżące. 3)Środki trwałe o wartości początkowej równej 10.000,00 zł lub większej umarza się lub amortyzuje stosując metodę liniową. 4) Przedmioty o wartości początkowej od 300 do 4.999,99 zł nie kwalifikuje się jako środki trwałe, uważa się je za wyposażenie stanowisk pracy i dla celów księgowych uważa za zużyte w momencie oddania do użytkowania. Podlegają ewidencji ilościowej. 5) Przedmioty o wartości poczatkowej poniżej 300,00 zł stanowiące wyposażenie odnoszone są w koszty bieżącej działalnosci w momencie zakupu, uważa się za zużyte z datą oddania do użytkowania i nie podlegają inwentaryzacji. 6) Do ewidencji i wyceny wartości niematerialnych i prawnych stosuje sią zasady jak dla środkow trwałych. Na potrzeby ustalenia stawek amortyzacyjnych jako okres ich użytkowania przyjmuje się minimalny czas dokonywania odpisów amortyzacyjnych przewidziany przepisami ustawy o podatku dochodowym od osob prawnych. 7) Materiały wycenia się z chwilą nabycia w cenach zakupu i odpisuje się w koszty na dzień ich zakupu. 8) Na dzień bilansowy środki trwale ( z wyjatkiem gruntów) wycenia się w wartosci netto, tj. z uwzglednieniem odpisów umorzeniowych ustalonych na dzień bilansowy.
A24: 5. | B24: inne informacje
A27: II | B27: Dodatkowe informacje i objaśnienia:
A28: 1.
A29: 1.1. | B29: szczegółowy zakres zmian wartości grup rodzajowych środków trwałych, wartości niematerialnych i prawnych, zawierający stan tych aktywów na początek roku obrotowego, zwiększenia i zmniejszenia z tytułu: aktualizacji wartości, nabycia, rozchodu, przemieszczenia wewnętrznego oraz stan końcowy, a dla majątku amortyzowanego - podobne przedstawienie stanów i tytułów zmian dotychczasowej amortyzacji lub umorzenia
B30: tabela nr 1 , nr 2
A31: 1.2. | B31: aktualną wartość rynkową środków trwałych, w tym dóbr kultury - o ile jednostka dysponuje takimi informacjami
B32: Suma ubezpieczeniowa z polisy ubezpieczeniowej- 17.123.487,09
A33: 1.3 | B33: kwotę dokonanych w trakcie roku obrotowego odpisów aktualizujących wartość aktywów trwałych odrębnie dla długoterminowych aktywów niefinansowych oraz długoterminowych aktywów finansowych
B34: tabela nr 3
A35: 1.4 | B35: wartość gruntów użytkowanych wieczyście
B36: tabela nr 4
A37: 1.5 | B37: wartość nieamortyzowanych lub nieumarzanych przez jednostkę środków trwałych, używanych na podstawie umów najmu, dzierżawy i innych umów, w tym z tytułu umów leasingu
B38: tabela nr 5
A39: 1.6 | B39: liczbę oraz wartość posiadanych papierów wartościowych, w tym akcji i udziałów oraz dłużnych papierów wartościowych
B40: nie dotyczy
A41: 1.7 | B41: dane o odpisach aktualizujacych wartość należnosci, ze wskazaniem stanu na poczatek roku obrotowego, zwiekszeniachm, wykorzystaniu, rozwiazaniu i stanie na koniec roku obrotowego, z uwzglednieniem naleznosci finansowych jednostek samorządu terytorialnego (stan pożyczek zagrozonych)
B42: tabela nr 7
A43: 1.8 | B43: dane o stanie rezerw według celu ich utworzenia na początek roku obrotowego, zwiększeniach wykorzystaniu, rozwiązaniu i stanie końcowym
B44: tabela nr 8 | C44: nie wystepują
A45: 1.9 | B45: podział zobowiązań długoterminowych według pozycji bilansu o pozostałym od dnia bilansowego, przewidywanym umową lub wynikającym z innego tytułu prawnego, okresie spłaty:
B46: a) powyżej 1 roku do 3 lat
B47: b) powyżej 3 do 5 lat
B48: c) powyżej 5 lat
B49: tabela nr 9
A50: 1.10 | B50: kwotę zobowiązań w sytuacji gdy jednostka kwalifikuje umowy leasingu zgodnie z przepisami podatkowymi (leasing operacyjny), a według przepisów o rachunkowości byłby to leasing finansowy lub zwrotny z podziałem na kwotę zobowiązań z tytułu leasingu finansowego lub leasingu zwrotnego
B51: nie występują
A52: 1.11 | B52: łączną kwotę zobowiązań zabezpieczonych na majątku jednostki ze wskazaniem charakteru i formy tych zabezpieczeń
...

Sheet Tabela 1 
A1: Tabela 1. Zmiany stanu wartości początkowej wartości niematerialnych i prawnych oraz rzeczowych aktywow trwałych
A2: Lp. | B2: Wyszczególnienie | C2: Wartość poczatkowa - Stan na początek okresu sprawozdaw-czego | D2: Zwiększenia | I2: Zmniejszenia | O2: Wartość poczatkowa - Stan na koniec okresu sprawozdaw-czego
D3: nabycie | E3: przemieszczenia wewnętrzne | F3: aktualizacja | G3: inne zwiekszenia | H3: zwiększenia ogółem | I3: zbycie | J3: likwidacja | K3: przemieszczenia wewnętrzne | L3: aktualizacja | M3: inne zmniejszenia | N3: zmniejszenia ogółem
A4: 1 | B4: 2 | C4: 3 | D4: 4 | E4: 5 | F4: 6 | G4: 7 | H4: 8 | I4: 9 | J4: 10 | K4: 11 | L4: 12 | M4: 13 | N4: 14 | O4: 15
A5: I. | B5: Razem wartości niematerialne i prawne | C5: 514146 | D5: =D6+D7 -> 7046.69 | E5: =E6+E7 -> 0 | F5: =F6+F7 -> 0 | G5: =G6+G7 -> 0 | H5: =D5+E5+F5+G5 -> 7046.69 | I5: =I6+I7 -> 0 | J5: =J6+J7 -> 4640 | K5: =K6+K7 -> 0 | L5: =L6+L7 -> 0 | M5: =M6+M7 -> 0 | N5: =I5+J5+K5+L5+M5 -> 4640 | O5: =C5+H5-N5 -> 516552.69
A6: 1.1. | B6: Licencje i prawa autorskie dotyczace oprogramowania komputerowego | C6: 514146 | D6: 7046.69 | E6: 0 | F6: 0 | G6: 0 | H6: =D6+E6+F6+G6 -> 7046.69 | I6: 0 | J6: 4640 | K6: 0 | L6: 0 | M6: 0 | N6: =I6+J6+K6+L6+M6 -> 4640 | O6: =C6+H6-N6 -> 516552.69
A7: 1.2. | B7: Pozostale wartości niematerialne i prawne | C7: 0 | D7: 0 | E7: 0 | F7: 0 | G7: 0 | H7: 0 | I7: 0 | J7: 0 | K7: 0 | L7: 0 | M7: 0 | N7: =I7+J7+K7+L7+M7 -> 0 | O7: =C7+H7-N7 -> 0
A8: II. | B8: Razem rzeczowe aktywa trwałe | C8: 34419608 | D8: =D9+D16+D17 -> 412177.27 | E8: =E9+E16+E17 -> 0 | F8: =F9+F16+F17 -> 0 | G8: =G9+G16+G17 -> 29036.54 | H8: =H9+H16+H17 -> 441213.81 | I8: =I9+I16+I17 -> 31474.12 | J8: =J9+J16+J17 -> 32675.27 | K8: =K9+K16+K17 -> 0 | ... O8: =O9+O16+O17 -> 34174791
A9: 2. | B9: Razem środki trwałe | C9: 34161954 | D9: =SUM(D10:D15)-D11 -> 19336.27 | E9: =SUM(E10:E15)-E11 -> 0 | F9: =SUM(F10:F15)-F11 -> 0 | G9: =SUM(G10:G15)-G11 -> 29036.54 | H9: =SUM(H10:H15)-H11 -> 48372.81 | I9: =SUM(I10:I15)-I11 -> 31474.12 | J9: =SUM(J10:J15)-J11 -> 32675.27 | K9: =SUM(K10:K15)-K11 -> 0 | ... O9: =SUM(O10:O15)-O11 -> 33917137
A10: 2.1. | B10: Grunty, w tym: | C10: 4745808 | G10: 14129.54 | H10: =D10+E10+F10+G10 -> 14129.54 | I10: =16738+14736.12 -> 31474.12 | M10: =255387.46-I10 -> 223913.34 | N10: =I10+J10+K10+L10+M10 -> 255387.46 | O10: =C10+H10-N10 -> 4504550.1
A11: 2.1.1. | B11: Grunty stanowiące własność jednostki samorządu terytorialnego przekazane w użytkowanie wieczyste innym podmiotom | C11: 5500 | H11: =D11+E11+F11+G11 -> 0 | N11: =I11+J11+K11+L11+M11 -> 0 | O11: =C11+H11-N11 -> 5500
A12: 2.2. | B12: Budynki, lokale i obiekty inżynierii lądowej i wodnej | C12: 25134764 | G12: 14907 | H12: =D12+E12+F12+G12 -> 14907 | N12: =I12+J12+K12+L12+M12 -> 0 | O12: =C12+H12-N12 -> 25149671
A13: 2.3. | B13: Urządzenia techniczne i maszyny | C13: 3009490.2 | D13: 14324.02 | H13: =D13+E13+F13+G13 -> 14324.02 | J13: =2930.43+3874.5 -> 6804.93 | N13: =I13+J13+K13+L13+M13 -> 6804.93 | O13: =C13+H13-N13 -> 3017009.3
A14: 2.4. | B14: Środki transportu | C14: 373739.7 | H14: =D14+E14+F14+G14 -> 0 | N14: =I14+J14+K14+L14+M14 -> 0 | O14: =C14+H14-N14 -> 373739.7
A15: 2.5. | B15: Inne środki trwałe | C15: 898152.6 | D15: 5012.25 | H15: =D15+E15+F15+G15 -> 5012.25 | J15: =28293.6-M15+2703.74 -> 25870.34 | M15: 5127 | N15: =I15+J15+K15+L15+M15 -> 30997.34 | O15: =C15+H15-N15 -> 872167.51
A16: 3. | B16: Środki trwałe w budowie (inwestycje) | C16: 257653.5 | D16: =360000+32841 -> 392841 | H16: =D16+E16+F16+G16 -> 392841 | M16: =+D16 -> 392841 | N16: =I16+J16+K16+L16+M16 -> 392841 | O16: =C16+H16-N16 -> 257653.5
A17: 4. | B17: Zaliczki na środki trwałe w budowie (inwestycje) | C17: 0 | H17: =D17+E17+F17+G17 -> 0 | N17: =I17+J17+K17+L17+M17 -> 0 | O17: =C17+H17-N17 -> 0
B20: ……………………………… | G20: 44281 | L20: ……………………………………………
B21: (główny ksiegowy) | G21: (rok, miesiąc, dzień) | L21: (kierownik jednostki)
A23: Sporządził: Agnieszka Bartkowska - Sprusińska

Sheet Tabela 2
A1: Tabela 2. Zmiany stanu umorzenia/amortyzacji wartości niematerialnych i prawnych oraz rzeczowych aktywów trwałych
A2: Lp. | B2: Wyszczególnienie | C2: Umorzenie - Stan na początek okresu sprawozdaw-czego | D2: Zwiększenia | H2: Zmniejszenia | L2: Umorzenie - Stan na koniec okresu sprawozdaw-czego | M2: Wartość netto składników aktywów
D3: amortyzacja/ umorzenie za okres sprawozda-wczy | E3: aktualiza-cja | F3: inne zwiększenia | G3: zwiększenia ogółem | H3: dotyczące zbytych składników | I3: dotyczące zlikwidowa-nych składników | J3: inne zmniejszenia | K3: zmniejszenia ogółem | M3: Wartość netto na początek okresu | N3: Wartość netto na koniec okresu
A4: 1 | B4: 2 | C4: 3 | D4: 4 | E4: 5 | F4: 6 | G4: 7 | H4: 8 | I4: 9 | J4: 10 | K4: 11 | L4: 12 | M4: 13 | N4: 14
A5: I. | B5: Razem wartości niematerialne i prawne | C5: 514146 | D5: =D6+D7 -> 7046.69 | E5: =E6+E7 -> 0 | F5: =F6+F7 -> 0 | G5: =D5+E5+F5 -> 7046.69 | H5: =H6+H7 -> 0 | I5: =I6+I7 -> 4640 | J5: =J6+J7 -> 0 | K5: =H5+I5+J5 -> 4640 | L5: =C5+G5-K5 -> 516552.69 | M5: ='Tabela 1 '!C5-'Tabela 2'!C5 -> 0 | N5: ='Tabela 1 '!O5-'Tabela 2'!L5 -> 0
A6: 1.1. | B6: Licencje i prawa autorskie dotyczace oprogramowania komputerowego | C6: 514146 | D6: 7046.69 | G6: =D6+E6+F6 -> 7046.69 | I6: 4640 | K6: =H6+I6+J6 -> 4640 | L6: =C6+G6-K6 -> 516552.69 | M6: ='Tabela 1 '!C6-'Tabela 2'!C6 -> 0 | N6: ='Tabela 1 '!O6-'Tabela 2'!L6 -> 0
A7: 1.2. | B7: Pozostale wartości niematerialne i prawne | C7: 0 | G7: =D7+E7+F7 -> 0 | K7: =H7+I7+J7 -> 0 | L7: =C7+G7-K7 -> 0 | M7: ='Tabela 1 '!C7-'Tabela 2'!C7 -> 0 | N7: ='Tabela 1 '!O7-'Tabela 2'!L7 -> 0
A8: II. | B8: Razem rzeczowe aktywa trwałe | C8: 11266493 | D8: =D9+D16+D17 -> 1029388 | E8: =E9+E16+E17 -> 0 | F8: =F9+F16+F17 -> 0 | G8: =D8+E8+F8 -> 1029388 | H8: =H9+H16+H17 -> 0 | I8: =I9+I16+I17 -> 32675.27 | J8: =J9+J16+J17 -> 5127 | K8: =H8+I8+J8 -> 37802.27 | L8: =C8+G8-K8 -> 12258078 | M8: ='Tabela 1 '!C8-'Tabela 2'!C8 -> 23153115 | N8: ='Tabela 1 '!O8-'Tabela 2'!L8 -> 21916713
A9: 2. | B9: Razem środki trwałe | C9: 11266493 | D9: =D10+D11+D12+D14+D15+D13 -> 1029388 | E9: =E10+E11+E12+E14+E15+E13 -> 0 | F9: =F10+F11+F12+F14+F15+F13 -> 0 | G9: =G10+G11+G12+G14+G15+G13 -> 1029388 | H9: =H10+H11+H12+H14+H15+H13 -> 0 | I9: =I10+I11+I12+I14+I15+I13 -> 32675.27 | J9: =J10+J11+J12+J14+J15+J13 -> 5127 | K9: =K10+K11+K12+K14+K15+K13 -> 37802.27 | L9: =L10+L11+L12+L14+L15+L13 -> 12258078 | M9: ='Tabela 1 '!C9-'Tabela 2'!C9 -> 22895462 | N9: ='Tabela 1 '!O9-'Tabela 2'!L9 -> 21659059
A10: 2.1. | B10: Grunty, w tym: | C10: 0 | G10: =D10+E10+F10 -> 0 | K10: =H10+I10+J10 -> 0 | L10: =C10+G10-K10 -> 0 | M10: ='Tabela 1 '!C10-'Tabela 2'!C10 -> 4745808 | N10: ='Tabela 1 '!O10-'Tabela 2'!L10 -> 4504550.1
A11: 2.1.1. | B11: Grunty stanowiące własność jednostki samorządu terytorialnego przekazane w użytkowanie wieczyste innym podmiotom | C11: 0 | G11: =D11+E11+F11 -> 0 | K11: =H11+I11+J11 -> 0 | L11: =C11+G11-K11 -> 0 | M11: ='Tabela 1 '!C11-'Tabela 2'!C11 -> 5500 | N11: ='Tabela 1 '!O11-'Tabela 2'!L11 -> 5500
A12: 2.2. | B12: Budynki, lokale i obiekty inżynierii lądowej i wodnej | C12: 7625414 | D12: =352368.24+499982.52 -> 852350.76 | G12: =D12+E12+F12 -> 852350.76 | K12: =H12+I12+J12 -> 0 | L12: =C12+G12-K12 -> 8477764.7 | M12: ='Tabela 1 '!C12-'Tabela 2'!C12 -> 17509350 | N12: ='Tabela 1 '!O12-'Tabela 2'!L12 -> 16671906
A13: 2.3. | B13: Urządzenia techniczne i maszyny | C13: 2508622.5 | D13: =58444.84+5729.85+77128.56 -> 141303.25 | G13: =D13+E13+F13 -> 141303.25 | I13: =2930.43+3874.5 -> 6804.93 | K13: =H13+I13+J13 -> 6804.93 | L13: =C13+G13-K13 -> 2643120.8 | M13: ='Tabela 1 '!C13-'Tabela 2'!C13 -> 500867.7 | N13: ='Tabela 1 '!O13-'Tabela 2'!L13 -> 373888.47
A14: 2.4. | B14: Środki transportu | C14: 270063.65 | D14: 16931.16 | G14: =D14+E14+F14 -> 16931.16 | K14: =H14+I14+J14 -> 0 | L14: =C14+G14-K14 -> 286994.81 | M14: ='Tabela 1 '!C14-'Tabela 2'!C14 -> 103676.05 | N14: ='Tabela 1 '!O14-'Tabela 2'!L14 -> 86744.89
A15: 2.5. | B15: Inne środki trwałe | C15: 862392.39 | D15: =13790.55+5012.25 -> 18802.8 | G15: =D15+E15+F15 -> 18802.8 | I15: =30997.34-J15 -> 25870.34 | J15: 5127 | K15: =H15+I15+J15 -> 30997.34 | L15: =C15+G15-K15 -> 850197.85 | M15: ='Tabela 1 '!C15-'Tabela 2'!C15 -> 35760.21 | N15: ='Tabela 1 '!O15-'Tabela 2'!L15 -> 21969.66
A16: 3. | B16: Środki trwałe w budowie (inwestycje) | C16: 0 | G16: =D16+E16+F16 -> 0 | K16: =H16+I16+J16 -> 0 | L16: =C16+G16-K16 -> 0 | M16: ='Tabela 1 '!C16-'Tabela 2'!C16 -> 257653.5 | N16: ='Tabela 1 '!O16-'Tabela 2'!L16 -> 257653.5
A17: 4. | B17: Zaliczki na środki trwałe w budowie (inwestycje) | C17: 0 | G17: =D17+E17+F17 -> 0 | K17: =H17+I17+J17 -> 0 | L17: =C17+G17-K17 -> 0 | M17: ='Tabela 1 '!C17-'Tabela 2'!C17 -> 0 | N17: ='Tabela 1 '!O17-'Tabela 2'!L17 -> 0
M18: =+L18-L19 -> 0
B20: ……………………………… | E20: 44281 | L20: ……………………………………………
B21: (główny ksiegowy) | E21: (rok, miesiąc, dzień) | L21: (kierownik jednostki)
A23: Sporządził: Agnieszka Bartkowska - Sprusińska

Sheet Tabela 3.
A2: Tabela 3. Odpisy aktualizujace wartość aktywów trwałych
A4: Lp. | B4: Wyszczególnienie | C4: Stan odpisow aktualizujących na poczatek okresu sprawozdawczego | D4: Zwiększenia odpisow aktualizujących w ciągu okresu sprawozdawczego | E4: Zmiększenia odpisow aktualizujących w ciągu okresu sprawozdawczego | F4: Stan odpisow aktualizujacych na koniec okresu sprawozdawczego (4+5-6)
A6: 1 | B6: 2 | C6: 4 | D6: 5 | E6: 6 | F6: 7
A7: 1. | B7: Wartosci niematerialne i prawne | C7: NIE DOTYCZY
A8: 2. | B8: Srodki trwałe
A9: 3. | B9: Środki trwale w budowie (inwestycje)
A10: 4. | B10: zaliczki naśrodki trwale w budowie (inwestycje)
A11: 5. | B11: Razem długoterminowe aktywa finansowe
A12: 5.1. | B12: Akcje i udziały
A13: 5.2. | B13: Inne papiery wartościowe
A14: 5.3. | B14: Inne długoterminowe aktywa finansowe
A15: X | B15: Ogółem (1 + 2 + 3 + 4 + 5)
B18: ……………………………… | C18: 44281 | E18: ………………………………………
B19: (główny ksiegowy) | C19: (rok, miesiąc, dzień) | E19: (kierownik jednostki)
A21: Sporządził: Agnieszka Bartkowska - Sprusińska

Sheet Tabela 4.
A2: Tabela 4. Zmiany w stanie gruntów użytkowanych wieczyście
A4: Lp. | B4: Lokalizacja i numer dzialki | C4: Wyszczególnienie gruntów uzytkowanych wieczyście - dane identyfikujace grunt | D4: Wartość gruntów uzytkowanych wieczyście - Stan na poczatek okresu sprawozdawczego | E4: Zwiększenia wartości gruntów uzytkowanych wieczyście - Stan w ciagu okresu sprawozdawczego | F4: Zmniejszenia wartości gruntów uzytkowanych wieczyście - Stan w ciagu okresu sprawozdawczego | G4: Stan wartości gruntów użytkowanych wieczyście na koniec okresu sprawozdawczego (4+5-6)
A6: 1 | B6: 2 | C6: 3 | D6: 4 | E6: 5 | F6: 6 | G6: 7
A7: 1. | C7: Powierzchnia (m2 ) | D7: 0 | G7: 0
C8: Wartość (zł) | D8: 0 | G8: 0
A9: 2. | C9: Powierzchnia (m2 )
C10: Wartość (zł)
A11: 3. | C11: Powierzchnia (m2 )
C12: Wartość (zł)
A13: 4. | C13: Powierzchnia (m2 )
C14: Wartość (zł)
A15: x | B15: Razem: | C15: Powierzchnia (m2 ) | D15: 0 | G15: 0
C16: Wartość (zł) | D16: 0 | G16: 0
B19: ……………………………… | C19: 2021-03-26 | F19: ………………………………………
B20: (główny ksiegowy) | C20: (rok, miesiąc, dzień) | F20: (kierownik jednostki)
A22: Sporządził: Agnieszka Bartkowska - Sprusińska
A24: Uwaga - w sprawozdaniu za rok ubiegły wykazywano tu grunty oddane w wieczyste użytkowanie. Tymczasem zgodnie z wyjaśnieniem Ministerstwa Finansów
A25: winna być tu ujęta wartość gruntów otrzymanych w wieczyste użytkowanie.

Sheet Tabela 5
A1: Tabela 5. Zmiany nieamortyzowanych lub nieumarzanych przez jednostkę środków trwałych, używanych na podstawie umów najmu, dzierżawy i innych umów, w tym z tytułu umów leasingu
A3: Lp. | B3: Wyszczególnienie | C3: Wartość na poczatek okresu sprawozdawczego | D3: Zwiększenia w ciagu okresu sprawozdawczego | E3: Zmniejszenia w ciagu okresu sprawozdawczego | F3: Wartość na koniec okresu sprawozdawczego
A5: 1 | B5: 2 | C5: 3 | D5: 4 | E5: 5 | F5: 6
A6: 1. | B6: Grunty | F6: =C6+D6-E6 -> 0
A7: 2. | B7: Budynki, lokale i obiekty inżynierii lądowej i wodnej | C7: 14907 | D7: 0 | E7: =+C7 -> 14907 | F7: =+C7+D7-E7 -> 0
A8: 3. | B8: Urządzenia techniczne i maszyny | C8: 119047.18 | D8: 19311 | E8: 19458.6 | F8: =+C8+D8-E8 -> 118899.58
A9: 3. | B9: Środki transportu | F9: =C9+D9-E9 -> 0
A10: 4. | B10: Inne środki trwałe | F10: =C10+D10-E10 -> 0
A11: … | F11: =C11+D11-E11 -> 0
A12: x | B12: Razem: | C12: =C6+C7+C8+C9+C10+C11 -> 133954.18 | D12: =SUM(D6:D11) -> 19311 | E12: =SUM(E6:E11) -> 34365.6 | F12: =F6+F7+F8+F9+F10+F11 -> 118899.58
B15: ……………………………… | C15: 44281 | E15: ………………………………………
B16: (główny ksiegowy) | C16: (rok, miesiąc, dzień) | E16: (kierownik jednostki)
A18: Sporządził: Agnieszka Bartkowska - Sprusińska

Sheet Tabela 6
A1: Tabela 6. Liczba i wartość posiadanych papierow wartościowych, w tym akcji i udziałów oraz dłużnych papierow wartościowych
A3: Lp. | B3: Wyszczególnienie | C3: Stan na poczatek okresu sprawozdawczego | E3: Zwiekszenia w okresie sprawozdawczym | G3: Zmniejszenia w okresie sprawozdawczym | I3: Stan na koniec okresu sprawozdawczego
C4: liczba | D4: wartość | E4: liczba | F4: wartość | G4: liczba | H4: wartość | I4: liczba | J4: wartość
I5: (3+5+7) | J5: 4+6+8)
A6: 1 | B6: 2 | C6: 3 | D6: 4 | E6: 5 | F6: 6 | G6: 7 | H6: 8 | I6: 9 | J6: 10
A7: 1. | B7: Akcje | C7: NIE DOTYCZY | I7: 0 | J7: =D7+F7+H7 -> 0
A8: 1.1. | I8: =C8+E8+G8 -> 0 | J8: =D8+F8+H8 -> 0
A9: 1.2. | I9: =C9+E9+G9 -> 0 | J9: =D9+F9+H9 -> 0
I10: =C10+E10+G10 -> 0 | J10: =D10+F10+H10 -> 0
A11: 2. | B11: Udziały | I11: =C11+E11+G11 -> 0 | J11: =D11+F11+H11 -> 0
A12: 2.1. | I12: =C12+E12+G12 -> 0 | J12: =D12+F12+H12 -> 0
A13: 2.2. | I13: =C13+E13+G13 -> 0 | J13: =D13+F13+H13 -> 0
I14: =C14+E14+G14 -> 0 | J14: =D14+F14+H14 -> 0
A15: 3. | B15: Dłużne papiery wartościowe | I15: =C15+E15+G15 -> 0 | J15: =D15+F15+H15 -> 0
A16: 3.1. | I16: =C16+E16+G16 -> 0 | J16: =D16+F16+H16 -> 0
A17: 3.2. | I17: =C17+E17+G17 -> 0 | J17: =D17+F17+H17 -> 0
I18: =C18+E18+G18 -> 0 | J18: =D18+F18+H18 -> 0
A19: 4. | B19: Inne papiery wartościowe | I19: =C19+E19+G19 -> 0 | J19: =D19+F19+H19 -> 0
A20: 4.1. | I20: =C20+E20+G20 -> 0 | J20: =D20+F20+H20 -> 0
A21: 4.2. | I21: =C21+E21+G21 -> 0 | J21: =D21+F21+H21 -> 0
I22: =C22+E22+G22 -> 0 | J22: =D22+F22+H22 -> 0
B23: Ogółem: | C23: =C19+C15+C11+C7 -> #VALUE! | D23: =D19+D15+D11+D7 -> 0 | E23: =E19+E15+E11+E7 -> 0 | F23: =F19+F15+F11+F7 -> 0 | G23: =G19+G15+G11+G7 -> 0 | H23: =H19+H15+H11+H7 -> 0 | I23: =C23+E23+G23 -> #VALUE! | J23: =J19+J15+J11+J7 -> 0
B27: ……………………………… | D27: 44281 | I27: ……………………………………………
B28: (główny ksiegowy) | D28: (rok, miesiąc, dzień) | I28: (kierownik jednostki)
A30: Sporządził: Agnieszka Bartkowska - Sprusińska

Sheet Tabela 7
A1: Tabela 7. Zmiany odpisów aktualizujacych wartość należnosci
A3: Lp. | B3: Wyszczegolnienie według grupy należności | C3: Stan odpisow aktualizujacych na poczatek okresu sprawozdawczego | D3: Zwiekszenia odpisów aktualizujacych w ciagu okresu sprawozdawczego | E3: Zmniejaszenia odpisow aktualizujacych w ciagu okresu sprawozdawczego | H3: Stan odpisow aktualizujacych na koniec okresu sprawozdawczego (3+4-7)
E4: wykorzystane | F4: rozwiazanie odpisow aktualizujacych (uznanie odpisow za zbędne) | G4: zmniejszenia - razem (5 + 6)
A5: 1 | B5: 2 | C5: 3 | D5: 4 | E5: 5 | F5: 6 | G5: 7 | H5: 8
A6: 1 | B6: Odpisy na należności główne - Starostwo | C6: 91911.23 | D6: 10743.6 | E6: 492 | G6: =+E6+F6 -> 492 | H6: =+C6+D6-G6 -> 102162.83
A7: 2 | B7: Odpisy na odsetki - Starostwo | C7: 101069.04 | D7: 3098.31 | E7: 162.64 | F7: 5524.3 | G7: =+E7+F7 -> 5686.94 | H7: =+C7+D7-G7 -> 98480.41
C8: 0 | G8: =+E8+F8 -> 0 | H8: =+C8+D8-G8 -> 0
A10: x | B10: Razem: | C10: =SUM(C6:C9) -> 192980.27 | D10: =SUM(D6:D9) -> 13841.91 | E10: =SUM(E6:E9) -> 654.64 | F10: =SUM(F6:F9) -> 5524.3 | G10: =SUM(G6:G9) -> 6178.94 | H10: =SUM(H6:H9) -> 200643.24
B14: ……………………………… | D14: 44281 | G14: ………………………………………
B15: (główny ksiegowy) | D15: (rok, miesiąc, dzień) | G15: (kierownik jednostki)
A17: Sporządził: Agnieszka Bartkowska - Sprusińska

Sheet Tabela 8.
A2: Tabela 8. Informacja o stanie rezerw
A4: Lp. | B4: Wyszczególnienie rodzajów rezerw według celu ich utworzenia | C4: Stan na początek okresu sprawozdawczego | D4: Zwiększenia w ciągu okresu sprawozdawczego | E4: Zmniejszenia w ciagu okresu sprawozdawczego | H4: Stan na koniec okresu sprawozdawczego (3 +4 -7)
E5: wykorzystanie | F5: rozwiązane (uznanie rezerw za zbędne) | G5: Zmniejszenia razem (5 + 8)
A6: 1 | B6: 2 | C6: 3 | D6: 4 | E6: 5 | F6: 6 | G6: 7 | H6: 8
A7: 1. | B7: NIE DOTYCZY | H7: =SUM(D7:G7) -> 0
A8: 2. | H8: =SUM(D8:G8) -> 0
A9: 3. | H9: =SUM(D9:G9) -> 0
A10: 4. | H10: =SUM(D10:G10) -> 0
A11: 5. | H11: =SUM(D11:G11) -> 0
H12: =SUM(D12:G12) -> 0
H13: =SUM(D13:G13) -> 0
B14: Ogółem: | C14: =C7+C8-C11 -> 0 | D14: =D7+D8-D11 -> 0 | E14: =E7+E8-E11 -> 0 | F14: =F7+F8-F11 -> 0 | G14: =G7+G8-G11 -> 0 | H14: =SUM(D14:G14) -> 0
B17: ……………………………… | C17: 44281 | G17: ………………………………………
B18: (główny ksiegowy) | C18: (rok, miesiąc, dzień) | G18: (kierownik jednostki)
A20: Sporządził: Agnieszka Bartkowska - Sprusińska

Sheet Tabela 9.
A2: Tabela 9. Zobowiazania długoterminowe według okresu spłaty
A4: Lp. | B4: Wyszcegółowienie zobowiazań wg pozycji bilansu | C4: Okres wymagalności | I4: Razem
C5: powyżej 1 roku do 3 lat | E5: powyżej 3 lat do 5 lat | G5: powyżej 5 lat
C6: według stanu na:
C7: początek okresu sprawo-zdawczego | D7: koniec okresu sprawo-zdawczego | E7: początek okresu sprawo-zdawczego | F7: koniec okresu sprawo-zdawczego | G7: początek okresu sprawo- zdawczego | H7: koniec okresu sprawo-zdawczego | I7: początek okresu sprawo-zdawczego (3+5+7) | J7: koniec okresu sprawo-zdawczego (4+6+8)
A8: 1 | B8: 2 | C8: 3 | D8: 4 | E8: 5 | F8: 6 | G8: 7 | H8: 8 | I8: 9 | J8: 10
B9: NIE DOTYCZY
A16: x | B16: Ogółem: | C16: =C9+C10+C11+C12+C13+C14+C15 -> 0 | D16: =D9+D10+D11+D12+D13+D14+D15 -> 0 | E16: =E9+E10+E11+E12+E13+E14+E15 -> 0 | F16: =F9+F10+F11+F12+F13+F14+F15 -> 0 | G16: =G9+G10+G11+G12+G13+G14+G15 -> 0 | H16: =H9+H10+H11+H12+H13+H14+H15 -> 0 | I16: =I9+I10+I11+I12+I13+I14+I15 -> 0 | J16: =J9+J10+J11+J12+J13+J14+J15 -> 0
B19: ……………………………… | D19: 44281 | I19: ……………………………………………
B20: (główny ksiegowy) | D20: (rok, miesiąc, dzień) | I20: (kierownik jednostki)
A22: Sporządził: Agnieszka Bartkowska - Sprusińska

Sheet Tabela 10.
A2: Tabela 10. Łączna kwota zobowiazań zabezpieczonych na majątku jednostki ze wskazaniem charakteru i formy zabezpieczeń
A4: Lp. | B4: Wyszczególnienie według rodzajów zobowiązań | C4: Kwota zobowiązania | D4: Wyszczególnienie według formy i charakteru zabezpieczenia | E4: Kwota zabezpieczenia
A6: 1 | B6: 2 | C6: 3 | D6: 4 | E6: 5
A7: 1. | B7: NIE DOTYCZY
A8: 2.
A9: 3.
A10: 4.
A11: 5.
A12: 6.
A13: 7.
A15: X | B15: Ogółem: | C15: =C7+C8+C9+C10+C11+C12+C13+C14 -> 0 | D15: X | E15: =E7+E8+E9+E10+E11+E12+E13+E14 -> 0
B18: ……………………………… | C18: 44281 | E18: ………………………………….
B19: (główny ksiegowy) | C19: (rok, miesiąc, dzień) | E19: (kierownik jednostki)
A21: Sporządził: Agnieszka Bartkowska - Sprusińska

Sheet Tabela  11.
A3: Tabela 11. Zobowiązania warunkowe na dzień bilansowy
A5: Lp. | B5: Wyszczególnienie według rodzajów zobowiązań warunkowych | C5: Kwota zobowiązania warunkowego | D5: Wyszczególnienie według formy i charakteru zabezpieczenia zobowiazania warunkowego | E5: Kwota zabezpieczenia
A7: 1 | B7: 2 | C7: 3 | D7: 4 | E7: 5
A8: 1. | B8: Część zapłaty za wykonanie pomostu na terenie kąpieliska mejskiego (zastosowano drewno inne, niż umówione) | C8: 100000 | D8: zobowiązanie sporne - sprawa w toku | E8: 34942.6
A9: 2.
A10: 3.
A11: 4.
A12: 5.
A13: 6.
A15: X | B15: Ogółem: | C15: =SUM(C8:C14) -> 100000 | D15: X | E15: =SUM(E8:E14) -> 34942.6
B18: ……………………………… | C18: 44281 | E18: …………………………….
B19: (główny ksiegowy) | C19: (rok, miesiąc, dzień) | E19: (kierownik jednostki)
A21: Sporządził: Agnieszka Bartkowska - Sprusińska

Sheet Tabela 12
A2: Tabela 12. Czynne i bierne rozliczenia międzyokresowe
A4: Lp. | B4: Wyszczególnienie według rodzaju rozliczeń miedzyokresowych | C4: Wartość rozliczeń miedzyokresowych według stanu na:
C5: początek okresu sprawozdawczego | D5: koniec okresu sprawozdawczego
A6: 1. | B6: Rozliczenia międzyokresowe czynne kosztów
A7: 1.1.
A8: 1.2.
A9: …
B10: Rozliczenia międzyokresowe czynne kosztów ogółem: | C10: =C7+C8+C9 -> 0 | D10: =D7+D8+D9 -> 0
A11: 2. | B11: Rozliczenia międzyokresowe czynne przychodów
A12: 2.1.
A13: 2.2.
A14: …
B15: Rozliczenia międzyokresowe czynne przychodów ogółem: | C15: =C12+C13+C14 -> 0 | D15: =D12+D13+D14 -> 0
A16: 3. | B16: Rozliczenia międzyokresowe bierne kosztów
A17: 3.1.
A18: 3.2.
A19: …
B20: Rozliczenia międzyokresowe bierne kosztów ogółem: | C20: =C17+C18+C19 -> 0 | D20: =D17+D18+D19 -> 0
A21: 4. | B21: Rozliczenia międzyokresowe bierne przychodów
A22: 4.1. | B22: Raty za rok 2021 i następne lata z tyt.sprzedaży gruntów - Powiatu | C22: 16560 | D22: 11039.95
A23: …
B24: Rozliczenia międzyokresowe bierne przychodów ogółem: | C24: =SUM(C21:C23) -> 16560 | D24: =SUM(D21:D23) -> 11039.95
B27: ……………………………… 2021-03-26 | D27: ……………………………..
B28: (główny ksiegowy) (rok, miesiąc, dzień) | D28: (kierownik jednostki)
A30: Sporządził: Agnieszka Bartkowska - Sprusińska

Sheet Tabela 13
A2: Tabela 13. Kwota otrzymanych gwarancji i poręczeń
A4: Lp. | B4: Wyszczegółowienie według rodzaju otrzymanych gwarancji i poręczeń | C4: Kwota otrzymanych przez jednostkę gwarancji i poręczeń niewykazanych w bilansie według stanu na: | E4: Kwota zobowiazań zabezpieczonych otrzymanymi (niewykazanymi w bilansie) gwarancjami i poręczeniami według stanu na:
C6: początek okresu sprawozdawczego | D6: koniec okresu sprawozdawczego | E6: początek okresu sprawozdawczego | F6: koniec okresu sprawozdawczego
A7: 1 | B7: 2 | C7: 3 | D7: 4 | E7: 5 | F7: 6
A8: 1.
A9: 2.
A10: 3.
A11: 4.
A12: 5.
A13: 6.
A14: 7.
A15: x | B15: Ogółem: | C15: =C8+C9+C10+C11+C12+C13+C14 -> 0 | D15: =D8+D9+D10+D11+D12+D13+D14 -> 0 | E15: =E8+E9+E10+E11+E12+E13+E14 -> 0 | F15: =F8+F9+F10+F11+F12+F13+F14 -> 0
B18: ……………………………… | C18: 44281 | E18: ……………………………………………
B19: (główny ksiegowy) | C19: (rok, miesiąc, dzień) | E19: (kierownik jednostki)
A21: Sporządził: Joanna Oksiejuk

Sheet tabela nr 14
A1: Tabela nr 14
A2: Kwotę wypłaconych środków pieniężnych na świadczenia pracownicze
A4: wykazane na koncie 405 - Ubezpieczenia społeczne i inne świadczenia
A6: Lp. | B6: Wyszczególnienie | C6: Stan na koniec roku
A7: 1. | B7: Świadczenia emerytalne (odprawy emerytalne) | C7: =50376.3-C13 -> 42900.3
A8: 2. | B8: Nagrody jubileuszowe | C8: 111889.15
A9: 3. | B9: Koszty niewykorzystanych urlopów wraz ze składkami ZUS | C9: =+F9 -> 0
B10: w tym ekwiwalent | C10: 3879.84
B11: składki od ekwiwalentu | C11: 758.51
A12: 4. | B12: Inne świadczenia:
B13: * odprawy pozostałe | C13: 7476
A17: Razem: | C17: =C7+C8+C9+C13 -> 162265.45
B19: …………………… | C19: ………………………..
B20: (główny ksiegowy) | C20: (kierownik jednostki)
B22: 44281
B23: (rok, miesiąc, dzień)

Sheet Tabela 15
A2: Tabela 15. Wysokość odpisów aktualizujących wartość zapasów
A4: Lp. | B4: Wyszcegółowienie według rodzaju zapasów | C4: Stan odpisów aktualizujacych na poczatek okresu sprawozdawczego | D4: Zwiększenia odpisów aktualizujacych w ciągu okresu sprawozdawczego | E4: Zmniejszenia odpisów aktualizujacych w ciągu okresu sprawozdawczego | H4: Stan odpisów aktualizujacych na koniec okresu sprawozdawczego (3+4-7)
E6: wykorzystanie | F6: rozwiazamnie odpisów aktualizujacych (uznanie odpisów za zbędne) | G6: zmniejszenia razem (5 + 6)
A8: 1 | B8: 2 | C8: 3 | D8: 4 | E8: 5 | F8: 6 | G8: 7 | H8: 8
B9: NIE DOTYCZY | G9: =E9+F9 -> 0 | H9: =C9+D9-G9 -> 0
G10: =E10+F10 -> 0 | H10: =C10+D10-G10 -> 0
G11: =E11+F11 -> 0 | H11: =C11+D11-G11 -> 0
G12: =E12+F12 -> 0 | H12: =C12+D12-G12 -> 0
G13: =E13+F13 -> 0 | H13: =C13+D13-G13 -> 0
G14: =E14+F14 -> 0 | H14: =C14+D14-G14 -> 0
G15: =E15+F15 -> 0 | H15: =C15+D15-G15 -> 0
A16: x | B16: Ogółem: | C16: =C9+C10+C11+C12+C13+C14+C15 -> 0 | D16: =D9+D10+D11+D12+D13+D14+D15 -> 0 | E16: =E9+E10+E11+E12+E13+E14+E15 -> 0 | F16: =F9+F10+F11+F12+F13+F14+F15 -> 0 | G16: =G9+G10+G11+G12+G13+G14+G15 -> 0 | H16: =H9+H10+H11+H12+H13+H14+H15 -> 0
B19: ……………………………… | D19: 43916 | G19: ……………………………..
B20: (główny ksiegowy) | D20: (rok, miesiąc, dzień) | G20: (kierownik jednostki)
A22: Sporządziła: Agnieszka Bartkowska - Sprusińska

Sheet Tabela 16
A2: Tabela 16. Koszt wytworzenia środków trwałych w budowie
A4: Lp. | B4: Wyszcegółowienie | C4: Koszty wytworzenia poniesione w ciągu poprzednich okresów sprawozdawczych | F4: Koszty wytworzenia poniesione w ciagu bieżącego okresu sprawozdawczego
C5: ogółem | D5: w tym: | F5: ogółem | G5: w tym:
D6: odsetki | E6: różnice kursowe | G6: odsetki | H6: różnice kursowe
A7: 1 | B7: 2 | C7: 3 | D7: 4 | E7: 5 | F7: 6 | G7: 7 | H7: 8
A8: 1. | B8: Zabudowana nieruchomość - Gryfice ul. Koszarowa - dokumentacja projektowa | C8: =196633.5+47970 -> 244603.5 | G8: 0 | H8: 0
A9: 2. | B9: Adaptacja pomieszczeń parteru - Gryf Areny | C9: 13050 | F9: 0 | G9: 0 | H9: 0
A12: x | B12: Ogółem: | C12: =SUM(C8:C11) -> 257653.5 | D12: =SUM(D8:D11) -> 0 | E12: =SUM(E8:E11) -> 0 | F12: =SUM(F8:F11) -> 0 | G12: =SUM(G8:G11) -> 0 | H12: =SUM(H8:H11) -> 0
F13: =+F12+C12 -> 257653.5
B15: ……………………………… | D15: 44281 | G15: ……………………………..
B16: (główny ksiegowy) | D16: (rok, miesiąc, dzień) | G16: (kierownik jednostki)
A18: Sporządziła: Agnieszka Bartkowska - Sprusińska

Sheet Tabela 17 - zg. z RZIS
A1: Tabela nr 17
A2: Kwota i charakter poszczególnych pozycji przychodów lub kosztów o nadzwyczajnej wartości lub które wystąpiły incydentalnie
A4: Pozostałe przychody operacyjne
A6: Lp. | B6: Treść | C6: 1.01.-31.12.2019 r. | D6: 1.01.-31.12.2020 r.
A7: 1 | B7: Zysk ze sprzedaży środków trwałych i wartości niematerialnych i prawnych | C7: 1162027.7 | D7: 69854.68
A8: 2 | B8: Zysk z likwidacji środków trwałych, inwestycji bez efektu gospodarczego
A9: 3 | B9: kary, grzywny, odszkodowania | C9: =50000+15.99 -> 50015.99 | D9: 40000
A10: 4 | B10: Wyegzekwowane odpisane należności
A11: 5 | B11: Darowizny środków trwałych | C11: 30225.01
A12: 6 | B12: Darowizny środków pieniężnych i pozostałych środków obrotowych | C12: =74334.95-C11 -> 44109.94
A13: 7 | B13: Rozwiązane odpisu aktualizującego wartość należności
A14: 8 | B14: Nie wykorzystane zgodnie z przeznaczeniem utworzone uprzednio rezerwy
A15: 9 | B15: Zwrot opłat sądowych, kosztów upomnień i innych wierzytelności | D15: =35.46+104.4+11.6 -> 151.46
A16: 10 | B16: Korzyst.z nieruchom. (w tym bezumowne) | C16: 4800 | D16: 1199.62
A17: 11 | B17: Zwrot kosztów upomnień | C17: 416
A18: 12 | B18: Dochód ze sprzedaży pozostałych środków trwałych | C18: 400
A19: 13 | B19: Zwrot wydatków z lat ubiegłych | C19: =136.63+1127.37 -> 1264 | D19: =42931+822.9 -> 43753.9
A20: 14 | B20: Wynagrodzenie płatnika ZUS i podatków dochodowych | C20: 1535.6 | D20: 1603.79
A21: 15 | B21: Opłata za korzystanie z terminala płatniczego-uiszczona przez Fundację Polska Bezgotówkowa | C21: =687.21-0.08 -> 687.13 | D21: 696.27
A22: 16 | B22: Korekta roczna odliczonego podatku VAT | C22: 3154.03 | D22: 423.95
A23: 17 | B23: "Końcówki " VAT | C23: 0.98 | D23: 0.74
A24: 18 | B24: Zwrot kosztów używania samochodu służbowego do celów prywatnych | C24: 794.01
A25: 19 | B25: Wpłaty sponsorów na imprezy organizowane przez Powiat | C25: =400+6400 -> 6800
A26: 20 | B26: zwroty dotacji z lat ubiegłych | C26: =146.28+219.08 -> 365.36 | D26: 89740.48
A27: 21 | B27: rozliczenie czynszów dzierżawnych | C27: 0.08
A28: RAZEM | C28: =SUM(C7:C27) -> 1306595.9 | D28: =SUM(D7:D27) -> 247424.89
A30: Pozostałe koszty operacyjne
A32: Lp. | B32: Tytuł | C32: 1.01.-31.12.2019 r. | D32: 1.01.-31.12.2020 r.
A33: 1 | B33: Strata ze sprzedaży środków trwałych i wartości niematerialnych i prawnych
A34: 2 | B34: Starta z likwidacji środków trwałych
A35: 3 | B35: Nieplanowane odpisy środków trwałych, wartości niematerialnych i prawnych, które utraciły swoją przydatność
A36: 4 | B36: Wartość środków trwałych w budowie bez efektu gospodarczego
A37: 5 | B37: Wartość środków trwałych w budowie przekazanych nieodpłatnie
A38: 6 | B38: Odpisanie kosztów zaniechanej lub niepodjętej produkcji
A39: 7 | B39: Odpisy aktualizujące (obniżające) wartość zapasów rzeczowych składników majątku obrotowego
A40: 8 | B40: Różnice wycen bilansowych środków trwałych
A41: 9 | B41: Odpisane należności przedawnione, umorzone i nieściągalne
A42: 10 | B42: Przekazane darowizny rzeczowe i finansowe
A43: 11 | B43: Niezawinione niedobory składników majątku obrotowego
A44: 12 | B44: Niezawinione niedobory środków trwałych
...

Sheet Tabela 18 
A1: Tabela nr 18 - Inne informacje - zmniejszenie dochodów i wydatki zwiazane z pandemią COVID-19
A4: Zmniejszenie przychodów w związku z padnemią COVID-19
A6: Lp. | B6: Treść | C6: 1.01.-31.12.2019 r. | D6: 1.01.-31.12.2020 r.
A7: 1 | B7: Zmniejszenie przychodów z dzierżawy pomieszczeń hali sportowej Gryf Arena | D7: 52986
A8: RAZEM | C8: =SUM(C7:C7) -> 0 | D8: =SUM(D7:D7) -> 52986
A10: Wydatki poniesione przez Starostwa w związku z pandemią COVID-19
A12: Lp. | B12: Tytuł | C12: 1.01.-31.12.2019 r. | D12: 1.01.-31.12.2020 r.
A13: 1 | B13: Dotacja dla SPZZOZ Gryfice | D13: 50000
A14: 2 | B14: Zakup materiałów i usług | D14: 725519
A15: 3. | B15: pozostałe wydatki bieżące | D15: 80162
A16: RAZEM | C16: =+C13+C15 -> 0 | D16: =SUM(D13:D15) -> 855681
B19: …………… | C19: 44281 | D19: ……………………
B20: (główny księgowy) | C20: (rok miesiąc, dzień) | D20: (kierownik jednostki)
A22: Uwaga: Wydatki wymienione powyżej dofinansowane były w kwocie 534.766 zł środkami pochodzącymi
A23: ze środków unijnych, a w kwocie 83.676,00zł - ze środków z budżetu państwa.

Sheet II.1.11
A3: Zobowiązania zabezpieczone na mąjtku
A4: Lp. | B4: Rodzaj zobowiazania / zabezpieczenie | C4: Kwota zabezpieczenia
C5: na majątku trwałym | D5: na majątku obrotowym
B6: NIE DOTYCZY
A14: Razem | C14: 0 | D14: 0

Sheet  II.1.12 i II 1. 14
A2: Zobowiązania i należności warunkowe
A4: Lp. | B4: Tytuł | C4: Stan na 01.01.2019 r. | D4: Stan na 31.12.2019 r.
A5: 1 | B5: Zobowiązania | C5: =C6+C7+C8+C9+C10 -> 0 | D5: =D6+D7+D8+D9+D10 -> 0
A6: a | B6: nie uznane przez jednostkę roszczenia skierowane przez kontrahentów na drogę postępowania spornego | C6: 0
A7: b | B7: udzielone gwarancje
A8: c | B8: udzielone poręczenia, w tym wekslowe
A9: d
A10: e
A11: 2 | B11: Należności | C11: =C12+C13+C14+C15+C16 -> 0 | D11: =D12+D13+D14+D15+D16 -> 0
A12: a | B12: spisane należności w stosunku do których nie zapadł jeszcze termin przedawnienia
A13: b | B13: otrzymane gwarancje
A14: c | B14: umowy przedwstępne
A15: d
A16: e
B19: II.1.12 łączną kwotę zobowiązań warunkowych, w tym również udzielonych przez jednostkę gwarancji i poręczeń, także wekslowych, niewykazanych w bilansie, ze wskazaniem zobowiązań zabezpieczonych na majątku jednostki oraz charakteru i formy tych zabezpieczeń
B20: II.1.14 łączną kwotę otrzymanych przez jednostkę gwarancji i poręczeń niewykazanych w bilansie

Sheet II.1.13
A2: Istotne pozycje rozliczeń międzyokresowych
A4: Lp. | B4: Tytuł | C4: Stan na poczatek roku | D4: Stan na koniec roku
A5: Ujemna wartość firmy | C5: 0 | D5: 0
A6: Inne rozliczenia międzyokresowe: | C6: =C12+C7 -> 0 | D6: =D12+D7 -> 0
A7: Czynne rozliczenia miedzyokresowe - krótkoterminowe | C7: =SUM(C8:C14) -> 0 | D7: =SUM(D8:D14) -> 0
A8: 1 | B8: Otrzymane dotacje, subwencje i dopłaty na nabycie środków trwałych
A9: 2 | B9: Opłacone z góry czynsze
A10: 3 | B10: Zaliczki na poczet świadczeń przekraczające 50%, opłacone z góry, nie wykonane świadczenia
A11: 4
A12: Bierne rozliczenia międzyokresowe kosztów - krótkoterminowe | C12: 0 | D12: 0
A13: 1 | B13: Koszty świadczeń, nie będących jeszcze zobowiązaniem
A14: 2 | B14: Inne rezerwy na przewidywane koszty
A15: 3
A16: 4
A17: RAZEM | C17: =C5+C6 -> 0 | D17: =D5+D6 -> 0

Sheet II.2.1
A2: Zapasy rzeczowych składników majątku obrotowego
A4: Lp. | B4: Zapasy według rodzaju | C4: Wartość według ceny nabycia | D4: Wartość według ceny zakupu | E4: Wartość według kosztów wytworzenia | F4: Wysokość odpisów aktualizujących | G4: Wartość bilansowa po skorygowaniu o odpis aktualiz.
A5: 1 | B5: Materiały | C5: =C6+C7 -> #VALUE! | D5: =D6+D7 -> 0 | E5: =E6+E7 -> 0 | F5: =F6+F7 -> 0 | G5: =C5+D5+E5-F5 -> #VALUE!
A6: a | B6: surowce | C6: NIE DOTYCZY | G6: =C6+D6+E6-F6 -> #VALUE!
A7: b | B7: pozostałe materiały | G7: =C7+D7+E7-F7 -> 0
A8: 2 | B8: Półprodukty i produkty w toku | G8: =C8+D8+E8-F8 -> 0
A9: 3 | B9: Produkty gotowe | G9: =C9+D9+E9-F9 -> 0
A10: 4 | B10: Towary | G10: =C10+D10+E10-F10 -> 0
A11: 5 | B11: Zaliczki na poczet dostaw | G11: =C11+D11+E11-F11 -> 0
A12: RAZEM | C12: =C5+C8+C9+C10+C11 -> #VALUE! | D12: =D5+D8+D9+D10+D11 -> 0 | E12: =E5+E8+E9+E10+E11 -> 0 | F12: =F5+F8+F9+F10+F11 -> 0 | G12: =G5+G8+G9+G10+G11 -> #VALUE!

Sheet II.2.2
A3: Koszt wytworzenia środków trwałych w budowie, w roku obrotowym
A4: wartości niematerialnych i prawnych, produktów na własne potrzeby
A6: Lp. | B6: Tytuł | C6: Wartość | D6: w tym: odsetki oraz różnice kursowe
A7: 1
A8: 2
A9: 3
A10: 4
A11: 5
A12: RAZEM | C12: =SUM(C7:C11) -> 0 | D12: =SUM(D7:D11) -> 0
A15: Zmiany w stanie środków trwałych w budowie od 1.01.2019 r. do 31.12.2019 r.
A17: Lp. | B17: Tytuł | C17: Wartość | D17: w tym: odsetki oraz różnice kursowe
A18: 1 | B18: Stan na 01.01.2019 r. | C18: 3397239.1 | D18: ='[1]Bilans - AKTYWA'!E30 -> 0
A19: 2 | B19: Zwiększenia nakładów w ciągu roku | C19: =SUM(C20:C22) -> 13050 | D19: =SUM(D20:D22) -> 0
A20: a | B20: Zakupy gotowych dóbr inwestycyjnych | C20: 0 | D20: 0
A21: b | B21: Zadania inwestycyjne własne | C21: 13050 | D21: 0
A22: c
A23: 3 | B23: Rozliczenie nakładów inwestycyjnych według miejsc odniesienia nakładów | C23: =SUM(C24:C29) -> 3152635.6 | D23: =SUM(D24:D29) -> 0
A24: a | B24: Przekazane do eksploatacji środki trwałe | C24: 0 | D24: 0
A25: b | B25: Przekazane do eksploatacji środki obrotowe | C25: 0 | D25: 0
A26: c | B26: Nieodpłatne przekazanie obiektu infrastruktury technicznej | C26: 0 | D26: 0
A27: d | B27: Nakłady sprzedane, darowizny | C27: 0 | D27: 0
A28: e | B28: Nakłady bez efektu gospodarczego | C28: 35178 | D28: 0
A29: f | B29: pozostałe | C29: 3117457.6
A30: 4 | B30: Stan na 31.12.2018 r. | C30: =C18+C19-C23 -> 257653.5 | D30: =D18+D19-D23 -> 0
B32: w roku obrotowym

Sheet Bilans
A1: Nazwa i adres jednostki sprawozdawczej | C1: BILANS jednostki budżetowej lub samorządowego zakładu budżetowego | J1: Adresat
A6: Numer identyfikacyjny REGON
C7: sporządzony na dzień | I7: r. | J7: Wysłać bez pisma przewodniego
A9: AKTYWA | B9: Stan na początek roku | E9: Stan na koniec roku | G9: PASYWA | K9: Stan na początek roku | L9: Stan na koniec roku
A12: A. Aktywa trwałe | G12: A. Fundusz
A13: I. Wartości niematerialne | G13: I. Fundusz jednostki
A14: i prawne
A15: II. Rzeczowe aktywa trwałe | B15: =IF(AND(B16="",B28="",B30=""),"",SUM(B16)+SUM(B28)+SUM(B30)) | E15: =IF(AND(E16="",E28="",E30=""),"",SUM(E16)+SUM(E28)+SUM(E30)) | G15: II. Wynik finansowy netto (+,–) | K15: =IF(AND(K16="",K17=""),"",SUM(K16,K17)) | L15: =IF(AND(L16="",L17=""),"",SUM(L16,L17))
A16: 1. Środki trwałe | B16: =IF(AND(B17="",B20="",B22="",B24="",B26=""),"",SUM(B17,B20,B22,B24,B26)) | E16: =IF(AND(E17="",E20="",E22="",E24="",E26=""),"",SUM(E17,E20,E22,E24,E26)) | G16: 1. Zysk netto (+)
A17: 1.1. Grunty | G17: 2. Strata netto (–)
A18: 1.1.1. Grunty stanowiące | G18: III. Odpisy z wyniku
A19: własność jednostki samorządu terytorialnego, przekazane w użytkowanie wieczyste innym podmiotom | G19: finansowego (nadwyżka środków obrotowych) (–)
A20: 1.2. Budynki, lokale i obiekty | G20: IV. Fundusz mienia
A21: inżynierii lądowej i wodnej | G21: zlikwidowanych jednostek
A22: 1.3. Urządzenia techniczne | G22: B. Fundusze placówek
A23: i maszyny | G23: C. Państwowe fundusze celowe
A24: 1.4. Środki transportu | G24: D. Zobowiązania i rezerwy | K24: =IF(AND(K26="",K28="",K49="",K51=""),"",SUM(K26)+SUM(K28)+SUM(K49)+SUM(K51)) | L24: =IF(AND(L26="",L28="",L49="",L51=""),"",SUM(L26)+SUM(L28)+SUM(L49)+SUM(L51))
G25: na zobowiązania
A26: 1.5. Inne środki trwałe | G26: I. Zobowiązania
G27: długoterminowe
A28: 2. Środki trwałe w budowie | G28: II. Zobowiązania | K28: =IF(AND(K30="",K32="",K34="",K36="",K38="",K39="",K41="",K43=""),"",SUM(K30)+SUM(K32)+SUM(K34)+SUM(K36)+SUM(K38)+SUM(K39)+SUM(K41)+SUM(K43)) | L28: =IF(AND(L30="",L32="",L34="",L36="",L38="",L39="",L41="",L43=""),"",SUM(L30)+SUM(L32)+SUM(L34)+SUM(L36)+SUM(L38)+SUM(L39)+SUM(L41)+SUM(L43))
A29: (inwestycje) | G29: krótkoterminowe
A30: 3. Zaliczki na środki trwałe | G30: 1. Zobowiązania z tytułu
A31: w budowie (inwestycje) | G31: dostaw i usług
A32: III. Należności | G32: 2. Zobowiązania wobec
A33: długoterminowe | G33: budżetów
A34: IV. Długoterminowe | B34: =IF(AND(B36="",B38="",B39),"",SUM(B36,B38,B39)) | E34: =IF(AND(E36="",E38="",E39),"",SUM(E36,E38,E39)) | G34: 3. Zobowiązania z tytułu
A35: aktywa finansowe | G35: ubezpieczeń i innych świadczeń
A36: 1. Akcje i udziały | G36: 4. Zobowiązania z tytułu
G37: wynagrodzeń
A38: 2. Inne papiery wartościowe | G38: 5. Pozostałe zobowiązania
A39: 3. Inne długoterminowe | G39: 6. Sumy obce (depozytowe,
A40: aktywa finansowe | G40: zabezpieczenie wykonania umów)
A41: V. Wartość mienia | G41: 7. Rozliczenia z tytułu środków
A42: zlikwidowanych jednostek | G42: na wydatki budżetowe i z tytułu dochodów budżetowych
A43: B. Aktywa obrotowe | B43: =IF(AND(B45="",'[2]Strona 2'!C2="",'[2]Strona 2'!C15="",'[2]Strona 2'!C28=""),"",SUM(B45,'[2]Strona 2'!C2,'[2]Strona 2'!C15,'[2]Strona 2'!C28)) | E43: =IF(AND(E45="",'[2]Strona 2'!G2="",'[2]Strona 2'!G15="",'[2]Strona 2'!G28=""),"",SUM(E45,'[2]Strona 2'!G2,'[2]Strona 2'!G15,'[2]Strona 2'!G28)) | G43: 8. Fundusze specjalne | K43: =IF(AND(K45="",K47=""),"",SUM(K45)+SUM(K47)) | L43: =IF(AND(L45="",L47=""),"",SUM(L45)+SUM(L47))
A45: I. Zapasy | B45: =IF(AND(B47="",B49="",B51="",B52=""),"",SUM(B47,B49,B51,B52)) | E45: =IF(AND(E47="",E49="",E51="",E52=""),"",SUM(E47,E49,E51,E52)) | G45: 8.1. Zakładowy Fundusz
G46: Świadczeń Socjalnych
A47: 1. Materiały | G47: 8.2. Inne fundusze
A49: 2. Półprodukty i produkty | G49: III. Rezerwy na zobowiązania
...

Sheet Budzet
A2: Nazwa i adres jednostki sprawozdawczej | F2: BILANS z wykonania budżetu jednostki samorządu terytorialnego | N2: Adresat
A6: Numer identyfikacyjny REGON | I6: sporządzony na dzień | M6: r.
A8: AKTYWA | D8: Stan na początek roku | G8: Stan na koniec roku | J8: PASYWA | P8: Stan na początek roku | R8: Stan na koniec roku
A9: I. Środki pieniężne | D9: =IF(D10="","",D10) | G9: =IF(G10="","",G10) | J9: I. Zobowiązania | P9: =IF(AND(P10="",P15="",P17=""),"",SUM(P10)+SUM(P15)+SUM(P17)) | R9: =IF(AND(R10="",R15="",R17=""),"",SUM(R10)+SUM(R15)+SUM(R17))
A10: 1. Środki pieniężne | D10: =IF(AND(D11="",D13=""),"",SUM(D11,D13)) | G10: =IF(AND(G11="",G13=""),"",SUM(G11,G13)) | J10: 1. Zobowiązania finansowe | P10: =IF(AND(P11="",P13=""),"",SUM(P11,P13)) | R10: =IF(AND(R11="",R13=""),"",SUM(R11,R13))
A11: 1.1. Środki pieniężne | J11: 1.1. Krótkoterminowe
A12: budżetu | J12: (do 12 miesięcy)
A13: 1.2. Pozostałe środki | J13: 1.2. Długoterminowe
A14: pieniężne | J14: (powyżej 12 miesięcy)
A15: II. Należności i rozliczenia | D15: =IF(AND(D17="",D22="",D23=""),"",SUM(D17,D22,D23)) | G15: =IF(AND(G17="",G22="",G23=""),"",SUM(G17,G22,G23)) | J15: 2. Zobowiązania wobec
J16: budżetów
A17: 1. Należności finasowe | D17: =IF(AND(D18="",D20=""),"",SUM(D18,D20)) | G17: =IF(AND(G18="",G20=""),"",SUM(G18,G20)) | J17: 3. Pozostałe zobowiązania
A18: 1.1. Krótkoterminowe | J18: II. Aktywa netto budżetu | P18: =IF(AND(P20="",P26="",P28="",P30="",P31=""),"",SUM(P20)+SUM(P26)+SUM(P28)+SUM(P30)+SUM(P31)) | R18: =IF(AND(R20="",R26="",R28="",R30="",R31=""),"",SUM(R20)+SUM(R26)+SUM(R28)+SUM(R30)+SUM(R31))
A19: (do 12 miesięcy)
A20: 1.2. Długoterminowe | J20: 1. Wynik wykonania budżetu | P20: =IF(AND(P22="",P23="",P25=""),"",SUM(P22,P23,P25)) | R20: =IF(AND(R22="",R23="",R25=""),"",SUM(R22,R23,R25))
A21: (powyżej 12 miesięcy) | J21: (+,–)
A22: 2. Należności od budżetów | J22: 1.1. Nadwyżka budżetu (+)
A23: 3. Pozostałe należności | J23: 1.2. Deficyt budżetu (–)
A24: i rozliczenia
J25: 1.3. Niewykonane wydatki (–)
J26: 2. Wynik na operacjach
J27: niekasowych (+,–)
J28: 3. Rezerwa na niewygasające
J29: wydatki
J30: 4. Środki z prywatyzacji
J31: 5. Skumulowany wynik
J32: budżetu (+,–)
A33: III. Rozliczenia międzyokresowe | J33: III. Rozliczenia międzyokresowe
A34: Suma aktywów | D34: =IF(AND(D9="",D15="",D33=""),"",SUM(D9)+SUM(D15)+SUM(D33)) | G34: =IF(AND(G9="",G15="",G33=""),"",SUM(G9)+SUM(G15)+SUM(G33)) | J34: Suma pasywów | P34: =IF(AND(P9="",P18="",P33=""),"",SUM(P9)+SUM(P18)+SUM(P33)) | R34: =IF(AND(R9="",R18="",R33=""),"",SUM(R9)+SUM(R18)+SUM(R33))
A38: (skarbnik) | H38: (rok, miesiąc, dzień) | P38: (zarząd)

Sheet Bil. Skon.
A2: Nazwa i adres jednostki sprawozdawczej | C2: SKONSOLIDOWANY BILANS jednostki samorządu terytorialnego | J2: Adresat
A6: Numer identyfikacyjny REGON | C6: sporządzony na dzień | I6: r.
I7: signform
A8: AKTYWA | B8: Stan na początek roku | E8: Stan na koniec roku | G8: PASYWA | K8: Stan na początek roku | L8: Stan na koniec roku
A11: A. Aktywa trwałe | B11: =IF(AND(B12="",B14="",B16="",B27="",B34="",B36=""),"",SUM(B12,B14,B16,B27,B34,B36)) | E11: =IF(AND(E12="",E14="",E16="",E27="",E34="",E36=""),"",SUM(E12,E14,E16,E27,E34,E36)) | G11: A. Fundusz | K11: =IF(AND(K12="",K14="",K16="",K17="",K22="",K29="",K30=""),"",SUM(K12,K14,K16,K17,K22,K29,K30)) | L11: =IF(AND(L12="",L14="",L16="",L17="",L22="",L29="",L30=""),"",SUM(L12,L14,L16,L17,L22,L29,L30))
A12: I. Wartości niematerialne | G12: I. Fundusze jednostek
A13: i prawne
A14: II. Wartość firmy jednostek | G14: II. Skumulowany wynik
A15: podporządkowanych | G15: budżetu (+,–)
A16: III. Rzeczowe aktywa trwałe | B16: =IF(AND(B17="",B19="",B21="",B22="",B24=""),"",SUM(B17,B19,B21,B22,B24)) | E16: =IF(AND(E17="",E19="",E21="",E22="",E24=""),"",SUM(E17,E19,E21,E22,E24)) | G16: III. Wynik budżetu (+,–)
A17: 1.1. Grunty | G17: IV. Wyniki finansowe roku | K17: =IF(AND(K19="",K21=""),"",SUM(K19,K21)) | L17: =IF(AND(L19="",L21=""),"",SUM(L19,L21))
G18: bieżącego
A19: 1.2. Budynki, lokale i obiekty | G19: 1.1. Zysk netto
A20: inżynierii lądowej i wodnej
A21: 1.3. Pozostałe środki trwałe | G21: 1.2. Strata netto (–) | K21: =IF(AND(K22="",K24=""),"",SUM(K22,K24)) | L21: =IF(AND(L22="",L24=""),"",SUM(L22,L24))
A22: 1.4. Środki trwałe w budowie | G22: V. Wyniki finansowe lat | K22: =IF(AND(K24="",K27=""),"",SUM(K24,K27)) | L22: =IF(AND(L24="",L27=""),"",SUM(L24,L27))
A23: (inwestycje) | G23: ubiegłych
A24: 1.5. Środki przekazane na | G24: 1.1. Zysk netto
A25: poczet środków trwałych
A26: w budowie (inwestycji)
A27: IV. Długoterminowe aktywa | B27: =IF(AND(B29="",B30="",B32=""),"",SUM(B29,B30,B32)) | E27: =IF(AND(E29="",E30="",E32=""),"",SUM(E29,E30,E32)) | G27: 1.2. Strata netto (–)
A28: finansowe
A29: 1.1. Akcje i udziały | G29: VI. Kapitały mniejszości
A30: 1.2. Papiery wartościowe | G30: VII. Pozostałe pozycje | K30: =IF(AND(K32="",K34=""),"",SUM(K32,K34)) | L30: =IF(AND(L32="",L34=""),"",SUM(L32,L34))
A31: długoterminowe
A32: 1.3. Inne | G32: B. Zobowiązania | K32: =IF(AND(K34="",K36=""),"",SUM(K34,K36)) | L32: =IF(AND(L34="",L36=""),"",SUM(L34,L36))
G33: długoterminowe
A34: V. Należności finansowe | G34: I. Zobowiązania finansowe
A35: długoterminowe | G35: długoterminowe
A36: VI. Wartość mienia | G36: II. Pozostałe zobowiązania | K36: =IF(AND(K38="",K40="",K42="",K44=""),"",SUM(K38,K40,K42,K44)) | L36: =IF(AND(L38="",L40="",L42="",L44=""),"",SUM(L38,L40,L42,L44))
A37: zlikwidowanych jednostek | G37: długoterminowe
A38: B. Aktywa obrotowe | B38: =IF(AND(B40="",B42="",B44="",B46="",B47=""),"",SUM(B40,B42,B44,B46,B47)) | E38: =IF(AND(E40="",E42="",E44="",E46="",E47=""),"",SUM(E40,E42,E44,E46,E47)) | G38: C. Zobowiązania krótkotermi- | K38: =IF(AND(K40="",K42="",K44="",K46=""),"",SUM(K40,K42,K44,K46)) | L38: =IF(AND(L40="",L42="",L44="",L46=""),"",SUM(L40,L42,L44,L46))
G39: nowe i fundusze specjalne
A40: I. Zapasy | G40: I. Zobowiązania finansowe
G41: krótkoterminowe
A42: II. Należności i roszczenia | G42: II. Pozostałe zobowiązania
G43: krótkoterminowe
A44: III. Należności finansowe | G44: III. Rezerwy na zobowiązania
A45: krótkoterminowe
A46: IV. Środki pieniężne | G46: IV. Fundusze specjalne
...

Sheet RZIS
A2: RACHUNEK ZYSKÓW I STRAT JEDNOSTKI BUDŻETOWEJ LUB SAMORZĄDOWEGO ZAKŁADU BUDŻETOWEGO (WARIANT PORÓWNAWCZY)
A4: Nazwa i adres jednostki sprawozdawczej | C4: Rachunek zysków i strat jednostki (wariant porównawczy) | E4: Adresat
A9: Numer identyfikacyjny REGON | C9: sporządzony na dzień | D9: ………….. r.
D11: Stan na koniec roku poprzedniego | G11: Stan na koniec roku bieżącego
A13: A. | B13: Przychody netto z podstawowej działalności operacyjnej | G13: =IF(AND(G14="",G15="",G17="",G18="",G19="",G20=""),"",SUM(G14,G15,G17,G18,G19,G20))
A14: I. | B14: Przychody netto ze sprzedaży produktów
A15: II. | B15: Zmiana stanu produktów (zwiększenie − wartość dodatnia,
B16: zmniejszenie − wartość ujemna)
A17: III. | B17: Koszt wytworzenia produktów na własne potrzeby jednostki
A18: IV. | B18: Przychody netto ze sprzedaży towarów i materiałów
A19: V. | B19: Dotacje na finansowanie działalności podstawowej
A20: VI. | B20: Przychody z tytutu dochodów budżetowych
A21: B. | B21: Koszty działalności operacyjnej | G21: =IF(AND(G22="",G23="",G24="",G25="",G26="",G27="",G28="",G29="",G30="",G31=""),"",SUM(G22,G23,G24,G25,G26,G27,G28,G29,G30,G31))
A22: I. | B22: Amortyzacja
A23: II. | B23: Zużycie materiałów i energii
A24: III. | B24: Usługi obce
A25: IV. | B25: Podatki i opłaty
A26: V. | B26: Wynagrodzenia
A27: VI. | B27: Ubezpieczenia społeczne i inne świadczenia dla pracowników
A28: VII. | B28: Pozostałe koszty rodzajowe
A29: VIII. | B29: Wartość sprzedanych towarów i materiałów
A30: IX. | B30: Inne świadczenia finansowane z budżetu
A31: X. | B31: Pozostałe obciążenia
A32: C. | B32: Zysk (strata) z działalności podstawowej (A-B) | G32: =IF(AND(G13="",G21=""),"",SUM(G13)-SUM(G21))
A33: D. | B33: Pozostałe przychody operacyjne | G33: =IF(AND('[3]Strona 2'!I2="",'[3]Strona 2'!I3="",'[3]Strona 2'!I4=""),"",SUM('[3]Strona 2'!I2,'[3]Strona 2'!I3,'[3]Strona 2'!I4))
A34: I. | B34: Zysk ze zbycia niefinansowych aktywów trwałych
A35: II. | B35: Dotacje
A36: III. | B36: Inne przychody operacyjne
A37: E. | B37: Pozostałe koszty operacyjne
A38: I. | B38: Koszty inwestycji finansowanych ze środków własnych samorządowych zakładów budżetowych i dochodów jednostek budżetowych gromadzonych na wydzielonym rachunku
A39: II. | B39: Pozostałe koszty operacyjne
A40: F. | B40: Zysk (strata) z działalności operacyjnej (C+D-E)
A41: G. | B41: Przychody finansowe
A42: I. | B42: Dywidendy i udziały w zyskach
A43: II. | B43: Odsetki
A44: III. | B44: Inne
A45: H. | B45: Koszty finansowe
... A51: L. | B51: Zysk (strata) netto (I-J-K)
G53: …………………………
B54: (główny księgowy) | G54: (kierownik jednostki)

Sheet ZZFJ
A2: ZESTAWIENIE ZMIAN W FUNDUSZU JEDNOSTKI BUDŻETOWEJ LUB SAMORZĄDOWEGO ZAKŁADU BUDŻETOWEGO
A4: Nazwa i adres jednostki sprawozdawczej | C4: Zestawienie zmian w funduszu jednostki | F4: Adresat
A9: Numer identyfikacyjny REGON | C9: sporządzone na dzień | E9: r.
D11: Stan na koniec roku poprzedniego | H11: Stan na koniec roku bieżącego
A13: I. | B13: Fundusz jednostki na początek okresu (BO)
A14: 1. | B14: Zwiększenia funduszu (z tytułu) | D14: =IF(AND(D15="",D16="",D17="",D18="",D19="",D20="",D21="",D22="",D23="",D24=""),"",SUM(D15,D16,D17,D18,D19,D20,D21,D22,D23,D24)) | H14: =IF(AND(H15="",H16="",H17="",H18="",H19="",H20="",H21="",H22="",H23="",H24=""),"",SUM(H15,H16,H17,H18,H19,H20,H21,H22,H23,H24))
A15: 1.1. | B15: Zysk bilansowy za rok ubiegły
A16: 1.2. | B16: Zrealizowane wydatki budżetowe
A17: 1.3. | B17: Zrealizowane płatności ze środków europejskich
A18: 1.4. | B18: Środki na inwestycje
A19: 1.5. | B19: Aktualizacja wyceny środków trwałych
A20: 1.6. | B20: Nieodpłatnie otrzymane środki trwałe i środki trwałe w budowie oraz wartości niematerialne i prawne
A21: 1.7. | B21: Aktywa przejęte od zlikwidowanych lub połączonych jednostek
A22: 1.8. | B22: Aktywa otrzymane w ramach centralnego zaopatrzenia
A23: 1.9. | B23: Pozostałe odpisy z wyniku finansowego za rok bieżący
A24: 1.10. | B24: Inne zwiększenia
A25: 2. | B25: Zmniejszenia funduszu jednostki (z tytułu) | D25: =IF(AND(D26="",D27="",D28="",D29="",D30="",D31="",D32="",'[4]Strona 2'!E2="",'[4]Strona 2'!E3=""),"",SUM(D26,D27,D28,D29,D30,D31,D32,'[4]Strona 2'!E2,'[4]Strona 2'!E3)) | H25: =IF(AND(H26="",H27="",H28="",H29="",H30="",H31="",H32="",'[4]Strona 2'!I2="",'[4]Strona 2'!I3=""),"",SUM(H26,H27,H28,H29,H30,H31,H32,'[4]Strona 2'!I2,'[4]Strona 2'!I3))
A26: 2.1. | B26: Strata za rok ubiegły
A27: 2.2. | B27: Zrealizowane dochody budżetowe
A28: 2.3. | B28: Rozliczenie wyniku finansowego i środków obrotowych za rok ubiegły
A29: 2.4. | B29: Dotacje i środki na inwestycje
A30: 2.5. | B30: Aktualizacja środków trwałych
A31: 2.6. | B31: Wartość sprzedanych i nieodpłatnie przekazanych środków trwałych i środków trwałych w budowie oraz wartości niematerialnych i prawnych
A32: 2.7. | B32: Pasywa przejęte od zlikwidowanych lub połączonych jednostek
A33: 2.8. | B33: Aktywa przekazane w ramach centralnego zaopatrzenia
A34: 2.9. | B34: Inne zmniejszenia
A35: II. | B35: Fundusz jednostki na koniec okresu (BZ)
A36: III. | B36: Wynik finansowy netto za rok bieżący (+,–)
A37: 1. | B37: zysk netto (+)
... A40: IV. | B40: Fundusz (II+, –III)
B49: (główny księgowy) | D49: (rok, miesiąc, dzień) | I49: (kierownik jednostki)

Sheet Dane o jednostce
A2: Sprawozdanie finansowe za rok 2018
A4: I. Wprowadzenie do sprawozdania finansowego.
A5: 1.
A6: 1.1. | B6: Nazwa Jednostki | C6: Starostwo Powiatowe w Gryficach
A7: 1.2. | B7: Siedziba jednostki | C7: Gryfice Pl. Zwycięstwa 37
A8: 1.3. | B8: Adres jednostki | C8: Gryfice Pl. Zwycięstwa 37
A9: 1.4. | B9: Podstawowy przedmiot działalności jednostki | C9: Ustawa z dnia 5 czerwca 1998r. o samorządzie powiatowym
A18: 2. | B18: Wskazanie okresu objętego sprawozdaniem
B19: od 01.01.2020 r. do 31.12.2020 r.
A20: 3. | B20: wskazanie, że sprawozdanie finansowe zawiera dane łączne, jeżeli w skład jednostki nadrzędnej lub jednostki samorządu terytorialnego wchodzą jednostki sporządzające samodzielne sprawozdania finansowe
B21: wykaz jednostek
A22: 4. | B22: omówienie przyjętych zasad (polityki) rachunkowości, w tym metod wyceny aktywów i pasywów (także amortyzacji)
B23: 1. zasad aktualizacji wyceny nalezności oraz stosowanych stawek amortyzacji składników majatku trwałego, podanie reguł ustalania wartosci odpisów aktualizujacych (czyli zależnosci wysokości odpisu aktualizukącego od długości okresu zalegania z zaplatą należnosci). jednostka może przyjąć stawki amortyzacji okreslone w ustawie z dnia 15.lutego 1992 r. o pdop (Dz.U. z 2018r. poz. 1036 z późn. zm), lub stawki okreslone przez Zarząd. 2. Informacja o przyjetych metodach wyceny składników majatku obrotoweego (wyceny stanu i rozchodu zapasów) oraz tworzenia rezerw.
A24: 5. | B24: inne informacje
B25: Jednostki - informacje z zakresu przyjetej polityki rach., majace wpływ na zrozumienie danych w pozostałych cz. Spr. Fin. Powiat - zasady stosowaniawyłączeń wzajemnych rozliczeń m. jednostkami o których mowa w § 27 ust. 2 i 3 rozporządzenia. Wzajemnych rozliczen miedzy jednostkami, należności i zobowiązań oraz innych rozrachunkow, wyniku finansowego ustalonego na operacjach dokonanych między jednostkami.
A29: II | B29: Dodatkowe informacje i objaśnienia:
A30: 1.
A31: 1.1. | B31: szczegółowy zakres zmian wartości grup rodzajowych środków trwałych, wartości niematerialnych i prawnych, zawierający stan tych aktywów na początek roku obrotowego, zwiększenia i zmniejszenia z tytułu: aktualizacji wartości, nabycia, rozchodu, przemieszczenia wewnętrznego oraz stan końcowy, a dla majątku amortyzowanego - podobne przedstawienie stanów i tytułów zmian dotychczasowej amortyzacji lub umorzenia
B32: tabela
A33: 1.2. | B33: aktualną wartość rynkową środków trwałych, w tym dóbr kultury - o ile jednostka dysponuje takimi informacjami
B34: nie wystepują (w szczegolności nieruchomości posiadajace wycenę dla potrzeb operacji gosp. Nieruchomosciami)
A35: 1.3 | B35: kwotę dokonanych w trakcie roku obrotowego odpisów aktualizujących wartość aktywów trwałych odrębnie dla długoterminowych aktywów niefinansowych oraz długoterminowych aktywów finansowych
B36: nie dotyczy/ nie wystepują
A37: 1.4 | B37: wartość gruntów użytkowanych wieczyście
A39: 1.5 | B39: wartość nieamortyzowanych lub nieumarzanych przez jednostkę środków trwałych, używanych na podstawie umów najmu, dzierżawy i innych umów, w tym z tytułu umów leasingu
A41: 1.6 | B41: liczbę oraz wartość posiadanych papierów wartościowych, w tym akcji i udziałów oraz dłużnych papierów wartościowych
B42: nie dotyczy
A43: 1.7 | B43: dane o odpisach aktualizujacych wartość należnosci, ze wskazaniem stanu na poczatek roku obrotowego, zwiekszeniachm, wykorzystaniu, rozwiazaniu i stanie na koniec roku obrotowego, z uwzglednieniem naleznosci finansowych jednostek samorządu terytorialnego (stan pożyczek zagrozonych)
B44: tabela
A45: 1.8 | B45: dane o stanie rezerw według celu ich utworzenia na początek roku obrotowego, zwiększeniach wykorzystaniu, rozwiązaniu i stanie końcowym
B46: tabela
A47: 1.9 | B47: podział zobowiązań długoterminowych według pozycji bilansu o pozostałym od dnia bilansowego, przewidywanym umową lub wynikającym z innego tytułu prawnego, okresie spłaty:
B48: a) powyżej 1 roku do 3 lat
B49: b) powyżej 3 do 5 lat
B50: c) powyżej 5 lat
B51: tabela
A52: 1.10 | B52: kwotę zobowiązań w sytuacji gdy jednostka kwalifikuje umowy leasingu zgodnie z przepisami podatkowymi (leasing operacyjny), a według przepisów o rachunkowości byłby to leasing finansowy lub zwrotny z podziałem na kwotę zobowiązań z tytułu leasingu finansowego lub leasingu zwrotnego
B53: nie występują
A54: 1.11 | B54: łączną kwotę zobowiązań zabezpieczonych na majątku jednostki ze wskazaniem charakteru i formy tych zabezpieczeń
B55: tabela
...
